BEGIN:VCALENDAR
VERSION:2.0
PRODID:-//St Andrew&#039;s Church - ECPv6.15.19//NONSGML v1.0//EN
CALSCALE:GREGORIAN
METHOD:PUBLISH
X-WR-CALNAME:St Andrew&#039;s Church
X-ORIGINAL-URL:https://www.standrews.org.nz
X-WR-CALDESC:Events for St Andrew&#039;s Church
REFRESH-INTERVAL;VALUE=DURATION:PT1H
X-Robots-Tag:noindex
X-PUBLISHED-TTL:PT1H
BEGIN:VTIMEZONE
TZID:Pacific/Auckland
BEGIN:STANDARD
TZOFFSETFROM:+1300
TZOFFSETTO:+1200
TZNAME:NZST
DTSTART:20230401T140000
END:STANDARD
BEGIN:DAYLIGHT
TZOFFSETFROM:+1200
TZOFFSETTO:+1300
TZNAME:NZDT
DTSTART:20230923T140000
END:DAYLIGHT
BEGIN:STANDARD
TZOFFSETFROM:+1300
TZOFFSETTO:+1200
TZNAME:NZST
DTSTART:20240406T140000
END:STANDARD
BEGIN:DAYLIGHT
TZOFFSETFROM:+1200
TZOFFSETTO:+1300
TZNAME:NZDT
DTSTART:20240928T140000
END:DAYLIGHT
BEGIN:STANDARD
TZOFFSETFROM:+1300
TZOFFSETTO:+1200
TZNAME:NZST
DTSTART:20250405T140000
END:STANDARD
BEGIN:DAYLIGHT
TZOFFSETFROM:+1200
TZOFFSETTO:+1300
TZNAME:NZDT
DTSTART:20250927T140000
END:DAYLIGHT
END:VTIMEZONE
BEGIN:VEVENT
DTSTART;TZID=Pacific/Auckland:20240604T080000
DTEND;TZID=Pacific/Auckland:20240604T170000
DTSTAMP:20260424T121446
CREATED:20230810T225908Z
LAST-MODIFIED:20230810T230016Z
UID:40865-1717488000-1717520400@www.standrews.org.nz
SUMMARY:NZ Blood Donation
DESCRIPTION:
URL:https://www.standrews.org.nz/event/nz-blood-2
LOCATION:Nettl Studio\, 245 Wakefield Street\, Te Aro\, Wellington\, 6011\, New Zealand
CATEGORIES:Events
ATTACH;FMTTYPE=image/jpeg:https://www.standrews.org.nz/wp-content/uploads/2023/08/NZ-Blood-Image-for-2024-bookings.jpg
END:VEVENT
BEGIN:VEVENT
DTSTART;TZID=Pacific/Auckland:20240605T083000
DTEND;TZID=Pacific/Auckland:20240605T133000
DTSTAMP:20260424T121446
CREATED:20230810T225818Z
LAST-MODIFIED:20230810T230042Z
UID:40863-1717576200-1717594200@www.standrews.org.nz
SUMMARY:NZ Blood Donation
DESCRIPTION:
URL:https://www.standrews.org.nz/event/nz-blood
LOCATION:St Andrew’s Centre\, 30 The Terrace\, Wellington\, 6011\, Wellington\, The Terrace\, 6011\, New Zealand
CATEGORIES:Events
ATTACH;FMTTYPE=image/jpeg:https://www.standrews.org.nz/wp-content/uploads/2023/08/NZ-Blood-Image-for-2024-bookings.jpg
END:VEVENT
BEGIN:VEVENT
DTSTART;TZID=Pacific/Auckland:20240605T121500
DTEND;TZID=Pacific/Auckland:20240605T130000
DTSTAMP:20260424T121446
CREATED:20231219T230632Z
LAST-MODIFIED:20240501T004651Z
UID:41248-1717589700-1717592400@www.standrews.org.nz
SUMMARY:Lunchtime Concert: Saxcess
DESCRIPTION:NZ’s premier Sax Quartet delivers a rich kaleidoscope of sounds – swing\, classical\, tango\, cutting edge NZ contemporary and much more. For decades this group have delighted both old and young and are enjoyed by music lovers everywhere. \nSaxcess members include Debbie Rawson (soprano/alto)\, Richar Marin (soprano/alto)\, Peter Liley (tenor) and Tim Workman (Baritone). This concert will be a Tapas style feast of saxophone music from Latin America\, and a smorgasbord selection of tasty music from NZ. \nSaxcess is a project based collective based in New Zealand\, and is founded and lead by Debbie Rawson. The quartet have undertaken numerous nation-wide tours in their homeland and are soon to celebrate their 30th anniversary. They have also played at all the major Arts Festivals of Aotearoa and performed original New Zealand compositions at Saxophone Congresses in Australia\, Belgium and the USA. They have premiered multiple works for saxophone quartet\, and are proud to have given hundreds of schools and community outreach concerts.
URL:https://www.standrews.org.nz/event/lunchtime-concert-saxcess
LOCATION:St Andrews Church\, 30 The Terrace\, Wellington\, 6011\, Wellington\, The Terrace\, 6011\, New Zealand
CATEGORIES:Lunch time concerts
ATTACH;FMTTYPE=image/jpeg:https://www.standrews.org.nz/wp-content/uploads/2023/12/240605-st-andrews-photo-saxcesw.jpg
END:VEVENT
BEGIN:VEVENT
DTSTART;TZID=Pacific/Auckland:20240606T121500
DTEND;TZID=Pacific/Auckland:20240606T130000
DTSTAMP:20260424T121446
CREATED:20231219T230839Z
LAST-MODIFIED:20231219T230839Z
UID:41250-1717676100-1717678800@www.standrews.org.nz
SUMMARY:Lunchtime Concert: Viola Extravaganza — Students from the NZSM
DESCRIPTION:
URL:https://www.standrews.org.nz/event/lunchtime-concert-viola-extravaganza-students-from-the-nzsm
LOCATION:St Andrews Church\, 30 The Terrace\, Wellington\, 6011\, Wellington\, The Terrace\, 6011\, New Zealand
CATEGORIES:Lunch time concerts
END:VEVENT
BEGIN:VEVENT
DTSTART;TZID=Pacific/Auckland:20240609T150000
DTEND;TZID=Pacific/Auckland:20240609T170000
DTSTAMP:20260424T121446
CREATED:20240724T224621Z
LAST-MODIFIED:20240724T224621Z
UID:41924-1717945200-1717952400@www.standrews.org.nz
SUMMARY:Andrew Joyce & Jian Liu (cello/piano)
DESCRIPTION:Renowned musicians Andrew Joyce and Jian Liu have crafted an ambitious programme that\ncelebrates their musical and cultural heritages. Showcasing music for cello and piano from the UK\, China\, and NZ\, the virtuosic duo bring a colourful assortment of melodies for the first half of the programme. This is followed by a larger romantic sonata by Brahms. \nBefore joining the NZSO as Principal Cellist in 2010\, UK‑born Andrew Joyce played regularly with the London Symphony and London Philharmonic Orchestras\, and toured the world’s great concert halls as Guest Principal. He joins forces with internationally acclaimed concert pianist Dr Jian Liu\, currently the Programme Director of Classical Performance and Head of Piano Studies at the New Zealand School of Music—Te Kōkī. Although the pair has played together in chamber ensembles\, this is their first collaboration as a duo. \nJohann Sebastian Bach\, Gamba Sonata No 3 in G minor\, BWV1029\nRalph Vaughan Williams\, Six Studies in English Folk Songs\nDorothy Buchanan\, Soliloquy for Two\n方岽清 (FANG Dongqing)\, 林冲 (Lin Chong)\nPaul Hindemith\, Phantasiestück in B major\, Op 8 No 2\nJohannes Brahms\, Sonata in F major\, Op 99 (1886) \nThis concert is presented in partnership with Chamber Music New Zealand.
URL:https://www.standrews.org.nz/event/andrew-joyce-jian-liu-cello-piano
LOCATION:St Andrews Church\, 30 The Terrace\, Wellington\, 6011\, Wellington\, The Terrace\, 6011\, New Zealand
CATEGORIES:Events
ATTACH;FMTTYPE=image/jpeg:https://www.standrews.org.nz/wp-content/uploads/2024/07/Andrew.jpg
ORGANIZER;CN="Chamber Music NZ":MAILTO:sundayconcertsnz@gmail.com
END:VEVENT
BEGIN:VEVENT
DTSTART;TZID=Pacific/Auckland:20240612T121500
DTEND;TZID=Pacific/Auckland:20240612T130000
DTSTAMP:20260424T121446
CREATED:20231219T230932Z
LAST-MODIFIED:20240501T004439Z
UID:41252-1718194500-1718197200@www.standrews.org.nz
SUMMARY:Lunchtime Concert: Byron “Buzz” Newton - tuba and euphonium
DESCRIPTION:Renowned tuba and euphonium artist\, Byron “Buzz” Newton\, takes center stage alongside pianist Brandan Agnew and special guest\, NZSM baritone horn student Kate McGregor. \nFeatured Repertoire: \nConcerto for Bass Tuba by R. Vaughan Williams: Immerse yourself in the rich harmonies and deep resonance of Vaughan Williams’ masterpiece. \nBlind Sport (for euphonium) by Gilles Rocha: Let yourself be enchanted by the expressive melodies and dynamic contrasts of Rocha’s modern classic. \nFnugg Purple (for Looping Station) by Øystein Baadsvik/B. Newton: Brace yourself for the innovative soundscape of Fnugg Purple. With the aid of looping technology\, Buzz creates intricate layers of sound\, pushing the boundaries of what is possible on the euphonium. \n  \nBorn in Ashburton\, Byron ‘Buzz’ Newton earned his sweet nickname while working in the family honey business. Buzz holds degrees from the University of Canterbury\, New Zealand School of Music\, and the Royal Welsh College of Music and Drama\, achieving a flawless 100% in his Master’s recital. \nHis diverse career includes stints with the Tredegar Town Band (Wales)\, Wellington Brass Band\, and over a decade in the Royal New Zealand Air Force Band. Buzz has performed with the Christchurch Symphony Orchestra\, Auckland Philharmonia Orchestra\, and the New Zealand Symphony Orchestra. Currently\, he serves as the Principal Tuba of Orchestra Wellington. \nCommitted to music education\, Buzz has been an Artist Teacher at the New Zealand School of Music since 2013. In 2016\, he founded the Buzzing Brass Academy\, fostering musical talent through a full-size brass band and a “Beeginner” group.
URL:https://www.standrews.org.nz/event/lunchtime-concert-byron-buzz-newton-tuba-and-euphonium
LOCATION:St Andrews Church\, 30 The Terrace\, Wellington\, 6011\, Wellington\, The Terrace\, 6011\, New Zealand
CATEGORIES:Lunch time concerts
ATTACH;FMTTYPE=image/jpeg:https://www.standrews.org.nz/wp-content/uploads/2023/12/St-Andrews-photo-buzz.jpeg
END:VEVENT
BEGIN:VEVENT
DTSTART;TZID=Pacific/Auckland:20240619T121500
DTEND;TZID=Pacific/Auckland:20240619T130000
DTSTAMP:20260424T121446
CREATED:20231219T231024Z
LAST-MODIFIED:20240611T015402Z
UID:41254-1718799300-1718802000@www.standrews.org.nz
SUMMARY:Lunchtime Concert: Otis Prescott-Mason\, solo piano
DESCRIPTION:Brahms – Two Rhapsodies\, Op.79 \nYork Bowen – Three Sketches\, Op.43 \nChopin – Andante Spianato et Grande Polonaise\, Op.22
URL:https://www.standrews.org.nz/event/lunchtime-concert-otis-prescott-mason-solo-piano
LOCATION:St Andrews Church\, 30 The Terrace\, Wellington\, 6011\, Wellington\, The Terrace\, 6011\, New Zealand
CATEGORIES:Lunch time concerts
ATTACH;FMTTYPE=image/png:https://www.standrews.org.nz/wp-content/uploads/2022/11/Otis-7-June-23.png
END:VEVENT
BEGIN:VEVENT
DTSTART;TZID=Pacific/Auckland:20240620T121500
DTEND;TZID=Pacific/Auckland:20240620T130000
DTSTAMP:20260424T121446
CREATED:20240402T001248Z
LAST-MODIFIED:20240509T224539Z
UID:41605-1718885700-1718888400@www.standrews.org.nz
SUMMARY:Lunchtime Concert: Quang Hong Luu\, solo piano
DESCRIPTION:Join us for a wonderful programme of Debussy’s:Prelude No.7/II: La terrasse des audiences du clair de lune and Liszt’s complete first volume “Switzerland” from the years of Pilgrimage. \nThe recital will begin with the mysterious and exquisite Prelude and the main part of the program is dedicated to the first volume – Switzerland from the Years of Pilgrimage by Franz Liszt. These are among Liszt’s most celebrated masterworks and the summation of his musical style. This is also the research topic for Luu’s doctoral thesis. Luu is thrilled to begin his own “pilgrimage” in Wellington\, New Zealand\, examining the spiritual experiences of Liszt’s Romantic soul and sharing his first performance in the capital.
URL:https://www.standrews.org.nz/event/lunchtime-concert-is-quang-hong-luu-solo-piano
LOCATION:St Andrews Church\, 30 The Terrace\, Wellington\, 6011\, Wellington\, The Terrace\, 6011\, New Zealand
CATEGORIES:Lunch time concerts
ATTACH;FMTTYPE=image/jpeg:https://www.standrews.org.nz/wp-content/uploads/2024/04/St-Andrews-photo-Quang-Luu-scaled.jpeg
END:VEVENT
BEGIN:VEVENT
DTSTART;TZID=Pacific/Auckland:20240622T180000
DTEND;TZID=Pacific/Auckland:20240622T180000
DTSTAMP:20260424T121446
CREATED:20240622T035832Z
LAST-MODIFIED:20240622T035934Z
UID:41836-1719079200-1719079200@www.standrews.org.nz
SUMMARY:The Glamaphones 'Legends - Songs of Life and Love by our Favourite Stars'
DESCRIPTION:
URL:https://www.standrews.org.nz/event/the-glamaphones-legends-songs-of-life-and-love-by-our-favourite-stars
LOCATION:The Terrace
CATEGORIES:Events
END:VEVENT
BEGIN:VEVENT
DTSTART;TZID=Pacific/Auckland:20240626T121500
DTEND;TZID=Pacific/Auckland:20240626T130000
DTSTAMP:20260424T121446
CREATED:20231219T231624Z
LAST-MODIFIED:20231219T231624Z
UID:41256-1719404100-1719406800@www.standrews.org.nz
SUMMARY:Lunchtime Concert: Voces Luce\, the premier choir of Queen Margaret College
DESCRIPTION:
URL:https://www.standrews.org.nz/event/lunchtime-concert-voces-luce-the-premier-choir-of-queen-margaret-college
LOCATION:St Andrews Church\, 30 The Terrace\, Wellington\, 6011\, Wellington\, The Terrace\, 6011\, New Zealand
CATEGORIES:Lunch time concerts
END:VEVENT
BEGIN:VEVENT
DTSTART;TZID=Pacific/Auckland:20240627T121500
DTEND;TZID=Pacific/Auckland:20240627T130000
DTSTAMP:20260424T121446
CREATED:20240305T230226Z
LAST-MODIFIED:20240513T232131Z
UID:41518-1719490500-1719493200@www.standrews.org.nz
SUMMARY:Lunchtime Concert: Mezzo-sopranos Szilvia Hernyak & Grace Burt with Liam Furey\, piano
DESCRIPTION:Mezzo-sopranos Szilvia Hernyak; Grace Burt present classic German Lieder repertoire\, from Schumann to Strauss.
URL:https://www.standrews.org.nz/event/lunchtime-concert-szilvia-hernyak-mezzo-soprano-and-liam-furey-piano-2
LOCATION:St Andrews Church\, 30 The Terrace\, Wellington\, 6011\, Wellington\, The Terrace\, 6011\, New Zealand
CATEGORIES:Lunch time concerts
ATTACH;FMTTYPE=image/jpeg:https://www.standrews.org.nz/wp-content/uploads/2024/03/Slide1.jpg
END:VEVENT
BEGIN:VEVENT
DTSTART;TZID=Pacific/Auckland:20240629T150000
DTEND;TZID=Pacific/Auckland:20240629T150000
DTSTAMP:20260424T121446
CREATED:20240614T030056Z
LAST-MODIFIED:20240619T084048Z
UID:41812-1719673200-1719673200@www.standrews.org.nz
SUMMARY:Wellington City Orchestra Concert
DESCRIPTION:Saturday 29 June 2024\, 3pm\nSt Andrew’s on The Terrace\, Wellington\nConductor: Rachel Hyde\nBerlioz\, Hungarian March\, from Damnation of Faust\nRoss Harris\, Klezmer Suite with Anna Gawn\nTchaikovsky\, Symphony No. 6
URL:https://www.standrews.org.nz/event/wellington-city-orchestra-concert-6
LOCATION:St Andrews Church\, 30 The Terrace\, Wellington\, 6011\, Wellington\, The Terrace\, 6011\, New Zealand
CATEGORIES:Events
ATTACH;FMTTYPE=image/png:https://www.standrews.org.nz/wp-content/uploads/2024/06/WCO-concert-2-2024-FB-e1718786414428.png
ORGANIZER;CN="Wellington City Orchestra":MAILTO:wco.net
END:VEVENT
END:VCALENDAR