BEGIN:VCALENDAR
VERSION:2.0
PRODID:-//St Andrew&#039;s Church - ECPv6.15.19//NONSGML v1.0//EN
CALSCALE:GREGORIAN
METHOD:PUBLISH
X-WR-CALNAME:St Andrew&#039;s Church
X-ORIGINAL-URL:https://www.standrews.org.nz
X-WR-CALDESC:Events for St Andrew&#039;s Church
REFRESH-INTERVAL;VALUE=DURATION:PT1H
X-Robots-Tag:noindex
X-PUBLISHED-TTL:PT1H
BEGIN:VTIMEZONE
TZID:Pacific/Auckland
BEGIN:STANDARD
TZOFFSETFROM:+1300
TZOFFSETTO:+1200
TZNAME:NZST
DTSTART:20210403T140000
END:STANDARD
BEGIN:DAYLIGHT
TZOFFSETFROM:+1200
TZOFFSETTO:+1300
TZNAME:NZDT
DTSTART:20210925T140000
END:DAYLIGHT
BEGIN:STANDARD
TZOFFSETFROM:+1300
TZOFFSETTO:+1200
TZNAME:NZST
DTSTART:20220402T140000
END:STANDARD
BEGIN:DAYLIGHT
TZOFFSETFROM:+1200
TZOFFSETTO:+1300
TZNAME:NZDT
DTSTART:20220924T140000
END:DAYLIGHT
BEGIN:STANDARD
TZOFFSETFROM:+1300
TZOFFSETTO:+1200
TZNAME:NZST
DTSTART:20230401T140000
END:STANDARD
BEGIN:DAYLIGHT
TZOFFSETFROM:+1200
TZOFFSETTO:+1300
TZNAME:NZDT
DTSTART:20230923T140000
END:DAYLIGHT
END:VTIMEZONE
BEGIN:VEVENT
DTSTART;TZID=Pacific/Auckland:20220501T150000
DTEND;TZID=Pacific/Auckland:20220501T170000
DTSTAMP:20260425T054619
CREATED:20220427T233253Z
LAST-MODIFIED:20220428T010759Z
UID:39205-1651417200-1651424400@www.standrews.org.nz
SUMMARY:Aroha String Quartet with Rachel Vernon (clarinet)
DESCRIPTION:Founded in 2004\, this well-known\, versatile Wellington-based quartet is known for its passionate musicality\, impressive technique\,and multicultural innovation. \nHaihong Liu (violin) and Zhongxian Jin (viola) are original members of the Aroha Quartet. Robert Ibell (cello) joined the group in 2009 and Anne Loser (violin) in 2021.The NZSO’s principal Bass Clarinet\,\nRachel Vernon joins them for the three clarinet quintets in the programme. \nWolfgang Mozart – Clarinet Quintet in A K581\nAstor Piazzolla – Oblivion for Clarinet and String Quartet\nJohannes Brahms – Clarinet Quintet in B minor Op 115 \npresented in association with Chamber Music NZ\nbookings for the series and for individual concerts. Email us at sundayconcertsnz@gmail.com or post\nbookings to: Wellington Chamber Music Trust\, 23 Ngatoto Street\, Ngaio\, Wellington 6035. Phone: 04 479-1351\nSchool-age children free if each is accompanied by a ticketed adult.\nDoor sales – please bring cash as we do not have EFTPOS.
URL:https://www.standrews.org.nz/event/aroha-string-quartet-with-rachel-vernon-clarinet
LOCATION:St Andrews Church\, 30 The Terrace\, Wellington\, 6011\, Wellington\, The Terrace\, 6011\, New Zealand
CATEGORIES:Events
ATTACH;FMTTYPE=image/png:https://www.standrews.org.nz/wp-content/uploads/2022/04/Aroha-SQ-1.png
ORGANIZER;CN="Chamber Music NZ":MAILTO:sundayconcertsnz@gmail.com
END:VEVENT
BEGIN:VEVENT
DTSTART;TZID=Pacific/Auckland:20220504T121500
DTEND;TZID=Pacific/Auckland:20220504T130000
DTSTAMP:20260425T054619
CREATED:20220412T023058Z
LAST-MODIFIED:20220503T022940Z
UID:39095-1651666500-1651669200@www.standrews.org.nz
SUMMARY:NZSM Piano Showcase
DESCRIPTION:Students studying piano performance at the NZSM perform. \nMasks are needed\, but vaccine passes are not required for this venue. \n2022-05-04 NZSM Piano
URL:https://www.standrews.org.nz/event/nzsm-piano-showcase
LOCATION:St Andrews Church\, 30 The Terrace\, Wellington\, 6011\, Wellington\, The Terrace\, 6011\, New Zealand
CATEGORIES:Lunch time concerts
ATTACH;FMTTYPE=image/jpeg:https://www.standrews.org.nz/wp-content/uploads/2022/04/ST-Andrews-photo-piano.jpg
ORGANIZER;CN="Kristina Zuelicke":MAILTO:wednesday@standrews.org.nz
END:VEVENT
BEGIN:VEVENT
DTSTART;TZID=Pacific/Auckland:20220511T001500
DTEND;TZID=Pacific/Auckland:20220511T130000
DTSTAMP:20260425T054619
CREATED:20220412T023207Z
LAST-MODIFIED:20220510T043119Z
UID:39098-1652228100-1652274000@www.standrews.org.nz
SUMMARY:Rebecca Steel and Rosemary Barnes\, flute and piano
DESCRIPTION:Join us for Richard Strauss’s Sonata and Variations by Schubert in the weekly Lunchtime Concert Series at St Andrew’s on The Terrace. \nMasks are needed. Vaccine passes are no longer required for this venue. \nProgramme details: 2022-05-11 Rebecca Steel and Rosemary Barnes
URL:https://www.standrews.org.nz/event/rebecca-steel-and-rosemary-barnes-flute-and-piano
LOCATION:St Andrews Church\, 30 The Terrace\, Wellington\, 6011\, Wellington\, The Terrace\, 6011\, New Zealand
CATEGORIES:Lunch time concerts
ATTACH;FMTTYPE=image/jpeg:https://www.standrews.org.nz/wp-content/uploads/2022/04/Rebecca-Franz.jpg
ORGANIZER;CN="Kristina Zuelicke":MAILTO:wednesday@standrews.org.nz
END:VEVENT
BEGIN:VEVENT
DTSTART;TZID=Pacific/Auckland:20220515T100000
DTEND;TZID=Pacific/Auckland:20220515T110000
DTSTAMP:20260425T054620
CREATED:20220513T042219Z
LAST-MODIFIED:20220513T042219Z
UID:39301-1652608800-1652612400@www.standrews.org.nz
SUMMARY:Sunday Gathering - Easter 5
DESCRIPTION:Today’s service is led by Rev. Dr Fei Taule’ale’ausumai
URL:https://www.standrews.org.nz/event/sunday-gathering-easter-5-2
LOCATION:St Andrews Church\, 30 The Terrace\, Wellington\, 6011\, Wellington\, The Terrace\, 6011\, New Zealand
CATEGORIES:Sunday gatherings
ATTACH;FMTTYPE=image/jpeg:https://www.standrews.org.nz/wp-content/uploads/2022/05/15-05-2022.jpg
ORGANIZER;CN="Minister":MAILTO:minister@standrews.org.nz
END:VEVENT
BEGIN:VEVENT
DTSTART;TZID=Pacific/Auckland:20220518T121500
DTEND;TZID=Pacific/Auckland:20220518T130000
DTSTAMP:20260425T054620
CREATED:20220426T022442Z
LAST-MODIFIED:20220517T223312Z
UID:39165-1652876100-1652878800@www.standrews.org.nz
SUMMARY:Baroque Ensemble: two flutes\, bassoon & harpsichord
DESCRIPTION:Join us for the Lunchtime Series at St Andrew’s featuring Rebecca Steel\, flute\, Reuben Chin\, flute\, Oscar Laven\, bassoon and Kris Zuelicke\, harpsichord\, performing Bach’s Trio Sonata 1039\, Handel’s HWV 395\, Vivaldi’s Bassoon Concerto R498\, and Ibert’s Deux Interludes. \nMasks are needed\, but vaccine passes are not required for this venue” \nProgramme:\n2022-05-18 Baroque ensemble
URL:https://www.standrews.org.nz/event/baroque-ensemble-2
LOCATION:The Terrace
CATEGORIES:Lunch time concerts
ATTACH;FMTTYPE=image/jpeg:https://www.standrews.org.nz/wp-content/uploads/2022/04/harpsi-quartet-2022-scaled.jpg
ORGANIZER;CN="Kristina Zuelicke":MAILTO:wednesday@standrews.org.nz
END:VEVENT
BEGIN:VEVENT
DTSTART;TZID=Pacific/Auckland:20220519T080000
DTEND;TZID=Pacific/Auckland:20220519T170000
DTSTAMP:20260425T054620
CREATED:20220502T213938Z
LAST-MODIFIED:20220502T213938Z
UID:39243-1652947200-1652979600@www.standrews.org.nz
SUMMARY:Guitar Students of the NZSM
DESCRIPTION:Join us for a concert of gorgeous guitar music performed by students of the New Zealand School of Music. The students of Jane Curry perform twice a year at St Andrew’s on The Terrace. Masks are needed\, but vaccine passes are not required for this venue. \nJune 1st – Viola Students of the NZSM —\nJoin us for a beautiful concert of music for viola performed by students of the New Zealand School of Music. Students of Associate Professor Gillian Ansell perform twice a year at St Andrew’s on The Terrace.  \nMasks are needed\, but vaccine passes are not required for this venue.
URL:https://www.standrews.org.nz/event/guitar-students-of-the-nzsm-5
LOCATION:St Andrews Church\, 30 The Terrace\, Wellington\, 6011\, Wellington\, The Terrace\, 6011\, New Zealand
CATEGORIES:Lunch time concerts
ORGANIZER;CN="Kristina Zuelicke":MAILTO:wednesday@standrews.org.nz
END:VEVENT
BEGIN:VEVENT
DTSTART;TZID=Pacific/Auckland:20220525T121500
DTEND;TZID=Pacific/Auckland:20220525T130000
DTSTAMP:20260425T054620
CREATED:20220427T012338Z
LAST-MODIFIED:20220525T030727Z
UID:39173-1653480900-1653483600@www.standrews.org.nz
SUMMARY:The Kugels - Anna Gawn (voice)\, Ross Harris (accordion)\, Robin Perks (violin)\, Debbie Rawson (clarinets)\, Nick Tipping  (bass)
DESCRIPTION:Take 3 former NZSO players\, an Arts Laureate composer\, a bass player of renown\, a charismatic singer and you have the Kugels! The ensemble has been together for 10 years now\, and has completed nationwide tours for Arts on Tour NZ\, Chamber Music New Zealand\, and performed as guest artists at several NZ festivals. \nWith passion and sensitivity\, the Kugels play traditional Klezmer music and original works by their in-house Arts Laureate kiwi composer/accordionist Ross Harris. Klezmer music is the folk music of Jewish people from Eastern and Central Europe and speaks eloquently for the plight of oppressed minorities everywhere. The music is wild\, passionate and haunting and makes you want to dance. \nThe lineup introduces their newest member\, Nick Tipping\, whose innovative and imaginative bass adds further texture to this vibrant ensemble. Another recent addition is Anna Gawn\, whose unique voice takes the music into yet another dimension. The Kugels are on fire! \nMasks are needed\, but vaccine passes are not required for this venue \nProgramme details: 2022-05-25 Kugels
URL:https://www.standrews.org.nz/event/the-kugels-anna-gawn-voice-ross-harris-accordion-robin-perks-violin-debbie-rawson-clarinets-nick-tipping-bass
LOCATION:St Andrews Church\, 30 The Terrace\, Wellington\, 6011\, Wellington\, The Terrace\, 6011\, New Zealand
CATEGORIES:Lunch time concerts
ATTACH;FMTTYPE=image/jpeg:https://www.standrews.org.nz/wp-content/uploads/2022/04/St-Andrews-photo-Kugels-scaled.jpg
END:VEVENT
BEGIN:VEVENT
DTSTART;TZID=Pacific/Auckland:20220529T150000
DTEND;TZID=Pacific/Auckland:20220529T170000
DTSTAMP:20260425T054620
CREATED:20220428T002055Z
LAST-MODIFIED:20220428T010912Z
UID:39210-1653836400-1653843600@www.standrews.org.nz
SUMMARY:Lorelle McNaughton (solo piano)
DESCRIPTION:Pianist Lorelle McNaughton studied in both Auckland and Sydney before going to Barcelona to further develop her specialisation in Spanish repertoire. \nPadre Soler – 2 Sonatas\nIsaac Albéniz – Iberia: Books I and Ill\nEnrique Granados – 2 Dances from Danzas Españolas\nManuel de Falla – Cuatro Piezas Españolas\nFrederico Mompou – 2 Canciones y Danzas \npresented in association with Chamber Music NZ\nbookings for the series and for individual concerts. Email us at sundayconcertsnz@gmail.com or post\nbookings to: Wellington Chamber Music Trust\, 23 Ngatoto Street\, Ngaio\, Wellington 6035. Phone: 04 479-1351\nSchool-age children free if each is accompanied by a ticketed adult.\nDoor sales – please bring cash as we do not have EFTPOS.
URL:https://www.standrews.org.nz/event/lorelle-mcnaughton-solo-piano
LOCATION:St Andrews Church\, 30 The Terrace\, Wellington\, 6011\, Wellington\, The Terrace\, 6011\, New Zealand
CATEGORIES:Events
ATTACH;FMTTYPE=image/png:https://www.standrews.org.nz/wp-content/uploads/2022/04/Lorelle-McNaughton.png
ORGANIZER;CN="Chamber Music NZ":MAILTO:sundayconcertsnz@gmail.com
END:VEVENT
END:VCALENDAR