BEGIN:VCALENDAR
VERSION:2.0
PRODID:-//St Andrew&#039;s Church - ECPv6.15.19//NONSGML v1.0//EN
CALSCALE:GREGORIAN
METHOD:PUBLISH
X-WR-CALNAME:St Andrew&#039;s Church
X-ORIGINAL-URL:https://www.standrews.org.nz
X-WR-CALDESC:Events for St Andrew&#039;s Church
REFRESH-INTERVAL;VALUE=DURATION:PT1H
X-Robots-Tag:noindex
X-PUBLISHED-TTL:PT1H
BEGIN:VTIMEZONE
TZID:Pacific/Auckland
BEGIN:STANDARD
TZOFFSETFROM:+1300
TZOFFSETTO:+1200
TZNAME:NZST
DTSTART:20200404T140000
END:STANDARD
BEGIN:DAYLIGHT
TZOFFSETFROM:+1200
TZOFFSETTO:+1300
TZNAME:NZDT
DTSTART:20200926T140000
END:DAYLIGHT
BEGIN:STANDARD
TZOFFSETFROM:+1300
TZOFFSETTO:+1200
TZNAME:NZST
DTSTART:20210403T140000
END:STANDARD
BEGIN:DAYLIGHT
TZOFFSETFROM:+1200
TZOFFSETTO:+1300
TZNAME:NZDT
DTSTART:20210925T140000
END:DAYLIGHT
BEGIN:STANDARD
TZOFFSETFROM:+1300
TZOFFSETTO:+1200
TZNAME:NZST
DTSTART:20220402T140000
END:STANDARD
BEGIN:DAYLIGHT
TZOFFSETFROM:+1200
TZOFFSETTO:+1300
TZNAME:NZDT
DTSTART:20220924T140000
END:DAYLIGHT
END:VTIMEZONE
BEGIN:VTIMEZONE
TZID:Australia/Sydney
BEGIN:STANDARD
TZOFFSETFROM:+1100
TZOFFSETTO:+1000
TZNAME:AEST
DTSTART:20200404T160000
END:STANDARD
BEGIN:DAYLIGHT
TZOFFSETFROM:+1000
TZOFFSETTO:+1100
TZNAME:AEDT
DTSTART:20201003T160000
END:DAYLIGHT
BEGIN:STANDARD
TZOFFSETFROM:+1100
TZOFFSETTO:+1000
TZNAME:AEST
DTSTART:20210403T160000
END:STANDARD
BEGIN:DAYLIGHT
TZOFFSETFROM:+1000
TZOFFSETTO:+1100
TZNAME:AEDT
DTSTART:20211002T160000
END:DAYLIGHT
BEGIN:STANDARD
TZOFFSETFROM:+1100
TZOFFSETTO:+1000
TZNAME:AEST
DTSTART:20220402T160000
END:STANDARD
BEGIN:DAYLIGHT
TZOFFSETFROM:+1000
TZOFFSETTO:+1100
TZNAME:AEDT
DTSTART:20221001T160000
END:DAYLIGHT
END:VTIMEZONE
BEGIN:VEVENT
DTSTART;TZID=Pacific/Auckland:20211201T121500
DTEND;TZID=Pacific/Auckland:20211201T130000
DTSTAMP:20260424T071921
CREATED:20210311T232609Z
LAST-MODIFIED:20211130T223648Z
UID:37771-1638360900-1638363600@www.standrews.org.nz
SUMMARY:Stringendo - Wellington Children's Orchestra
DESCRIPTION:Stringendo was formed in 2015 and consists of string players aged from 9-14 from the Wellington region\, conducted by Donald Maurice. Its primary focus is music from the Baroque period\, to equip the players with an understanding of the playing style of the time\, to develop sight-reading skills\, and to prepare them for roles in full symphony orchestras. Many past members have gone on to join Wellington Sinfonietta\, Wellington Youth Orchestra\, the National Secondary Schools Orchestra and the National Youth Orchestra. Some of the original members are now studying performance at university. Keeping going during Covid-19 alert levels has been challenging but in 2021 Stringendo participated in the Strings for Africa concert with piano soloist Diedre Irons. The concert on December 1 will be their only other performance in 2021. Audience limited by alert level. \nProgramme: 1 December Stringendo
URL:https://www.standrews.org.nz/event/stringendo-young-wellington-musicians-orchestra
LOCATION:St Andrews Church\, 30 The Terrace\, Wellington\, 6011\, Wellington\, The Terrace\, 6011\, New Zealand
CATEGORIES:Lunch time concerts
ATTACH;FMTTYPE=image/jpeg:https://www.standrews.org.nz/wp-content/uploads/2021/03/St-Andrews-photo-Stringendo-scaled.jpg
ORGANIZER;CN="Kristina Zuelicke":MAILTO:wednesday@standrews.org.nz
END:VEVENT
BEGIN:VEVENT
DTSTART;TZID=Australia/Sydney:20211202T123000
DTEND;TZID=Australia/Sydney:20211202T130000
DTSTAMP:20260424T071921
CREATED:20210312T015112Z
LAST-MODIFIED:20210312T015128Z
UID:37802-1638448200-1638450000@www.standrews.org.nz
SUMMARY:Centering Prayer
DESCRIPTION:A half hour of group meditation/contemplative prayer.  Begins with a short reading then 30 minutes silence. All welcome.  This website will give you some idea of the approach many of us use.  https://www.contemplativeoutreach.org/category/category/centering-prayer
URL:https://www.standrews.org.nz/event/centering-prayer-138
LOCATION:St Andrew’s Centre\, 30 The Terrace\, Wellington\, 6011\, Wellington\, The Terrace\, 6011\, New Zealand
CATEGORIES:Community gatherings
ATTACH;FMTTYPE=image/jpeg:https://www.standrews.org.nz/wp-content/uploads/2017/04/be-still.jpg
END:VEVENT
BEGIN:VEVENT
DTSTART;TZID=Pacific/Auckland:20211205T100000
DTEND;TZID=Pacific/Auckland:20211205T113000
DTSTAMP:20260424T071921
CREATED:20210805T044357Z
LAST-MODIFIED:20210805T044357Z
UID:38316-1638698400-1638703800@www.standrews.org.nz
SUMMARY:Communion Service - Advent 2
DESCRIPTION:
URL:https://www.standrews.org.nz/event/communion-service-advent-2
LOCATION:St Andrews Church\, 30 The Terrace\, Wellington\, 6011\, Wellington\, The Terrace\, 6011\, New Zealand
CATEGORIES:Communion,Community gatherings,Sunday gatherings
END:VEVENT
BEGIN:VEVENT
DTSTART;TZID=Pacific/Auckland:20211208T121500
DTEND;TZID=Pacific/Auckland:20211208T130000
DTSTAMP:20260424T071921
CREATED:20210311T232712Z
LAST-MODIFIED:20211204T022215Z
UID:37773-1638965700-1638968400@www.standrews.org.nz
SUMMARY:Jonathan Berkahn and Ingrid Schoenfeld – organ\, piano and accordion
DESCRIPTION:Join us for a terrific keyboard mixture of music for piano\, organ and accordion! Audience limited by alert level. \nMozart’s Sonata in B flat K.358\, four hands (piano)\nAlbrechtsberger’s Prelude and Fugue in C\, four hands (organ)\nFranck’s Prelude\, Fugue\, and Variation (piano and accordion)\nPepusch Trio Sonata (two accordions) \n  \nProgramme details: 8 December Organ Piano Accordion
URL:https://www.standrews.org.nz/event/jonathan-berkahn-and-ingrid-schoenfeld-accordion-and-piano
LOCATION:St Andrews Church\, 30 The Terrace\, Wellington\, 6011\, Wellington\, The Terrace\, 6011\, New Zealand
CATEGORIES:Lunch time concerts
ORGANIZER;CN="Kristina Zuelicke":MAILTO:wednesday@standrews.org.nz
END:VEVENT
BEGIN:VEVENT
DTSTART;TZID=Pacific/Auckland:20211212T100000
DTEND;TZID=Pacific/Auckland:20211212T113000
DTSTAMP:20260424T071921
CREATED:20210805T044527Z
LAST-MODIFIED:20210805T044603Z
UID:38318-1639303200-1639308600@www.standrews.org.nz
SUMMARY:Sunday Gathering - Advent 3
DESCRIPTION:
URL:https://www.standrews.org.nz/event/sunday-gathering-advent-3-2
LOCATION:St Andrews Church\, 30 The Terrace\, Wellington\, 6011\, Wellington\, The Terrace\, 6011\, New Zealand
CATEGORIES:Community gatherings,Sunday gatherings
END:VEVENT
BEGIN:VEVENT
DTSTART;TZID=Pacific/Auckland:20211212T150000
DTEND;TZID=Pacific/Auckland:20211212T170000
DTSTAMP:20260424T071921
CREATED:20211209T011358Z
LAST-MODIFIED:20211209T011358Z
UID:38733-1639321200-1639328400@www.standrews.org.nz
SUMMARY:Wellington Chamber Orchestra -  Ian Ridgewell conducts
DESCRIPTION:Richard Strauss – Serenade for 13 Winds\nVivaldi – Concerto for 2 Flutes\n      soloists Bridget Douglas & Kirstin Eade\nMalcolm Arnold – English Dances set No.1\nTchaikovsky – Symphony No.2 – the Little Russian \nAll concerts\, 3:00 p.m.\, St Andrew’s on The Terrace\, Wellington\nSeason ticket $60 from Eventfinda\nSingle concert $20/$15\nSecondary students and younger free\nAdvance sales for all concerts through eventfinda.co.nz (search for “WCO”)\nCash sales on the door
URL:https://www.standrews.org.nz/event/wellington-chamber-orchestra-ian-ridgewell-conducts
LOCATION:St Andrews Church\, 30 The Terrace\, Wellington\, 6011\, Wellington\, The Terrace\, 6011\, New Zealand
CATEGORIES:Events
ATTACH;FMTTYPE=image/jpeg:https://www.standrews.org.nz/wp-content/uploads/2021/12/WCO.jpg
END:VEVENT
BEGIN:VEVENT
DTSTART;TZID=Pacific/Auckland:20211215T121500
DTEND;TZID=Pacific/Auckland:20211215T130000
DTSTAMP:20260424T071921
CREATED:20210311T232820Z
LAST-MODIFIED:20211214T043422Z
UID:37775-1639570500-1639573200@www.standrews.org.nz
SUMMARY:A Christmas Celebration
DESCRIPTION:Our final St Andrew’s on the Terrace Lunchtime Series concert of 2021 finishes with a fantastic time of singing and ringing in the Holiday season. “A Christmas Celebration” is being led by Mark Stamper\, Wellington choral conductor and Music Coordinator of St. Andrews on the Terrace. \nThe celebration will feature traditional carols and light-hearted familiar holiday songs. You will also experience the choral blend of the Wellington Male Voice Choir and a few other surprises\, including several opportunities for audience participation! \nMake plans NOW to attend this celebration of Christmas music as we lift our spirits and voices in song! Entry by Koha. No need for tickets\, just be early to avoid disappointment and bring your holiday spirit! \nProgramme details: 14 December Celebration of Christmas
URL:https://www.standrews.org.nz/event/resonance-choir
LOCATION:St Andrews Church\, 30 The Terrace\, Wellington\, 6011\, Wellington\, The Terrace\, 6011\, New Zealand
CATEGORIES:Lunch time concerts
ORGANIZER;CN="Kristina Zuelicke":MAILTO:wednesday@standrews.org.nz
END:VEVENT
BEGIN:VEVENT
DTSTART;TZID=Pacific/Auckland:20211217T190000
DTEND;TZID=Pacific/Auckland:20211217T220000
DTSTAMP:20260424T071921
CREATED:20210831T035148Z
LAST-MODIFIED:20211001T030906Z
UID:38404-1639767600-1639778400@www.standrews.org.nz
SUMMARY:NZ Trio - Dramatic Skies 2
DESCRIPTION:
URL:https://www.standrews.org.nz/event/nz-trio-dramatic-skies-2-postponed-from-22nd-aug
LOCATION:St Andrews Church\, 30 The Terrace\, Wellington\, 6011\, Wellington\, The Terrace\, 6011\, New Zealand
CATEGORIES:Events
ATTACH;FMTTYPE=image/jpeg:https://www.standrews.org.nz/wp-content/uploads/2021/07/20210729_103400_0001.jpg
END:VEVENT
BEGIN:VEVENT
DTSTART;TZID=Pacific/Auckland:20211219T100000
DTEND;TZID=Pacific/Auckland:20211219T113000
DTSTAMP:20260424T071922
CREATED:20210805T044655Z
LAST-MODIFIED:20210805T044655Z
UID:38320-1639908000-1639913400@www.standrews.org.nz
SUMMARY:Sunday Gathering - Advent 4
DESCRIPTION:
URL:https://www.standrews.org.nz/event/sunday-gathering-advent-4-2
LOCATION:The Terrace
CATEGORIES:Community gatherings,Sunday gatherings
END:VEVENT
BEGIN:VEVENT
DTSTART;TZID=Pacific/Auckland:20211224T193000
DTEND;TZID=Pacific/Auckland:20211224T210000
DTSTAMP:20260424T071922
CREATED:20210805T045047Z
LAST-MODIFIED:20210805T045047Z
UID:38322-1640374200-1640379600@www.standrews.org.nz
SUMMARY:Christmas Eve Carol service & communion
DESCRIPTION:
URL:https://www.standrews.org.nz/event/christmas-eve-carol-service-communion
LOCATION:St Andrews Church\, 30 The Terrace\, Wellington\, 6011\, Wellington\, The Terrace\, 6011\, New Zealand
CATEGORIES:Communion,Community gatherings,Sunday gatherings
END:VEVENT
BEGIN:VEVENT
DTSTART;TZID=Pacific/Auckland:20211225T100000
DTEND;TZID=Pacific/Auckland:20211225T113000
DTSTAMP:20260424T071922
CREATED:20210805T045204Z
LAST-MODIFIED:20210805T045204Z
UID:38324-1640426400-1640431800@www.standrews.org.nz
SUMMARY:Christmas Day Gathering
DESCRIPTION:
URL:https://www.standrews.org.nz/event/christmas-day-gathering
LOCATION:St Andrews Church\, 30 The Terrace\, Wellington\, 6011\, Wellington\, The Terrace\, 6011\, New Zealand
CATEGORIES:Community gatherings,Sunday gatherings
END:VEVENT
BEGIN:VEVENT
DTSTART;TZID=Pacific/Auckland:20211226T100000
DTEND;TZID=Pacific/Auckland:20211226T113000
DTSTAMP:20260424T071922
CREATED:20210805T045313Z
LAST-MODIFIED:20210805T045313Z
UID:38326-1640512800-1640518200@www.standrews.org.nz
SUMMARY:Sunday Gathering - Christmas 1
DESCRIPTION:
URL:https://www.standrews.org.nz/event/sunday-gathering-christmas-1
LOCATION:St Andrews Church\, 30 The Terrace\, Wellington\, 6011\, Wellington\, The Terrace\, 6011\, New Zealand
CATEGORIES:Community gatherings,Sunday gatherings
END:VEVENT
END:VCALENDAR