BEGIN:VCALENDAR
VERSION:2.0
PRODID:-//St Andrew&#039;s Church - ECPv6.15.19//NONSGML v1.0//EN
CALSCALE:GREGORIAN
METHOD:PUBLISH
X-ORIGINAL-URL:https://www.standrews.org.nz
X-WR-CALDESC:Events for St Andrew&#039;s Church
REFRESH-INTERVAL;VALUE=DURATION:PT1H
X-Robots-Tag:noindex
X-PUBLISHED-TTL:PT1H
BEGIN:VTIMEZONE
TZID:Australia/Sydney
BEGIN:STANDARD
TZOFFSETFROM:+1100
TZOFFSETTO:+1000
TZNAME:AEST
DTSTART:20200404T160000
END:STANDARD
BEGIN:DAYLIGHT
TZOFFSETFROM:+1000
TZOFFSETTO:+1100
TZNAME:AEDT
DTSTART:20201003T160000
END:DAYLIGHT
BEGIN:STANDARD
TZOFFSETFROM:+1100
TZOFFSETTO:+1000
TZNAME:AEST
DTSTART:20210403T160000
END:STANDARD
BEGIN:DAYLIGHT
TZOFFSETFROM:+1000
TZOFFSETTO:+1100
TZNAME:AEDT
DTSTART:20211002T160000
END:DAYLIGHT
BEGIN:STANDARD
TZOFFSETFROM:+1100
TZOFFSETTO:+1000
TZNAME:AEST
DTSTART:20220402T160000
END:STANDARD
BEGIN:DAYLIGHT
TZOFFSETFROM:+1000
TZOFFSETTO:+1100
TZNAME:AEDT
DTSTART:20221001T160000
END:DAYLIGHT
END:VTIMEZONE
BEGIN:VEVENT
DTSTART;TZID=Australia/Sydney:20210502T190000
DTEND;TZID=Australia/Sydney:20210502T220000
DTSTAMP:20260424T072332
CREATED:20210308T200927Z
LAST-MODIFIED:20210426T211457Z
UID:37693-1619982000-1619992800@www.standrews.org.nz
SUMMARY:Welcome Home Concert - Croft Pipe Organ
DESCRIPTION:We are celebrating the return of our Croft pipe organ\, now fully restored. Come and join us for a fun\, variety show that demonstrates the new sound and versatility of the organ. From Handel to Abba and Rimsky-Korsakov to Gershwin\, there is something for everyone to enjoy. Several renowned organists will perform including Paul Rosoman and Roy Tankersley\, Peter Franklin\, our Principal Organist and our team of St Andrew’s organists. In addition we have special guests: Larry Reese\, NZSO Principal timpanist\, Counsel in Concert (the popular lawyers choir) and a brass ensemble. Our own Jane Keller\, Mark Stamper and Richard Keller will also feature.\nBring your family and friends! \n 
URL:https://www.standrews.org.nz/event/welcome-home-concert-croft-pipe-organ
LOCATION:St Andrews Church\, 30 The Terrace\, Wellington\, 6011\, Wellington\, The Terrace\, 6011\, New Zealand
CATEGORIES:Community gatherings,Events,Lunch time concerts
ATTACH;FMTTYPE=application/pdf:https://www.standrews.org.nz/wp-content/uploads/2021/03/Organ_Welcome_Home_Concert_Final.pdf
END:VEVENT
BEGIN:VEVENT
DTSTART;TZID=Australia/Sydney:20210505T103000
DTEND;TZID=Australia/Sydney:20210505T120000
DTSTAMP:20260424T072332
CREATED:20210409T021336Z
LAST-MODIFIED:20210409T021336Z
UID:37870-1620210600-1620216000@www.standrews.org.nz
SUMMARY:Cuppa and Chat
DESCRIPTION:A weekly chance to meet people and talk about your life in a confidential space.  Informal chat over tea and coffee happens from 10.30am.  A talking circle begins at 11am and runs till 12 noon. All welcome.
URL:https://www.standrews.org.nz/event/cuppa-and-chat-117
LOCATION:St Andrew’s Centre\, 30 The Terrace\, Wellington\, 6011\, Wellington\, The Terrace\, 6011\, New Zealand
CATEGORIES:Community gatherings
ATTACH;FMTTYPE=image/jpeg:https://www.standrews.org.nz/wp-content/uploads/2016/12/rainbow-room-artwork-10.jpg
END:VEVENT
BEGIN:VEVENT
DTSTART;TZID=Australia/Sydney:20210505T121500
DTEND;TZID=Australia/Sydney:20210505T130000
DTSTAMP:20260424T072332
CREATED:20210216T012835Z
LAST-MODIFIED:20210504T020625Z
UID:37620-1620216900-1620219600@www.standrews.org.nz
SUMMARY:Ingrid Prosser and Colin Decio – music and poetry
DESCRIPTION:www.colindecio.com and https://ingridprosser.weebly.com/piano–poetry.html \nPianist/Composer Colin Decio and Performance Poet Ingrid Prosser will be performing their own creations alongside well-known music and poetry from the 19th & 20th centuries. Chopin\, Grieg and poems by DH Lawrence from his 1923 volume Birds\, Beasts and Flowers will be interspersed with Preludes and Two Estampes by Colin and two poems by Ingrid. Colin’s Prelude for Anne Frank was written especially for the 2012 theatre work Souvenir d’Anne Frank\, performed throughout the UK\, with Colin playing piano in the onstage piano trio. Ingrid complements the work with her long poem Light Obscured – based on the events of a day in London when the theatre work was being performed at the Greenwich Theatre. \nMusic: \nChopin – C# minor Nocturne \nGrieg – Wedding Day at Troldhaugen \nDecio -Two Estampes and Prelude for Anne Frank. \nPoetry: \nDH Lawrence – poems from his 1923 Volume Birds\, Beasts and Flowers\, including his most well-known poem\, Snake. \nIngrid Prosser – Light Obscured and The Grey Sentinels \n  \n 
URL:https://www.standrews.org.nz/event/ingrid-prosser-and-colin-decio-music-and-poetry-2
LOCATION:St Andrews Church\, 30 The Terrace\, Wellington\, 6011\, Wellington\, The Terrace\, 6011\, New Zealand
CATEGORIES:Lunch time concerts
ATTACH;FMTTYPE=image/jpeg:https://www.standrews.org.nz/wp-content/uploads/2021/02/St-Andrews-Ingrid-Prosser-and-Colin-photo-publicity.jpg
ORGANIZER;CN="Kristina Zuelicke":MAILTO:wednesday@standrews.org.nz
END:VEVENT
BEGIN:VEVENT
DTSTART;TZID=Australia/Sydney:20210506T123000
DTEND;TZID=Australia/Sydney:20210506T130000
DTSTAMP:20260424T072332
CREATED:20180530T024529Z
LAST-MODIFIED:20210312T003740Z
UID:33452-1620304200-1620306000@www.standrews.org.nz
SUMMARY:Centering Prayer
DESCRIPTION:A half hour of group meditation/contemplative prayer.  Begins with a short reading then 30 minutes silence. All welcome.  This website will give you some idea of the approach many of us use.  https://www.contemplativeoutreach.org/category/category/centering-prayer
URL:https://www.standrews.org.nz/event/centering-prayer-51
LOCATION:The Terrace
CATEGORIES:Events
ATTACH;FMTTYPE=image/jpeg:https://www.standrews.org.nz/wp-content/uploads/2017/04/be-still.jpg
END:VEVENT
BEGIN:VEVENT
DTSTART;TZID=Australia/Sydney:20210512T103000
DTEND;TZID=Australia/Sydney:20210512T120000
DTSTAMP:20260424T072332
CREATED:20210409T021519Z
LAST-MODIFIED:20210409T021519Z
UID:37873-1620815400-1620820800@www.standrews.org.nz
SUMMARY:Cuppa and Chat
DESCRIPTION:A weekly chance to meet people and talk about your life in a confidential space.  Informal chat over tea and coffee happens from 10.30am.  A talking circle begins at 11am and runs till 12 noon. All welcome.
URL:https://www.standrews.org.nz/event/cuppa-and-chat-118
LOCATION:St Andrew’s Centre\, 30 The Terrace\, Wellington\, 6011\, Wellington\, The Terrace\, 6011\, New Zealand
CATEGORIES:Community gatherings
END:VEVENT
BEGIN:VEVENT
DTSTART;TZID=Australia/Sydney:20210512T121500
DTEND;TZID=Australia/Sydney:20210512T130000
DTSTAMP:20260424T072332
CREATED:20210216T014338Z
LAST-MODIFIED:20210511T014918Z
UID:37622-1620821700-1620824400@www.standrews.org.nz
SUMMARY:Rebecca Steel and Kristina Zuelicke – 20th-century British and American music for flute and piano
DESCRIPTION:Programme: \nHypnosis and Spiral Lament by Ian Clarke \nPoem by Charles T. Griffes \nFlute and Piano Sonata by Robert Muczynski \n  \nProgramme : 2021-05-12 Rebecca and Kris
URL:https://www.standrews.org.nz/event/rebecca-steel-and-kristina-zuelicke-20th-century-british-and-american-music-for-flute-and-piano
LOCATION:St Andrews Church\, 30 The Terrace\, Wellington\, 6011\, Wellington\, The Terrace\, 6011\, New Zealand
CATEGORIES:Lunch time concerts
ATTACH;FMTTYPE=image/jpeg:https://www.standrews.org.nz/wp-content/uploads/2021/02/Rebecca-and-Kris-2020-scaled.jpg
ORGANIZER;CN="Kristina Zuelicke":MAILTO:wednesday@standrews.org.nz
END:VEVENT
BEGIN:VEVENT
DTSTART;TZID=Australia/Sydney:20210513T121500
DTEND;TZID=Australia/Sydney:20210513T130000
DTSTAMP:20260424T072332
CREATED:20210216T014735Z
LAST-MODIFIED:20210511T015023Z
UID:37626-1620908100-1620910800@www.standrews.org.nz
SUMMARY:Guitar Students of the NZSM
DESCRIPTION:TE KŌKĪ New Zealand School of Music NZSM Classical Guitar Students present chamber works by John Dowland\, Nathan Kolosko\, William Kanengiser and Andrew York. \nProgramme: 2021-05-13 NZSM Guitar quartet
URL:https://www.standrews.org.nz/event/guitar-students-of-the-nzsm-2
LOCATION:St Andrews Church\, 30 The Terrace\, Wellington\, 6011\, Wellington\, The Terrace\, 6011\, New Zealand
CATEGORIES:Lunch time concerts
ATTACH;FMTTYPE=image/jpeg:https://www.standrews.org.nz/wp-content/uploads/2021/02/St-Andrews-photo-guitar-nzsm-scaled.jpg
ORGANIZER;CN="Kristina Zuelicke":MAILTO:wednesday@standrews.org.nz
END:VEVENT
BEGIN:VEVENT
DTSTART;TZID=Australia/Sydney:20210519T103000
DTEND;TZID=Australia/Sydney:20210519T120000
DTSTAMP:20260424T072332
CREATED:20210409T021725Z
LAST-MODIFIED:20210409T022100Z
UID:37875-1621420200-1621425600@www.standrews.org.nz
SUMMARY:Cuppa and Chat
DESCRIPTION:A weekly chance to meet people and talk about your life in a confidential space.  Informal chat over tea and coffee happens from 10.30am.  A talking circle begins at 11am and runs till 12 noon. All welcome.
URL:https://www.standrews.org.nz/event/cuppa-and-chat-119
LOCATION:St Andrew’s Centre\, 30 The Terrace\, Wellington\, 6011\, Wellington\, The Terrace\, 6011\, New Zealand
CATEGORIES:Community gatherings
ATTACH;FMTTYPE=image/jpeg:https://www.standrews.org.nz/wp-content/uploads/2016/12/rainbow-room-artwork-10.jpg
END:VEVENT
BEGIN:VEVENT
DTSTART;TZID=Australia/Sydney:20210519T121500
DTEND;TZID=Australia/Sydney:20210519T130000
DTSTAMP:20260424T072332
CREATED:20210302T235127Z
LAST-MODIFIED:20210518T215411Z
UID:37660-1621426500-1621429200@www.standrews.org.nz
SUMMARY:Roger Brown and Rosemary Barnes – music for cello and piano
DESCRIPTION:Schumann: Fantasie-Stuck\, Op.73\nBeethoven: Sonata C\, Op102\, No1\nChopin: Introduction et Polonaise Brilliante\, Op.3\nGershwin: Two short pieces \n  \nProgramme 2021-05-19 Roger Brown and Rosemary Barnes
URL:https://www.standrews.org.nz/event/roger-brown-and-rosemary-barnes-music-for-cello-and-piano-2
LOCATION:St Andrews Church\, 30 The Terrace\, Wellington\, 6011\, Wellington\, The Terrace\, 6011\, New Zealand
CATEGORIES:Lunch time concerts
ORGANIZER;CN="Kristina Zuelicke":MAILTO:wednesday@standrews.org.nz
END:VEVENT
BEGIN:VEVENT
DTSTART;TZID=Australia/Sydney:20210526T103000
DTEND;TZID=Australia/Sydney:20210526T120000
DTSTAMP:20260424T072332
CREATED:20210409T021955Z
LAST-MODIFIED:20210409T022132Z
UID:37877-1622025000-1622030400@www.standrews.org.nz
SUMMARY:Cuppa and Chat
DESCRIPTION:A weekly chance to meet people and talk about your life in a confidential space.  Informal chat over tea and coffee happens from 10.30am.  A talking circle begins at 11am and runs till 12 noon. All welcome.
URL:https://www.standrews.org.nz/event/cuppa-and-chat-120
LOCATION:St Andrew’s Centre\, 30 The Terrace\, Wellington\, 6011\, Wellington\, The Terrace\, 6011\, New Zealand
CATEGORIES:Community gatherings
ATTACH;FMTTYPE=image/jpeg:https://www.standrews.org.nz/wp-content/uploads/2016/12/rainbow-room-artwork-10.jpg
END:VEVENT
BEGIN:VEVENT
DTSTART;TZID=Australia/Sydney:20210526T121500
DTEND;TZID=Australia/Sydney:20210526T130000
DTSTAMP:20260424T072332
CREATED:20210216T015121Z
LAST-MODIFIED:20210525T005955Z
UID:37630-1622031300-1622034000@www.standrews.org.nz
SUMMARY:Monique Lapins and Jian Liu – music for violin and piano
DESCRIPTION:Join us at St Andrew’s on the Terrace in our regular lunchtime series for a real treat: Debussy’s Sonata for Violin and Piano\, Bartok’s Six Romanian Folk Dances and Bartok’s Sonata for Violin and Piano No.1. Koha entry.
URL:https://www.standrews.org.nz/event/monique-lapins-and-jian-liu-music-for-violin-and-piano
LOCATION:St Andrews Church\, 30 The Terrace\, Wellington\, 6011\, Wellington\, The Terrace\, 6011\, New Zealand
CATEGORIES:Lunch time concerts
ATTACH;FMTTYPE=image/jpeg:https://www.standrews.org.nz/wp-content/uploads/2021/02/St-Andrews-photo-Jian-scaled.jpg
ORGANIZER;CN="Kristina Zuelicke":MAILTO:wednesday@standrews.org.nz
END:VEVENT
BEGIN:VEVENT
DTSTART;TZID=Australia/Sydney:20210527T121500
DTEND;TZID=Australia/Sydney:20210527T130000
DTSTAMP:20260424T072332
CREATED:20210216T015244Z
LAST-MODIFIED:20210526T013252Z
UID:37633-1622117700-1622120400@www.standrews.org.nz
SUMMARY:Classical voice students of the NZSM
DESCRIPTION:Programme: 2021-05-27 NZSM Voice Students
URL:https://www.standrews.org.nz/event/classical-voice-students-of-the-nzsm-2
LOCATION:St Andrews Church\, 30 The Terrace\, Wellington\, 6011\, Wellington\, The Terrace\, 6011\, New Zealand
CATEGORIES:Lunch time concerts
ATTACH;FMTTYPE=image/jpeg:https://www.standrews.org.nz/wp-content/uploads/2021/02/St-Andrews-photo-NZSM-singing.jpg
ORGANIZER;CN="Kristina Zuelicke":MAILTO:wednesday@standrews.org.nz
END:VEVENT
END:VCALENDAR