BEGIN:VCALENDAR
VERSION:2.0
PRODID:-//St Andrew&#039;s Church - ECPv6.15.19//NONSGML v1.0//EN
CALSCALE:GREGORIAN
METHOD:PUBLISH
X-WR-CALNAME:St Andrew&#039;s Church
X-ORIGINAL-URL:https://www.standrews.org.nz
X-WR-CALDESC:Events for St Andrew&#039;s Church
REFRESH-INTERVAL;VALUE=DURATION:PT1H
X-Robots-Tag:noindex
X-PUBLISHED-TTL:PT1H
BEGIN:VTIMEZONE
TZID:Pacific/Auckland
BEGIN:STANDARD
TZOFFSETFROM:+1300
TZOFFSETTO:+1200
TZNAME:NZST
DTSTART:20200404T140000
END:STANDARD
BEGIN:DAYLIGHT
TZOFFSETFROM:+1200
TZOFFSETTO:+1300
TZNAME:NZDT
DTSTART:20200926T140000
END:DAYLIGHT
BEGIN:STANDARD
TZOFFSETFROM:+1300
TZOFFSETTO:+1200
TZNAME:NZST
DTSTART:20210403T140000
END:STANDARD
BEGIN:DAYLIGHT
TZOFFSETFROM:+1200
TZOFFSETTO:+1300
TZNAME:NZDT
DTSTART:20210925T140000
END:DAYLIGHT
BEGIN:STANDARD
TZOFFSETFROM:+1300
TZOFFSETTO:+1200
TZNAME:NZST
DTSTART:20220402T140000
END:STANDARD
BEGIN:DAYLIGHT
TZOFFSETFROM:+1200
TZOFFSETTO:+1300
TZNAME:NZDT
DTSTART:20220924T140000
END:DAYLIGHT
END:VTIMEZONE
BEGIN:VEVENT
DTSTART;TZID=Pacific/Auckland:20211107T100000
DTEND;TZID=Pacific/Auckland:20211107T233000
DTSTAMP:20260420T232826
CREATED:20210805T042708Z
LAST-MODIFIED:20211105T035905Z
UID:38306-1636279200-1636327800@www.standrews.org.nz
SUMMARY:Communion Service - Pentecost 24
DESCRIPTION:Ruth
URL:https://www.standrews.org.nz/event/sunday-gathering-all-saints-pentecost-24
LOCATION:St Andrews Church\, 30 The Terrace\, Wellington\, 6011\, Wellington\, The Terrace\, 6011\, New Zealand
CATEGORIES:Communion,Community gatherings,Sunday gatherings
ATTACH;FMTTYPE=image/jpeg:https://www.standrews.org.nz/wp-content/uploads/2021/11/07-11-2021.jpg
END:VEVENT
BEGIN:VEVENT
DTSTART;TZID=Pacific/Auckland:20211114T100000
DTEND;TZID=Pacific/Auckland:20211114T113000
DTSTAMP:20260420T232826
CREATED:20210805T042815Z
LAST-MODIFIED:20210805T042815Z
UID:38308-1636884000-1636889400@www.standrews.org.nz
SUMMARY:Sunday Gathering - Pentecost 25
DESCRIPTION:
URL:https://www.standrews.org.nz/event/sunday-gathering-pentecost-25
LOCATION:St Andrews Church\, 30 The Terrace\, Wellington\, 6011\, Wellington\, The Terrace\, 6011\, New Zealand
CATEGORIES:Community gatherings,Sunday gatherings
END:VEVENT
BEGIN:VEVENT
DTSTART;TZID=Pacific/Auckland:20211121T100000
DTEND;TZID=Pacific/Auckland:20211121T113000
DTSTAMP:20260420T232826
CREATED:20210805T042934Z
LAST-MODIFIED:20210805T042934Z
UID:38310-1637488800-1637494200@www.standrews.org.nz
SUMMARY:Sunday Gathering - Reign of Christ
DESCRIPTION:
URL:https://www.standrews.org.nz/event/sunday-gathering-reign-of-christ
LOCATION:St Andrews Church\, 30 The Terrace\, Wellington\, 6011\, Wellington\, The Terrace\, 6011\, New Zealand
CATEGORIES:Community gatherings,Sunday gatherings
END:VEVENT
BEGIN:VEVENT
DTSTART;TZID=Pacific/Auckland:20211128T080000
DTEND;TZID=Pacific/Auckland:20211128T170000
DTSTAMP:20260420T232826
CREATED:20210805T044237Z
LAST-MODIFIED:20210805T044237Z
UID:38314-1638086400-1638118800@www.standrews.org.nz
SUMMARY:Sunday Gathering - Advent 1
DESCRIPTION:
URL:https://www.standrews.org.nz/event/sunday-gathering-advent-1
LOCATION:St Andrews Church\, 30 The Terrace\, Wellington\, 6011\, Wellington\, The Terrace\, 6011\, New Zealand
CATEGORIES:Community gatherings,Sunday gatherings
END:VEVENT
END:VCALENDAR