BEGIN:VCALENDAR
VERSION:2.0
PRODID:-//St Andrew&#039;s Church - ECPv6.15.19//NONSGML v1.0//EN
CALSCALE:GREGORIAN
METHOD:PUBLISH
X-WR-CALNAME:St Andrew&#039;s Church
X-ORIGINAL-URL:https://www.standrews.org.nz
X-WR-CALDESC:Events for St Andrew&#039;s Church
REFRESH-INTERVAL;VALUE=DURATION:PT1H
X-Robots-Tag:noindex
X-PUBLISHED-TTL:PT1H
BEGIN:VTIMEZONE
TZID:Pacific/Auckland
BEGIN:STANDARD
TZOFFSETFROM:+1300
TZOFFSETTO:+1200
TZNAME:NZST
DTSTART:20200404T140000
END:STANDARD
BEGIN:DAYLIGHT
TZOFFSETFROM:+1200
TZOFFSETTO:+1300
TZNAME:NZDT
DTSTART:20200926T140000
END:DAYLIGHT
BEGIN:STANDARD
TZOFFSETFROM:+1300
TZOFFSETTO:+1200
TZNAME:NZST
DTSTART:20210403T140000
END:STANDARD
BEGIN:DAYLIGHT
TZOFFSETFROM:+1200
TZOFFSETTO:+1300
TZNAME:NZDT
DTSTART:20210925T140000
END:DAYLIGHT
BEGIN:STANDARD
TZOFFSETFROM:+1300
TZOFFSETTO:+1200
TZNAME:NZST
DTSTART:20220402T140000
END:STANDARD
BEGIN:DAYLIGHT
TZOFFSETFROM:+1200
TZOFFSETTO:+1300
TZNAME:NZDT
DTSTART:20220924T140000
END:DAYLIGHT
END:VTIMEZONE
BEGIN:VEVENT
DTSTART;TZID=Pacific/Auckland:20211003T100000
DTEND;TZID=Pacific/Auckland:20211003T233000
DTSTAMP:20260420T194857
CREATED:20210805T041913Z
LAST-MODIFIED:20211001T030137Z
UID:38294-1633255200-1633303800@www.standrews.org.nz
SUMMARY:Communion Service - Pentecost 19
DESCRIPTION:World Communion Sunday led by Rev. Dr Jim Cunningham
URL:https://www.standrews.org.nz/event/communion-service-pentecost-19
LOCATION:The Terrace
CATEGORIES:Communion,Community gatherings,Sunday gatherings
ATTACH;FMTTYPE=image/jpeg:https://www.standrews.org.nz/wp-content/uploads/2021/10/03-10-2021.jpg
END:VEVENT
BEGIN:VEVENT
DTSTART;TZID=Pacific/Auckland:20211010T100000
DTEND;TZID=Pacific/Auckland:20211010T103000
DTSTAMP:20260420T194857
CREATED:20210805T042019Z
LAST-MODIFIED:20210805T042118Z
UID:38296-1633860000-1633861800@www.standrews.org.nz
SUMMARY:Sunday Gathering - Pentecost 20
DESCRIPTION:
URL:https://www.standrews.org.nz/event/sunday-gathering-pentecost-21
LOCATION:St Andrews Church\, 30 The Terrace\, Wellington\, 6011\, Wellington\, The Terrace\, 6011\, New Zealand
CATEGORIES:Community gatherings,Sunday gatherings
END:VEVENT
BEGIN:VEVENT
DTSTART;TZID=Pacific/Auckland:20211017T100000
DTEND;TZID=Pacific/Auckland:20211017T113000
DTSTAMP:20260420T194857
CREATED:20210805T042218Z
LAST-MODIFIED:20211022T020456Z
UID:38299-1634464800-1634470200@www.standrews.org.nz
SUMMARY:Sunday Gathering - Pentecost 21
DESCRIPTION:Led by Rev. Dr. Jim Cunningham \n  \nPart of the Greek Text of the New Testament
URL:https://www.standrews.org.nz/event/sunday-gathering-pentecost-21-2
LOCATION:The Terrace
CATEGORIES:Community gatherings,Sunday gatherings
ATTACH;FMTTYPE=image/jpeg:https://www.standrews.org.nz/wp-content/uploads/2021/10/17-10-2021.jpg
END:VEVENT
BEGIN:VEVENT
DTSTART;TZID=Pacific/Auckland:20211024T100000
DTEND;TZID=Pacific/Auckland:20211024T233000
DTSTAMP:20260420T194857
CREATED:20210805T042322Z
LAST-MODIFIED:20211022T020213Z
UID:38302-1635069600-1635118200@www.standrews.org.nz
SUMMARY:Sunday Gathering - Pentecost 22
DESCRIPTION:This service is led by Fiona McDougal \n“Woman sowing grain” \nRobert Gwathmey 1949 Fine Arts Museum of San Francisco
URL:https://www.standrews.org.nz/event/sunday-gathering-pentecost-22
LOCATION:The Terrace
CATEGORIES:Community gatherings,Sunday gatherings
ATTACH;FMTTYPE=image/jpeg:https://www.standrews.org.nz/wp-content/uploads/2021/10/24-10-2021.jpg
END:VEVENT
BEGIN:VEVENT
DTSTART;TZID=Pacific/Auckland:20211031T100000
DTEND;TZID=Pacific/Auckland:20211031T113000
DTSTAMP:20260420T194857
CREATED:20210805T042444Z
LAST-MODIFIED:20210805T043340Z
UID:38304-1635674400-1635679800@www.standrews.org.nz
SUMMARY:Sunday Gathering - Pentecost 23
DESCRIPTION:
URL:https://www.standrews.org.nz/event/sunday-gathering-pentecost-23
LOCATION:St Andrews Church\, 30 The Terrace\, Wellington\, 6011\, Wellington\, The Terrace\, 6011\, New Zealand
CATEGORIES:Community gatherings,Sunday gatherings
END:VEVENT
END:VCALENDAR