BEGIN:VCALENDAR
VERSION:2.0
PRODID:-//St Andrew&#039;s Church - ECPv6.15.19//NONSGML v1.0//EN
CALSCALE:GREGORIAN
METHOD:PUBLISH
X-WR-CALNAME:St Andrew&#039;s Church
X-ORIGINAL-URL:https://www.standrews.org.nz
X-WR-CALDESC:Events for St Andrew&#039;s Church
REFRESH-INTERVAL;VALUE=DURATION:PT1H
X-Robots-Tag:noindex
X-PUBLISHED-TTL:PT1H
BEGIN:VTIMEZONE
TZID:Pacific/Auckland
BEGIN:STANDARD
TZOFFSETFROM:+1300
TZOFFSETTO:+1200
TZNAME:NZST
DTSTART:20250405T140000
END:STANDARD
BEGIN:DAYLIGHT
TZOFFSETFROM:+1200
TZOFFSETTO:+1300
TZNAME:NZDT
DTSTART:20250927T140000
END:DAYLIGHT
BEGIN:STANDARD
TZOFFSETFROM:+1300
TZOFFSETTO:+1200
TZNAME:NZST
DTSTART:20260404T140000
END:STANDARD
BEGIN:DAYLIGHT
TZOFFSETFROM:+1200
TZOFFSETTO:+1300
TZNAME:NZDT
DTSTART:20260926T140000
END:DAYLIGHT
BEGIN:STANDARD
TZOFFSETFROM:+1300
TZOFFSETTO:+1200
TZNAME:NZST
DTSTART:20270403T140000
END:STANDARD
BEGIN:DAYLIGHT
TZOFFSETFROM:+1200
TZOFFSETTO:+1300
TZNAME:NZDT
DTSTART:20270925T140000
END:DAYLIGHT
END:VTIMEZONE
BEGIN:VEVENT
DTSTART;TZID=Pacific/Auckland:20260225T121500
DTEND;TZID=Pacific/Auckland:20260225T130000
DTSTAMP:20260421T095232
CREATED:20251111T022223Z
LAST-MODIFIED:20260203T020514Z
UID:43980-1772021700-1772024400@www.standrews.org.nz
SUMMARY:Lunchtime Concert: Quang Hong Luu\, solo piano
DESCRIPTION:Liszt’s famous 12 Transcendental Etudes S. 139 are an example of the pinnacle of Romantic piano literature\, uniting technical complexity with symphonic scope\, thematic transformation and a poetic conception of virtuosity and musicality. Quang Hong Luu is completing his doctorate in piano\, studying with Jian Liu at the New Zealand School of Music.
URL:https://www.standrews.org.nz/event/lunchtime-concert-quang-hong-luu-solo-piano-2
LOCATION:St Andrews Church\, 30 The Terrace\, Wellington\, 6011\, Wellington\, The Terrace\, 6011\, New Zealand
CATEGORIES:Events,Lunch time concerts
ATTACH;FMTTYPE=image/jpeg:https://www.standrews.org.nz/wp-content/uploads/2025/11/33F4B663-8FC3-47D2-BA1F-BE051042A107_1_105_c.jpeg
END:VEVENT
END:VCALENDAR