BEGIN:VCALENDAR
VERSION:2.0
PRODID:-//St Andrew&#039;s Church - ECPv6.15.19//NONSGML v1.0//EN
CALSCALE:GREGORIAN
METHOD:PUBLISH
X-WR-CALNAME:St Andrew&#039;s Church
X-ORIGINAL-URL:https://www.standrews.org.nz
X-WR-CALDESC:Events for St Andrew&#039;s Church
REFRESH-INTERVAL;VALUE=DURATION:PT1H
X-Robots-Tag:noindex
X-PUBLISHED-TTL:PT1H
BEGIN:VTIMEZONE
TZID:Pacific/Auckland
BEGIN:STANDARD
TZOFFSETFROM:+1300
TZOFFSETTO:+1200
TZNAME:NZST
DTSTART:20240406T140000
END:STANDARD
BEGIN:DAYLIGHT
TZOFFSETFROM:+1200
TZOFFSETTO:+1300
TZNAME:NZDT
DTSTART:20240928T140000
END:DAYLIGHT
BEGIN:STANDARD
TZOFFSETFROM:+1300
TZOFFSETTO:+1200
TZNAME:NZST
DTSTART:20250405T140000
END:STANDARD
BEGIN:DAYLIGHT
TZOFFSETFROM:+1200
TZOFFSETTO:+1300
TZNAME:NZDT
DTSTART:20250927T140000
END:DAYLIGHT
BEGIN:STANDARD
TZOFFSETFROM:+1300
TZOFFSETTO:+1200
TZNAME:NZST
DTSTART:20260404T140000
END:STANDARD
BEGIN:DAYLIGHT
TZOFFSETFROM:+1200
TZOFFSETTO:+1300
TZNAME:NZDT
DTSTART:20260926T140000
END:DAYLIGHT
END:VTIMEZONE
BEGIN:VEVENT
DTSTART;TZID=Pacific/Auckland:20250416T121500
DTEND;TZID=Pacific/Auckland:20250416T130000
DTSTAMP:20260422T110300
CREATED:20250105T040840Z
LAST-MODIFIED:20250304T235026Z
UID:42844-1744805700-1744808400@www.standrews.org.nz
SUMMARY:Lunchtime Concert: Duo Enharmonics\, piano duo
DESCRIPTION:Samuel Barber – Souvenirs Op.28 \nI. Waltz\nII. Schottische\nIII. Pas de deux\nIV. Two-Step\nV. Hesitation-Tango\nVI. Galop \nMyroslav Skoryk – Three Extravagant Dances \nI. Entrance and Dance… Almost Hispano-Moresque\nII. Blues… Almost American\nIII. Can-Can… As If From An Old Gramophone Record \n************* \nBIOGRAPHY \nPianists of national acclaim\, Beth Chen and Nicole Chao\, perform together as Duo Enharmonics. With extensive experience both as performers and educators\, they have concertized and taught widely\, including in Germany and the UK. Duo Enharmonics is regularly invited to perform in prestigious concert series and major venues across New Zealand\, with national tours including with Chamber Music New Zealand. \nKnown for their dynamic collaborations\, they frequently perform with members of the New Zealand Symphony Orchestra and the New Zealand String Quartet. Between them\, they have won first prizes in major concerto competitions\, including the National Concerto Competition (NZ) and the North Queensland Piano and Instrumental Concerto Competition (Australia). \nDedicated to nurturing New Zealand’s next generation of musicians\, Beth is an Artist Teacher at the New Zealand School of Music\, Te Kōkī\, while Nicole serves as a mentor and adjudicator for Chamber Music New Zealand. Their repertoire spans both four-hand and two-piano works\, and upcoming performances include Mendelssohn’s Piano Concerto No. 1 for Two Pianos with the Wairua Sinfonietta.
URL:https://www.standrews.org.nz/event/lunchtime-concert-duo-enharmonics-piano-duo-2
LOCATION:St Andrews Church\, 30 The Terrace\, Wellington\, 6011\, Wellington\, The Terrace\, 6011\, New Zealand
CATEGORIES:Lunch time concerts
ATTACH;FMTTYPE=image/jpeg:https://www.standrews.org.nz/wp-content/uploads/2025/01/St-Andrews-photo-Duo-Enharmonics-scaled.jpg
END:VEVENT
END:VCALENDAR