BEGIN:VCALENDAR
VERSION:2.0
PRODID:-//St Andrew&#039;s Church - ECPv6.15.19//NONSGML v1.0//EN
CALSCALE:GREGORIAN
METHOD:PUBLISH
X-WR-CALNAME:St Andrew&#039;s Church
X-ORIGINAL-URL:https://www.standrews.org.nz
X-WR-CALDESC:Events for St Andrew&#039;s Church
REFRESH-INTERVAL;VALUE=DURATION:PT1H
X-Robots-Tag:noindex
X-PUBLISHED-TTL:PT1H
BEGIN:VTIMEZONE
TZID:Pacific/Auckland
BEGIN:STANDARD
TZOFFSETFROM:+1300
TZOFFSETTO:+1200
TZNAME:NZST
DTSTART:20230401T140000
END:STANDARD
BEGIN:DAYLIGHT
TZOFFSETFROM:+1200
TZOFFSETTO:+1300
TZNAME:NZDT
DTSTART:20230923T140000
END:DAYLIGHT
BEGIN:STANDARD
TZOFFSETFROM:+1300
TZOFFSETTO:+1200
TZNAME:NZST
DTSTART:20240406T140000
END:STANDARD
BEGIN:DAYLIGHT
TZOFFSETFROM:+1200
TZOFFSETTO:+1300
TZNAME:NZDT
DTSTART:20240928T140000
END:DAYLIGHT
BEGIN:STANDARD
TZOFFSETFROM:+1300
TZOFFSETTO:+1200
TZNAME:NZST
DTSTART:20250405T140000
END:STANDARD
BEGIN:DAYLIGHT
TZOFFSETFROM:+1200
TZOFFSETTO:+1300
TZNAME:NZDT
DTSTART:20250927T140000
END:DAYLIGHT
END:VTIMEZONE
BEGIN:VEVENT
DTSTART;TZID=Pacific/Auckland:20241106T121500
DTEND;TZID=Pacific/Auckland:20241106T130000
DTSTAMP:20260421T040812
CREATED:20240109T215558Z
LAST-MODIFIED:20241008T235709Z
UID:41330-1730895300-1730898000@www.standrews.org.nz
SUMMARY:Lunchtime Concert: Stringendo - Wellington Children’s Orchestra
DESCRIPTION:Stringendo – Wellington Children’s Orchestra\nSt Andrew’s on The Terrace\, Wednesday\, November 6th\, 12:15pm\, koha \nThis training orchestra for school-aged string players founded by Donald Maurice and Rupa Maitra\, offers early-level musicians the opportunity to develop skills in a fun and inclusive environment. Directed by Alex Vaatstra and Hilary Ferrald.
URL:https://www.standrews.org.nz/event/lunchtime-concert-stringendo-wellington-childrens-orchestra
LOCATION:St Andrews Church\, 30 The Terrace\, Wellington\, 6011\, Wellington\, The Terrace\, 6011\, New Zealand
CATEGORIES:Lunch time concerts
END:VEVENT
END:VCALENDAR