BEGIN:VCALENDAR
VERSION:2.0
PRODID:-//St Andrew&#039;s Church - ECPv6.15.19//NONSGML v1.0//EN
CALSCALE:GREGORIAN
METHOD:PUBLISH
X-WR-CALNAME:St Andrew&#039;s Church
X-ORIGINAL-URL:https://www.standrews.org.nz
X-WR-CALDESC:Events for St Andrew&#039;s Church
REFRESH-INTERVAL;VALUE=DURATION:PT1H
X-Robots-Tag:noindex
X-PUBLISHED-TTL:PT1H
BEGIN:VTIMEZONE
TZID:Pacific/Auckland
BEGIN:STANDARD
TZOFFSETFROM:+1300
TZOFFSETTO:+1200
TZNAME:NZST
DTSTART:20230401T140000
END:STANDARD
BEGIN:DAYLIGHT
TZOFFSETFROM:+1200
TZOFFSETTO:+1300
TZNAME:NZDT
DTSTART:20230923T140000
END:DAYLIGHT
BEGIN:STANDARD
TZOFFSETFROM:+1300
TZOFFSETTO:+1200
TZNAME:NZST
DTSTART:20240406T140000
END:STANDARD
BEGIN:DAYLIGHT
TZOFFSETFROM:+1200
TZOFFSETTO:+1300
TZNAME:NZDT
DTSTART:20240928T140000
END:DAYLIGHT
BEGIN:STANDARD
TZOFFSETFROM:+1300
TZOFFSETTO:+1200
TZNAME:NZST
DTSTART:20250405T140000
END:STANDARD
BEGIN:DAYLIGHT
TZOFFSETFROM:+1200
TZOFFSETTO:+1300
TZNAME:NZDT
DTSTART:20250927T140000
END:DAYLIGHT
END:VTIMEZONE
BEGIN:VEVENT
DTSTART;TZID=Pacific/Auckland:20240403T121500
DTEND;TZID=Pacific/Auckland:20240403T130000
DTSTAMP:20260426T100448
CREATED:20231219T011306Z
LAST-MODIFIED:20240402T203113Z
UID:41225-1712146500-1712149200@www.standrews.org.nz
SUMMARY:START DELAYED UNTIL 1PM Lunchtime Concert: Henry Meng\, solo piano
DESCRIPTION:Henry Meng is a pianist and composer studying at the University of Auckland. His piano tutors include Rae de Lisle and Stephen de Pledge. He has performed with the Auckland Philharmonia and Christchurch Symphony Orchestra. With the CSO\, he won second prize in the 2023 National Concerto Competition. As a composer\, he has had the great joy of hearing his works played by the Auckland Philharmonia and the New Zealand Symphony Orchestra. In 2023\, Henry won the NZSO’s TODD Young Composer’s Award with a composition featured in the NZSO’s 2024 concert season. \n– Joseph Haydn: Piano sonata in B minor\, Hob. XVI: 32\n– Maurice Ravel: Scarbo\n– Samuel Barber: Sonata for Piano\n– Henry Meng: Abyss \n 
URL:https://www.standrews.org.nz/event/lunchtime-concert-henry-meng-solo-piano
LOCATION:St Andrews Church\, 30 The Terrace\, Wellington\, 6011\, Wellington\, The Terrace\, 6011\, New Zealand
CATEGORIES:Lunch time concerts
ATTACH;FMTTYPE=image/jpeg:https://www.standrews.org.nz/wp-content/uploads/2023/12/240403-Henry-Meng-headshot-compressed-scaled.jpg
END:VEVENT
END:VCALENDAR