BEGIN:VCALENDAR
VERSION:2.0
PRODID:-//St Andrew&#039;s Church - ECPv6.15.19//NONSGML v1.0//EN
CALSCALE:GREGORIAN
METHOD:PUBLISH
X-WR-CALNAME:St Andrew&#039;s Church
X-ORIGINAL-URL:https://www.standrews.org.nz
X-WR-CALDESC:Events for St Andrew&#039;s Church
REFRESH-INTERVAL;VALUE=DURATION:PT1H
X-Robots-Tag:noindex
X-PUBLISHED-TTL:PT1H
BEGIN:VTIMEZONE
TZID:Pacific/Auckland
BEGIN:STANDARD
TZOFFSETFROM:+1300
TZOFFSETTO:+1200
TZNAME:NZST
DTSTART:20240406T140000
END:STANDARD
BEGIN:DAYLIGHT
TZOFFSETFROM:+1200
TZOFFSETTO:+1300
TZNAME:NZDT
DTSTART:20240928T140000
END:DAYLIGHT
BEGIN:STANDARD
TZOFFSETFROM:+1300
TZOFFSETTO:+1200
TZNAME:NZST
DTSTART:20250405T140000
END:STANDARD
BEGIN:DAYLIGHT
TZOFFSETFROM:+1200
TZOFFSETTO:+1300
TZNAME:NZDT
DTSTART:20250927T140000
END:DAYLIGHT
BEGIN:STANDARD
TZOFFSETFROM:+1300
TZOFFSETTO:+1200
TZNAME:NZST
DTSTART:20260404T140000
END:STANDARD
BEGIN:DAYLIGHT
TZOFFSETFROM:+1200
TZOFFSETTO:+1300
TZNAME:NZDT
DTSTART:20260926T140000
END:DAYLIGHT
END:VTIMEZONE
BEGIN:VEVENT
DTSTART;TZID=Pacific/Auckland:20250402T121500
DTEND;TZID=Pacific/Auckland:20250402T130000
DTSTAMP:20260420T102338
CREATED:20250105T040732Z
LAST-MODIFIED:20250327T001359Z
UID:42840-1743596100-1743598800@www.standrews.org.nz
SUMMARY:Lunchtime Concert: Helene Pohl and Rolf Gjelsten with Nadja Mijatovic-Sekicki Music by Schumann\, Messiaen and Poulenc
DESCRIPTION:Adagio and Allegro – R Schumann \nRolf Gjelsten\, cello \nNadja Milatovic-Sekicki\, piano \n  \nTheme and Variations – O Messiaen \nHelene Pohl\, violin \nNadja Milatovic-Sekicki\, piano \n  \nSonata for violin and piano – F Poulenc \nHelene Pohl\, violin \nNadja Milatovic-Sekicki\, piano \n  \nSchumann’s delicious character pieces “Adagio and Allegro” were originally written for horn and titled “Romance and Allegro. “  The great Olivier Messiaen wrote his Theme and Variations as a loving wedding present for his violinist wife. And the powerful violin and piano sonata by Francis Poulenc was written upon the urging of legendary violinist Ginette Neveu and dedicated to the memory of Spanish poet Federico Lorca. While it retains aspects of the cabaret sound we associate with the party-loving Poulenc\, it also features Spanish motifs and moments of real tragedy.  Both the Messiaen and Poulenc are rarely heard masterpieces.
URL:https://www.standrews.org.nz/event/lunchtime-concert-helene-pohl-rolf-gjelsten-chamber-music-potpourri
LOCATION:St Andrews Church\, 30 The Terrace\, Wellington\, 6011\, Wellington\, The Terrace\, 6011\, New Zealand
CATEGORIES:Lunch time concerts
ATTACH;FMTTYPE=image/jpeg:https://www.standrews.org.nz/wp-content/uploads/2025/01/Capture.jpg
END:VEVENT
BEGIN:VEVENT
DTSTART;TZID=Pacific/Auckland:20250409T121500
DTEND;TZID=Pacific/Auckland:20250409T130000
DTSTAMP:20260420T102338
CREATED:20250105T040810Z
LAST-MODIFIED:20250225T230742Z
UID:42842-1744200900-1744203600@www.standrews.org.nz
SUMMARY:Lunchtime Concert: Samuel Jeon\, solo piano
DESCRIPTION:Programme: \nSonatine (1947) – Carlos Guastavino \nSarcasms\, Op.17 — Sergei Prokofiev\nTempestoso\nAllegro rubato\nAllegro precipitato\nSmanioso\nPrecipitosissimo — Andantino \nAnnées de pèlerinage II\, Supplément\, S.162 — Franz Liszt\n“Venezia e Napoli”\nGondoliera\nCanzone\nTarantella \nSamuel Woosol Jeon (b. 2003) is a Christchurch-born pianist currently studying at the Sydney Conservatorium of Music under Dr. Natalia Ricci. He began piano at five with his aunt\, later training with Michael Endres\, earning dip ABRSM\, LRSM\, and FTCL diplomas. He won the 2018 Ruby Hay Pianoforte Scholarship\, reached the NZCT Chamber Music Contest finals multiple times\, and won in 2021. In 2024\, he won the University of Sydney Concerto Competition\, earning a performance with the Sydney Conservatorium Symphony Orchestra. Samuel has participated in masterclasses with esteemed pianists and was a Sydney Eisteddfod semi-finalist. Supported by the Henderson’s Traveller’s Scholarship and Dr. Jack Richards\, he attended the Disentis Summer Academy and Blonay Summer Music Festival in Switzerland\, studying with renowned artists Sergei Edelmann\, Konstantin Scherbakov\, and Edith Fischer. His continued success highlights his dedication and growing presence in the international classical music scene.
URL:https://www.standrews.org.nz/event/lunchtime-concert-samuel-jeon-solo-piano
LOCATION:St Andrews Church\, 30 The Terrace\, Wellington\, 6011\, Wellington\, The Terrace\, 6011\, New Zealand
CATEGORIES:Lunch time concerts
ATTACH;FMTTYPE=image/jpeg:https://www.standrews.org.nz/wp-content/uploads/2025/01/St-Andrews-photo-Samuel-Jeon--scaled.jpg
END:VEVENT
BEGIN:VEVENT
DTSTART;TZID=Pacific/Auckland:20250416T121500
DTEND;TZID=Pacific/Auckland:20250416T130000
DTSTAMP:20260420T102338
CREATED:20250105T040840Z
LAST-MODIFIED:20250304T235026Z
UID:42844-1744805700-1744808400@www.standrews.org.nz
SUMMARY:Lunchtime Concert: Duo Enharmonics\, piano duo
DESCRIPTION:Samuel Barber – Souvenirs Op.28 \nI. Waltz\nII. Schottische\nIII. Pas de deux\nIV. Two-Step\nV. Hesitation-Tango\nVI. Galop \nMyroslav Skoryk – Three Extravagant Dances \nI. Entrance and Dance… Almost Hispano-Moresque\nII. Blues… Almost American\nIII. Can-Can… As If From An Old Gramophone Record \n************* \nBIOGRAPHY \nPianists of national acclaim\, Beth Chen and Nicole Chao\, perform together as Duo Enharmonics. With extensive experience both as performers and educators\, they have concertized and taught widely\, including in Germany and the UK. Duo Enharmonics is regularly invited to perform in prestigious concert series and major venues across New Zealand\, with national tours including with Chamber Music New Zealand. \nKnown for their dynamic collaborations\, they frequently perform with members of the New Zealand Symphony Orchestra and the New Zealand String Quartet. Between them\, they have won first prizes in major concerto competitions\, including the National Concerto Competition (NZ) and the North Queensland Piano and Instrumental Concerto Competition (Australia). \nDedicated to nurturing New Zealand’s next generation of musicians\, Beth is an Artist Teacher at the New Zealand School of Music\, Te Kōkī\, while Nicole serves as a mentor and adjudicator for Chamber Music New Zealand. Their repertoire spans both four-hand and two-piano works\, and upcoming performances include Mendelssohn’s Piano Concerto No. 1 for Two Pianos with the Wairua Sinfonietta.
URL:https://www.standrews.org.nz/event/lunchtime-concert-duo-enharmonics-piano-duo-2
LOCATION:St Andrews Church\, 30 The Terrace\, Wellington\, 6011\, Wellington\, The Terrace\, 6011\, New Zealand
CATEGORIES:Lunch time concerts
ATTACH;FMTTYPE=image/jpeg:https://www.standrews.org.nz/wp-content/uploads/2025/01/St-Andrews-photo-Duo-Enharmonics-scaled.jpg
END:VEVENT
BEGIN:VEVENT
DTSTART;TZID=Pacific/Auckland:20250430T121500
DTEND;TZID=Pacific/Auckland:20250430T130000
DTSTAMP:20260420T102338
CREATED:20250105T040919Z
LAST-MODIFIED:20250415T012336Z
UID:42846-1746015300-1746018000@www.standrews.org.nz
SUMMARY:Lunchtime Concert: Koru Trio - Music by Smetana and Dvorak
DESCRIPTION:Programme \nA. Dvořák – Silent Woods (Waldesruhe) op.68 no.5 for cello and piano \nB. Smetana – Piano Trio in g minor op.15 \nThe Koru Trio was formed in 2011 by Rachel\, Anne and Sally—three colleagues and friends—while waiting in an airport lounge during a tour with the New Zealand Symphony Orchestra. United by a shared passion for chamber music\, they set out to explore some of the most beloved works in the piano trio repertoire. Since then\, they have enjoyed performing music by Beethoven\, Schubert\, Shostakovich\, Brahms\, Dvořák\, Mendelssohn\, Haydn\, and many others. \nAnne Loeser studied violin in Frankfurt and played in the  Beethoven Orchestra Bonn\, the Hesse State Theatre Orchestra in Wiesbaden and the award-winning Orfeo Quartet. She moved to New Zealand from Germany in 2000 to join the First violin section of the New Zealand Symphony Orchestra. Since then she has left a mark on the New Zealand music scene as a soloist and chamber musician. She is leader and musical director of Camerata\, concert master of Days Bay Opera and has been a regular guest concertmaster of the Hawke’s Bay Orchestra and recently guest concertmaster for Dunedin Symphony Orchestra. She is also an active performer on baroque violin\, leading the Orion Quartet and performing several cycles of Biber’s Rosary Sonatas\, including a well received RNZ Concert broadcast. \nSally Isaac is approaching her 20 year anniversary in the NZSO after joining in 2005. She became a member of the cello section shortly after graduating from Cleveland Institute of Music with a Masters of Music degree. She also holds a Bachelor of Music degree from the Australian National University in her hometown of Canberra\, Australia. Sally was a fellowship recipient at the Tanglewood Music Center\, USA\, for the 2004 Summer Festival and has been a member of the Canberra\, Akron and Canton symphony orchestras. Sally also enjoys teaching a small number of young students\, while also balancing those commitments with being the resident practice coach for her own children’s instrumental lessons. \nRachel Thomson was born in Dunedin\, New Zealand\, and grew up in Wellington where she began her piano studies with her mother. She went on to study with Judith Clark\, graduating from Victoria University of Wellington before continuing her studies at the Cleveland Institute of Music in the United States\, where she gained a doctorate in piano performance. Rachel regularly performs with some of the country’s leading musicians and has toured on numerous occasions for Chamber Music New Zealand. She has worked as an orchestral pianist with the NZSO\, Orchestra Wellington\, and the Christchurch Symphony Orchestra. Rachel is also active as a teacher\, adjudicator and accompanist\, and is a music examiner for Trinity College London. She enjoys the variety of work that comes her way\, and spending time with her family and boomeranging children when she can!
URL:https://www.standrews.org.nz/event/lunchtime-concert-koru-trio
LOCATION:St Andrews Church\, 30 The Terrace\, Wellington\, 6011\, Wellington\, The Terrace\, 6011\, New Zealand
CATEGORIES:Lunch time concerts
ATTACH;FMTTYPE=image/jpeg:https://www.standrews.org.nz/wp-content/uploads/2025/01/St-Andrews-photo-Koru-scaled.jpg
END:VEVENT
END:VCALENDAR