BEGIN:VCALENDAR
VERSION:2.0
PRODID:-//St Andrew&#039;s Church - ECPv6.15.19//NONSGML v1.0//EN
CALSCALE:GREGORIAN
METHOD:PUBLISH
X-WR-CALNAME:St Andrew&#039;s Church
X-ORIGINAL-URL:https://www.standrews.org.nz
X-WR-CALDESC:Events for St Andrew&#039;s Church
REFRESH-INTERVAL;VALUE=DURATION:PT1H
X-Robots-Tag:noindex
X-PUBLISHED-TTL:PT1H
BEGIN:VTIMEZONE
TZID:Pacific/Auckland
BEGIN:STANDARD
TZOFFSETFROM:+1300
TZOFFSETTO:+1200
TZNAME:NZST
DTSTART:20220402T140000
END:STANDARD
BEGIN:DAYLIGHT
TZOFFSETFROM:+1200
TZOFFSETTO:+1300
TZNAME:NZDT
DTSTART:20220924T140000
END:DAYLIGHT
BEGIN:STANDARD
TZOFFSETFROM:+1300
TZOFFSETTO:+1200
TZNAME:NZST
DTSTART:20230401T140000
END:STANDARD
BEGIN:DAYLIGHT
TZOFFSETFROM:+1200
TZOFFSETTO:+1300
TZNAME:NZDT
DTSTART:20230923T140000
END:DAYLIGHT
BEGIN:STANDARD
TZOFFSETFROM:+1300
TZOFFSETTO:+1200
TZNAME:NZST
DTSTART:20240406T140000
END:STANDARD
BEGIN:DAYLIGHT
TZOFFSETFROM:+1200
TZOFFSETTO:+1300
TZNAME:NZDT
DTSTART:20240928T140000
END:DAYLIGHT
END:VTIMEZONE
BEGIN:VEVENT
DTSTART;TZID=Pacific/Auckland:20230802T121500
DTEND;TZID=Pacific/Auckland:20230802T130000
DTSTAMP:20260423T175317
CREATED:20221209T011256Z
LAST-MODIFIED:20230625T223126Z
UID:39953-1690978500-1690981200@www.standrews.org.nz
SUMMARY:Lunchtime Concert: Altissime - Samuel Marsden Collegiate Choir
DESCRIPTION:
URL:https://www.standrews.org.nz/event/simon-christie-voice-and-emma-sayers-piano-brahms-lieder-opus-32
LOCATION:St Andrews Church\, 30 The Terrace\, Wellington\, 6011\, Wellington\, The Terrace\, 6011\, New Zealand
CATEGORIES:Lunch time concerts
ATTACH;FMTTYPE=image/jpeg:https://www.standrews.org.nz/wp-content/uploads/2023/06/St-Andrews-photo-Altissime-2-Aug-23-scaled.jpg
END:VEVENT
BEGIN:VEVENT
DTSTART;TZID=Pacific/Auckland:20230803T121500
DTEND;TZID=Pacific/Auckland:20230803T130000
DTSTAMP:20260423T175317
CREATED:20221209T011654Z
LAST-MODIFIED:20230423T222004Z
UID:39955-1691064900-1691067600@www.standrews.org.nz
SUMMARY:Lunchtime Concert: Classical Voice Students of the NZSM
DESCRIPTION:
URL:https://www.standrews.org.nz/event/classical-voice-students-of-the-nzsm-7
LOCATION:St Andrews Church\, 30 The Terrace\, Wellington\, 6011\, Wellington\, The Terrace\, 6011\, New Zealand
CATEGORIES:Lunch time concerts
END:VEVENT
BEGIN:VEVENT
DTSTART;TZID=Pacific/Auckland:20230809T121500
DTEND;TZID=Pacific/Auckland:20230809T130000
DTSTAMP:20260423T175317
CREATED:20221209T011748Z
LAST-MODIFIED:20230808T031452Z
UID:39957-1691583300-1691586000@www.standrews.org.nz
SUMMARY:Lunchtime Concert: Inbal Megiddo\, cello and Paul Altomari\, double bass
DESCRIPTION:Join us for a beautiful cello and double bass recital given by Inbal Megiddo\, cello and Paul Altomari\, double bass performing J. S. Bach’s Cello Suite No. 2 in D minor\, O’Connor’s Appalachia Waltz\, Souvenirs de Bellini by Goltermann and works by Barrière and Dejardin.
URL:https://www.standrews.org.nz/event/inbal-megiddo-cello-and-paul-altomari-double-bass
LOCATION:St Andrews Church\, 30 The Terrace\, Wellington\, 6011\, Wellington\, The Terrace\, 6011\, New Zealand
CATEGORIES:Lunch time concerts
ATTACH;FMTTYPE=image/jpeg:https://www.standrews.org.nz/wp-content/uploads/2023/08/Inbal-and-Paul-9-Aug-23.jpeg
END:VEVENT
BEGIN:VEVENT
DTSTART;TZID=Pacific/Auckland:20230816T121500
DTEND;TZID=Pacific/Auckland:20230816T130000
DTSTAMP:20260423T175317
CREATED:20221209T012115Z
LAST-MODIFIED:20230731T233328Z
UID:39959-1692188100-1692190800@www.standrews.org.nz
SUMMARY:Lunchtime Concert: Martin Riseley\, violin
DESCRIPTION:
URL:https://www.standrews.org.nz/event/martin-riseley-violin
LOCATION:St Andrews Church\, 30 The Terrace\, Wellington\, 6011\, Wellington\, The Terrace\, 6011\, New Zealand
CATEGORIES:Lunch time concerts
ATTACH;FMTTYPE=image/jpeg:https://www.standrews.org.nz/wp-content/uploads/2022/12/St-Andrews-photo-Martin-Riseley-16-Aug-23-scaled.jpg
END:VEVENT
BEGIN:VEVENT
DTSTART;TZID=Pacific/Auckland:20230823T121500
DTEND;TZID=Pacific/Auckland:20230823T130000
DTSTAMP:20260423T175317
CREATED:20221209T012303Z
LAST-MODIFIED:20230718T023806Z
UID:39961-1692792900-1692795600@www.standrews.org.nz
SUMMARY:Lunchtime Concert: NZ School of Music - Wind/Brass
DESCRIPTION:
URL:https://www.standrews.org.nz/event/shannon-pittaway-bass-trombone
LOCATION:St Andrews Church\, 30 The Terrace\, Wellington\, 6011\, Wellington\, The Terrace\, 6011\, New Zealand
CATEGORIES:Lunch time concerts
END:VEVENT
BEGIN:VEVENT
DTSTART;TZID=Pacific/Auckland:20230830T121500
DTEND;TZID=Pacific/Auckland:20230830T130000
DTSTAMP:20260423T175317
CREATED:20221209T035633Z
LAST-MODIFIED:20230731T233731Z
UID:39970-1693397700-1693400400@www.standrews.org.nz
SUMMARY:Lunchtime Concert: Duo Enharmonics – Beth Chen and Nicole Chao
DESCRIPTION:
URL:https://www.standrews.org.nz/event/duo-enharmonics-beth-chen-and-nicole-chao
LOCATION:St Andrews Church\, 30 The Terrace\, Wellington\, 6011\, Wellington\, The Terrace\, 6011\, New Zealand
CATEGORIES:Lunch time concerts
ATTACH;FMTTYPE=image/jpeg:https://www.standrews.org.nz/wp-content/uploads/2022/12/St-Andrews-photo-Duo-Enharmonics-new-30-Aug-23-scaled.jpeg
END:VEVENT
END:VCALENDAR