BEGIN:VCALENDAR
VERSION:2.0
PRODID:-//St Andrew&#039;s Church - ECPv6.15.19//NONSGML v1.0//EN
CALSCALE:GREGORIAN
METHOD:PUBLISH
X-ORIGINAL-URL:https://www.standrews.org.nz
X-WR-CALDESC:Events for St Andrew&#039;s Church
REFRESH-INTERVAL;VALUE=DURATION:PT1H
X-Robots-Tag:noindex
X-PUBLISHED-TTL:PT1H
BEGIN:VTIMEZONE
TZID:Pacific/Auckland
BEGIN:STANDARD
TZOFFSETFROM:+1300
TZOFFSETTO:+1200
TZNAME:NZST
DTSTART:20220402T140000
END:STANDARD
BEGIN:DAYLIGHT
TZOFFSETFROM:+1200
TZOFFSETTO:+1300
TZNAME:NZDT
DTSTART:20220924T140000
END:DAYLIGHT
BEGIN:STANDARD
TZOFFSETFROM:+1300
TZOFFSETTO:+1200
TZNAME:NZST
DTSTART:20230401T140000
END:STANDARD
BEGIN:DAYLIGHT
TZOFFSETFROM:+1200
TZOFFSETTO:+1300
TZNAME:NZDT
DTSTART:20230923T140000
END:DAYLIGHT
BEGIN:STANDARD
TZOFFSETFROM:+1300
TZOFFSETTO:+1200
TZNAME:NZST
DTSTART:20240406T140000
END:STANDARD
BEGIN:DAYLIGHT
TZOFFSETFROM:+1200
TZOFFSETTO:+1300
TZNAME:NZDT
DTSTART:20240928T140000
END:DAYLIGHT
END:VTIMEZONE
BEGIN:VEVENT
DTSTART;TZID=Pacific/Auckland:20230503T121500
DTEND;TZID=Pacific/Auckland:20230503T130000
DTSTAMP:20260423T214251
CREATED:20221121T032845Z
LAST-MODIFIED:20230425T224353Z
UID:39891-1683116100-1683118800@www.standrews.org.nz
SUMMARY:Lunchtime Concert: Ben Kennedy\, solo piano
DESCRIPTION:Mozart: Sonata no. 14 in C minor\, kv. 457 \nLiszt: Après une lecture du Dante\, Fantasia Quasi Sonata
URL:https://www.standrews.org.nz/event/ben-kennedy-solo-piano
LOCATION:St Andrews Church\, 30 The Terrace\, Wellington\, 6011\, Wellington\, The Terrace\, 6011\, New Zealand
CATEGORIES:Lunch time concerts
END:VEVENT
BEGIN:VEVENT
DTSTART;TZID=Pacific/Auckland:20230510T121500
DTEND;TZID=Pacific/Auckland:20230510T130000
DTSTAMP:20260423T214251
CREATED:20221121T034203Z
LAST-MODIFIED:20230423T220912Z
UID:39893-1683720900-1683723600@www.standrews.org.nz
SUMMARY:Lunchtime Concert: NZSM Classical Guitar Students
DESCRIPTION:A combination of classical guitar quartet\, trio and duo music from the classical\, romantic and 20th centuries\, including tango’esque music by Pujol and up-beat contemporary music in homage to David Bowie by Australian composer Marian Budos.
URL:https://www.standrews.org.nz/event/nzsm-classical-guitar-students
LOCATION:St Andrews Church\, 30 The Terrace\, Wellington\, 6011\, Wellington\, The Terrace\, 6011\, New Zealand
CATEGORIES:Lunch time concerts
END:VEVENT
BEGIN:VEVENT
DTSTART;TZID=Pacific/Auckland:20230517T121500
DTEND;TZID=Pacific/Auckland:20230517T130000
DTSTAMP:20260423T214251
CREATED:20221121T034336Z
LAST-MODIFIED:20230512T023751Z
UID:39895-1684325700-1684328400@www.standrews.org.nz
SUMMARY:Lunchtime Concert: Orion String Quartet
DESCRIPTION:A common interest in historically informed performance practice brought the Orion Quartet together to explore classical string quartets on period instruments. \nSince their first house concert in October 2016\, the quartet has performed many times in Wellington and has been proactive in masterclasses\, lessons and workshops with internationally renowned period instrument artists such as Sigiswald Kuijken (Holland)\, Aisslinn Nosky (Canada) and Catherine Mackintosh (England). \nConsisting of players from the NZSO and Orchestra Wellington\, the Orion quartet members get a lot of satisfaction from this music and look forward to sharing this beautiful music with you. \nAnne Loeser\, violin\nRebecca Struthers\, violin\nSophia Acheson\, viola\nJane Young\, cello \nF.J.Haydn Quartet Op.76 no.3 in C major “Emperor”\nAllegro – Poco adagio Cantabile – Menuett Allegro\, Trio – Finale Presto
URL:https://www.standrews.org.nz/event/orion-string-quartet
LOCATION:St Andrews Church\, 30 The Terrace\, Wellington\, 6011\, Wellington\, The Terrace\, 6011\, New Zealand
CATEGORIES:Lunch time concerts
ATTACH;FMTTYPE=image/jpeg:https://www.standrews.org.nz/wp-content/uploads/2022/11/17-May-Lunchtime-Concert-scaled.jpg
END:VEVENT
BEGIN:VEVENT
DTSTART;TZID=Pacific/Auckland:20230518T121500
DTEND;TZID=Pacific/Auckland:20230518T130000
DTSTAMP:20260423T214251
CREATED:20221121T034450Z
LAST-MODIFIED:20230512T023110Z
UID:39897-1684412100-1684414800@www.standrews.org.nz
SUMMARY:Lunchtime Concert: NZSM Brass Ensemble Concert
DESCRIPTION:The NZSM Brass Ensemble presents a lunchtime concert of interesting and easily digestible repertoire. Shannon Pittaway (Head of Brass at NZSM) will lead the ensemble through works such as Howarth’s atmospheric imagining of “Greensleeves” and a brass adaptation of Gershwin’s “Three Preludes”. Two original compositions by Jan Koetsier and Raymond Premru form the core of the programme and were inspired by the famous British ensemble “The Philip Jones Brass Ensemble”
URL:https://www.standrews.org.nz/event/nzsm-brass-ensemble-concert
LOCATION:St Andrews Church\, 30 The Terrace\, Wellington\, 6011\, Wellington\, The Terrace\, 6011\, New Zealand
CATEGORIES:Lunch time concerts
END:VEVENT
BEGIN:VEVENT
DTSTART;TZID=Pacific/Auckland:20230524T121500
DTEND;TZID=Pacific/Auckland:20230524T130000
DTSTAMP:20260423T214251
CREATED:20230202T024244Z
LAST-MODIFIED:20230509T020600Z
UID:40120-1684930500-1684933200@www.standrews.org.nz
SUMMARY:Lunchtime Concert: Kirstin Eade (flute)\, Beth Chen (piano)\, Malcolm Struthers (bass) and Lenny Sakofsky (percussion)
DESCRIPTION:Sonata in E Major\, BWV 1035 for Flute and Piano – JS Bach\nSonata No. 1 in A Major for Flute and Piano – Philippe Gaubert\nAsha-bandha (Hope against Hope) for Flute and Piano – Sarah Ballard\nVeloce Pt. 1 from Suite for Flute and Jazz Piano Trio – Claude Bolling
URL:https://www.standrews.org.nz/event/kirstin-eade-and-beth-chen-flute-and-piano
LOCATION:St Andrews Church\, 30 The Terrace\, Wellington\, 6011\, Wellington\, The Terrace\, 6011\, New Zealand
CATEGORIES:Lunch time concerts
ATTACH;FMTTYPE=image/jpeg:https://www.standrews.org.nz/wp-content/uploads/2023/02/St-Andrews-photo-Beth-and-group-scaled.jpg
END:VEVENT
BEGIN:VEVENT
DTSTART;TZID=Pacific/Auckland:20230531T121500
DTEND;TZID=Pacific/Auckland:20230531T130000
DTSTAMP:20260423T214251
CREATED:20221121T034756Z
LAST-MODIFIED:20230423T221141Z
UID:39899-1685535300-1685538000@www.standrews.org.nz
SUMMARY:Lunchtime Concert: NZSM Piano showcase
DESCRIPTION:
URL:https://www.standrews.org.nz/event/nzsm-piano-showcase-4
LOCATION:St Andrews Church\, 30 The Terrace\, Wellington\, 6011\, Wellington\, The Terrace\, 6011\, New Zealand
CATEGORIES:Lunch time concerts
END:VEVENT
END:VCALENDAR