BEGIN:VCALENDAR
VERSION:2.0
PRODID:-//St Andrew&#039;s Church - ECPv6.15.19//NONSGML v1.0//EN
CALSCALE:GREGORIAN
METHOD:PUBLISH
X-WR-CALNAME:St Andrew&#039;s Church
X-ORIGINAL-URL:https://www.standrews.org.nz
X-WR-CALDESC:Events for St Andrew&#039;s Church
REFRESH-INTERVAL;VALUE=DURATION:PT1H
X-Robots-Tag:noindex
X-PUBLISHED-TTL:PT1H
BEGIN:VTIMEZONE
TZID:Australia/Sydney
BEGIN:STANDARD
TZOFFSETFROM:+1100
TZOFFSETTO:+1000
TZNAME:AEST
DTSTART:20170401T160000
END:STANDARD
BEGIN:DAYLIGHT
TZOFFSETFROM:+1000
TZOFFSETTO:+1100
TZNAME:AEDT
DTSTART:20170930T160000
END:DAYLIGHT
BEGIN:STANDARD
TZOFFSETFROM:+1100
TZOFFSETTO:+1000
TZNAME:AEST
DTSTART:20180331T160000
END:STANDARD
BEGIN:DAYLIGHT
TZOFFSETFROM:+1000
TZOFFSETTO:+1100
TZNAME:AEDT
DTSTART:20181006T160000
END:DAYLIGHT
BEGIN:STANDARD
TZOFFSETFROM:+1100
TZOFFSETTO:+1000
TZNAME:AEST
DTSTART:20190406T160000
END:STANDARD
BEGIN:DAYLIGHT
TZOFFSETFROM:+1000
TZOFFSETTO:+1100
TZNAME:AEDT
DTSTART:20191005T160000
END:DAYLIGHT
END:VTIMEZONE
BEGIN:VEVENT
DTSTART;TZID=Australia/Sydney:20181025T190000
DTEND;TZID=Australia/Sydney:20181025T213000
DTSTAMP:20260421T024758
CREATED:20180427T234452Z
LAST-MODIFIED:20180427T234834Z
UID:33278-1540494000-1540503000@www.standrews.org.nz
SUMMARY:Parish Council Meeting
DESCRIPTION:The St Andrew’s on the Terrace Parish Council meets in the St Andrew’s Centre for its monthly meeting from 7pm.  To get any information to the Council before its meeting contact the Centre Manager.
URL:https://www.standrews.org.nz/event/parish-council-meeting-6
LOCATION:The Terrace
CATEGORIES:Events
ATTACH;FMTTYPE=image/png:https://www.standrews.org.nz/wp-content/uploads/2016/11/st-andrews-on-the-terrace-logo-250px.png
END:VEVENT
END:VCALENDAR