BEGIN:VCALENDAR
VERSION:2.0
PRODID:-//St Andrew&#039;s Church - ECPv6.15.19//NONSGML v1.0//EN
CALSCALE:GREGORIAN
METHOD:PUBLISH
X-ORIGINAL-URL:https://www.standrews.org.nz
X-WR-CALDESC:Events for St Andrew&#039;s Church
REFRESH-INTERVAL;VALUE=DURATION:PT1H
X-Robots-Tag:noindex
X-PUBLISHED-TTL:PT1H
BEGIN:VTIMEZONE
TZID:Australia/Sydney
BEGIN:STANDARD
TZOFFSETFROM:+1100
TZOFFSETTO:+1000
TZNAME:AEST
DTSTART:20170401T160000
END:STANDARD
BEGIN:DAYLIGHT
TZOFFSETFROM:+1000
TZOFFSETTO:+1100
TZNAME:AEDT
DTSTART:20170930T160000
END:DAYLIGHT
BEGIN:STANDARD
TZOFFSETFROM:+1100
TZOFFSETTO:+1000
TZNAME:AEST
DTSTART:20180331T160000
END:STANDARD
BEGIN:DAYLIGHT
TZOFFSETFROM:+1000
TZOFFSETTO:+1100
TZNAME:AEDT
DTSTART:20181006T160000
END:DAYLIGHT
BEGIN:STANDARD
TZOFFSETFROM:+1100
TZOFFSETTO:+1000
TZNAME:AEST
DTSTART:20190406T160000
END:STANDARD
BEGIN:DAYLIGHT
TZOFFSETFROM:+1000
TZOFFSETTO:+1100
TZNAME:AEDT
DTSTART:20191005T160000
END:DAYLIGHT
END:VTIMEZONE
BEGIN:VEVENT
DTSTART;TZID=Australia/Sydney:20181007T183000
DTEND;TZID=Australia/Sydney:20181007T200000
DTSTAMP:20260421T221615
CREATED:20180911T225236Z
LAST-MODIFIED:20181004T222035Z
UID:33992-1538937000-1538942400@www.standrews.org.nz
SUMMARY:Julien Van Mellaerts\, Terence Dennis & Marlena Devoe in Concert
DESCRIPTION:The  Programme will include the Four Last Songs of Strauss . \nThe pianist is the incomparable Terence Dennis. Both  artists will be singing in NZOpera’s season of La Boheme – Mimi and Schaunard  – and are indulging in a recital of music they love while they are back in their own country for a few weeks . \nIt will be sheer bliss and an occasion not to be missed
URL:https://www.standrews.org.nz/event/marlena-devoe-in-concert
LOCATION:St Andrews Church\, 30 The Terrace\, Wellington\, 6011\, Wellington\, The Terrace\, 6011\, New Zealand
CATEGORIES:Events
ATTACH;FMTTYPE=application/pdf:https://www.standrews.org.nz/wp-content/uploads/2018/09/MD-PDF-Final-A3.pdf
END:VEVENT
END:VCALENDAR