BEGIN:VCALENDAR
VERSION:2.0
PRODID:-//St Andrew&#039;s Church - ECPv6.15.19//NONSGML v1.0//EN
CALSCALE:GREGORIAN
METHOD:PUBLISH
X-ORIGINAL-URL:https://www.standrews.org.nz
X-WR-CALDESC:Events for St Andrew&#039;s Church
REFRESH-INTERVAL;VALUE=DURATION:PT1H
X-Robots-Tag:noindex
X-PUBLISHED-TTL:PT1H
BEGIN:VTIMEZONE
TZID:Pacific/Auckland
BEGIN:STANDARD
TZOFFSETFROM:+1300
TZOFFSETTO:+1200
TZNAME:NZST
DTSTART:20170401T140000
END:STANDARD
BEGIN:DAYLIGHT
TZOFFSETFROM:+1200
TZOFFSETTO:+1300
TZNAME:NZDT
DTSTART:20170923T140000
END:DAYLIGHT
BEGIN:STANDARD
TZOFFSETFROM:+1300
TZOFFSETTO:+1200
TZNAME:NZST
DTSTART:20180331T140000
END:STANDARD
BEGIN:DAYLIGHT
TZOFFSETFROM:+1200
TZOFFSETTO:+1300
TZNAME:NZDT
DTSTART:20180929T140000
END:DAYLIGHT
BEGIN:STANDARD
TZOFFSETFROM:+1300
TZOFFSETTO:+1200
TZNAME:NZST
DTSTART:20190406T140000
END:STANDARD
BEGIN:DAYLIGHT
TZOFFSETFROM:+1200
TZOFFSETTO:+1300
TZNAME:NZDT
DTSTART:20190928T140000
END:DAYLIGHT
END:VTIMEZONE
BEGIN:VEVENT
DTSTART;TZID=Pacific/Auckland:20180622T190000
DTEND;TZID=Pacific/Auckland:20180623T153000
DTSTAMP:20260423T104208
CREATED:20180524T024335Z
LAST-MODIFIED:20180524T024541Z
UID:33415-1529694000-1529767800@www.standrews.org.nz
SUMMARY:Paradise lost - Paradise restored?
DESCRIPTION:The sun rising above Earth. Beautiful space shot. \nParadise Lost – Paradise Restored?\n\nLost by\n– Pollution\,\n– Climate Change\,\n– overpopulation\,\n– depletion of resources …\nCan we restore the planetary equilibrium?\nA seminar brought to you by St Andrew’s Trust for the Study of Religion and Society\nFri June 22\, 7-9 pm (Tea/coffee from 6:30)\nSat June 23\, 9:30 to 3pm (Morning Tea and Lunch included)\nCost: Friday only; $10 for one person $15 for 2 people/couple\nWeekend or Saturday only; $30 (waged); $20 (unwaged); $15 (student).\n(Take $10 off if bringing your own lunch)\nDownload Flier & Registration Form \nDownload Registration Form only\n\nSpeakers include:\n\n\nWellington’s Deputy Mayor Jill Day\n\n\nAssociate Professor Niki Harré\n\n\nLawyer Andrew Butler who has worked on the case for a NZ constitution with Sir Geoffrey Palmer.\n\n\nProfessor Paul Morris\n\n\nRev. Dr Susan Jones Minister St Andrews on the Terrace\n\n\nNick Laurence  is a psychologist and one of the founders of Mindfulness for Change\n\n\nRos Jiko United Nations Association of NZ\n\n\nA weekend reflecting on what we have lost in the de-greening of the earth and exploring ways in which we might grow our understanding of inclusion and diversity to create a new paradise which honours Ecumenical\, Economic and Ecological values.
URL:https://www.standrews.org.nz/event/paradise-lost-paradise-restored
LOCATION:St Andrews Church\, 30 The Terrace\, Wellington\, 6011\, Wellington\, The Terrace\, 6011\, New Zealand
CATEGORIES:Events,Lectures
ATTACH;FMTTYPE=image/jpeg:https://www.standrews.org.nz/wp-content/uploads/2018/05/gaia.jpg
ORGANIZER;CN="Pete Cowley/Jan Rivers":MAILTO:admin@satrs.org.nz
END:VEVENT
END:VCALENDAR