BEGIN:VCALENDAR
VERSION:2.0
PRODID:-//St Andrew&#039;s Church - ECPv6.15.19//NONSGML v1.0//EN
CALSCALE:GREGORIAN
METHOD:PUBLISH
X-ORIGINAL-URL:https://www.standrews.org.nz
X-WR-CALDESC:Events for St Andrew&#039;s Church
REFRESH-INTERVAL;VALUE=DURATION:PT1H
X-Robots-Tag:noindex
X-PUBLISHED-TTL:PT1H
BEGIN:VTIMEZONE
TZID:Australia/Sydney
BEGIN:STANDARD
TZOFFSETFROM:+1100
TZOFFSETTO:+1000
TZNAME:AEST
DTSTART:20170401T160000
END:STANDARD
BEGIN:DAYLIGHT
TZOFFSETFROM:+1000
TZOFFSETTO:+1100
TZNAME:AEDT
DTSTART:20170930T160000
END:DAYLIGHT
BEGIN:STANDARD
TZOFFSETFROM:+1100
TZOFFSETTO:+1000
TZNAME:AEST
DTSTART:20180331T160000
END:STANDARD
BEGIN:DAYLIGHT
TZOFFSETFROM:+1000
TZOFFSETTO:+1100
TZNAME:AEDT
DTSTART:20181006T160000
END:DAYLIGHT
BEGIN:STANDARD
TZOFFSETFROM:+1100
TZOFFSETTO:+1000
TZNAME:AEST
DTSTART:20190406T160000
END:STANDARD
BEGIN:DAYLIGHT
TZOFFSETFROM:+1000
TZOFFSETTO:+1100
TZNAME:AEDT
DTSTART:20191005T160000
END:DAYLIGHT
END:VTIMEZONE
BEGIN:VEVENT
DTSTART;TZID=Australia/Sydney:20180504T120000
DTEND;TZID=Australia/Sydney:20180504T133000
DTSTAMP:20260423T141020
CREATED:20180418T005942Z
LAST-MODIFIED:20180418T013950Z
UID:33220-1525435200-1525440600@www.standrews.org.nz
SUMMARY:Exclusive Piano Recital - Internationally renowned Polish pianist Raphael Alexandre Lustchevsky
DESCRIPTION:Concert is In honour of 100 Years Poland Independence and 70 Years of the State of Israel. \nProgramme \nFrédéric Chopin: 3 Waltzes in A flat major\, Op.34 \nFrédéric Chopin: Nocturne in B minor \nFrédéric Chopin: Scherzo in C sharp minor\, Op.39 \nRobert Schumann / Franz Liszt: Two Lieder; \n“Fruehlingsnacht” \n“Liebeslied-Widmung” \nGeorge Gershwin: Rhapsody in Blue
URL:https://www.standrews.org.nz/event/exclusive-piano-recital-internationally-renowned-polish-pianist-raphael-alexandre-lustchevsky
LOCATION:St Andrews Church\, 30 The Terrace\, Wellington\, 6011\, Wellington\, The Terrace\, 6011\, New Zealand
CATEGORIES:Events
ATTACH;FMTTYPE=application/pdf:https://www.standrews.org.nz/wp-content/uploads/2018/04/Piano-recital-Ad-FINALE.pdf
END:VEVENT
END:VCALENDAR