BEGIN:VCALENDAR
VERSION:2.0
PRODID:-//St Andrew&#039;s Church - ECPv6.15.19//NONSGML v1.0//EN
CALSCALE:GREGORIAN
METHOD:PUBLISH
X-ORIGINAL-URL:https://www.standrews.org.nz
X-WR-CALDESC:Events for St Andrew&#039;s Church
REFRESH-INTERVAL;VALUE=DURATION:PT1H
X-Robots-Tag:noindex
X-PUBLISHED-TTL:PT1H
BEGIN:VTIMEZONE
TZID:Pacific/Auckland
BEGIN:STANDARD
TZOFFSETFROM:+1300
TZOFFSETTO:+1200
TZNAME:NZST
DTSTART:20250405T140000
END:STANDARD
BEGIN:DAYLIGHT
TZOFFSETFROM:+1200
TZOFFSETTO:+1300
TZNAME:NZDT
DTSTART:20250927T140000
END:DAYLIGHT
BEGIN:STANDARD
TZOFFSETFROM:+1300
TZOFFSETTO:+1200
TZNAME:NZST
DTSTART:20260404T140000
END:STANDARD
BEGIN:DAYLIGHT
TZOFFSETFROM:+1200
TZOFFSETTO:+1300
TZNAME:NZDT
DTSTART:20260926T140000
END:DAYLIGHT
BEGIN:STANDARD
TZOFFSETFROM:+1300
TZOFFSETTO:+1200
TZNAME:NZST
DTSTART:20270403T140000
END:STANDARD
BEGIN:DAYLIGHT
TZOFFSETFROM:+1200
TZOFFSETTO:+1300
TZNAME:NZDT
DTSTART:20270925T140000
END:DAYLIGHT
END:VTIMEZONE
BEGIN:VEVENT
DTSTART;TZID=Pacific/Auckland:20260610T121500
DTEND;TZID=Pacific/Auckland:20260610T130000
DTSTAMP:20260422T092810
CREATED:20251111T023914Z
LAST-MODIFIED:20260317T010939Z
UID:44018-1781093700-1781096400@www.standrews.org.nz
SUMMARY:Lunchtime Concert: Duo Zweisamkeit - Sunny Cheng and Otis Prescott-Mason
DESCRIPTION:
URL:https://www.standrews.org.nz/event/lunchtime-concert-otis-prescott-mason-solo-piano-3
LOCATION:St Andrews Church\, 30 The Terrace\, Wellington\, 6011\, Wellington\, The Terrace\, 6011\, New Zealand
CATEGORIES:Events,Lunch time concerts
ATTACH;FMTTYPE=image/jpeg:https://www.standrews.org.nz/wp-content/uploads/2025/11/St-Andrews-photo-Sunny-and-Otis-scaled.jpg
END:VEVENT
BEGIN:VEVENT
DTSTART;TZID=Pacific/Auckland:20260617T121500
DTEND;TZID=Pacific/Auckland:20260617T130000
DTSTAMP:20260422T092810
CREATED:20251111T024019Z
LAST-MODIFIED:20260310T003707Z
UID:44020-1781698500-1781701200@www.standrews.org.nz
SUMMARY:Lunchtime Concert: "Father and Son" - Music by J.S.Bach and C.P.E.Bach Robert Ibell\, Barbara Hill and Jonathan Berkhan
DESCRIPTION:Program:\nJ.S.Bach (attrib. C.P.E.Bach) – Sonata in G-minor for Flute and Basso continuo BWV 1020\nJ.S.Bach – Sonata in E-minor for Flute and Basso continuo\, BWV 1034\nJ.S.Bach – Cello Suite No. 4\, BWV 1010\nC.P.E.Bach – Hamburg Sonata – Flute & basso continuo
URL:https://www.standrews.org.nz/event/lunchtime-concert-guzheng-piano-duo
LOCATION:St Andrews Church\, 30 The Terrace\, Wellington\, 6011\, Wellington\, The Terrace\, 6011\, New Zealand
CATEGORIES:Events,Lunch time concerts
END:VEVENT
BEGIN:VEVENT
DTSTART;TZID=Pacific/Auckland:20260618T121500
DTEND;TZID=Pacific/Auckland:20260618T130000
DTSTAMP:20260422T092810
CREATED:20260324T225728Z
LAST-MODIFIED:20260331T005123Z
UID:44359-1781784900-1781787600@www.standrews.org.nz
SUMMARY:Lunchtime Concert: Guzheng & Piano Duo
DESCRIPTION:Experience the enchanting blend of guzheng and piano in a concert inspired by nature’s beauty. From delicate traditional melodies to modern interpretations\, this duo weaves a rich musical dialogue between East and West. \nStep into a soundscape of blooming gardens\, flowing water\, and expressive harmony—an afternoon  of music to relax\, inspire\, and delight. \nPerformed by Jessie Ling and Pei-Ying Pan.
URL:https://www.standrews.org.nz/event/lunchtime-concert-guzheng-piano-duo-3
LOCATION:St Andrews Church\, 30 The Terrace\, Wellington\, 6011\, Wellington\, The Terrace\, 6011\, New Zealand
CATEGORIES:Events,Lunch time concerts
ATTACH;FMTTYPE=image/jpeg:https://www.standrews.org.nz/wp-content/uploads/2026/03/St-Andrews-photo-Pei-ying-plus-1.jpg
END:VEVENT
BEGIN:VEVENT
DTSTART;TZID=Pacific/Auckland:20260624T121500
DTEND;TZID=Pacific/Auckland:20260624T130000
DTSTAMP:20260422T092810
CREATED:20251111T024144Z
LAST-MODIFIED:20260324T225852Z
UID:44022-1782303300-1782306000@www.standrews.org.nz
SUMMARY:Lunchtime Concert: Vivo Flutes - Barbara Hill & Friends
DESCRIPTION:Vivo Flutes consists of twelve players\, with piccolo\, c-flutes\, altos and bass flutes. The program features Saint-Saens\, Shostakovich and a beautiful but rarely performed concerto by Andre Gretry.
URL:https://www.standrews.org.nz/event/lunchtime-concert-vivo-flutes-barbara-hill-friends
LOCATION:St Andrew’s Centre\, 30 The Terrace\, Wellington\, 6011\, Wellington\, The Terrace\, 6011\, New Zealand
CATEGORIES:Events,Lunch time concerts
ATTACH;FMTTYPE=image/jpeg:https://www.standrews.org.nz/wp-content/uploads/2025/11/St-Andrews-photo-Vivo-Flutes-2026-1.jpg
END:VEVENT
END:VCALENDAR