BEGIN:VCALENDAR
VERSION:2.0
PRODID:-//St Andrew&#039;s Church - ECPv6.15.19//NONSGML v1.0//EN
CALSCALE:GREGORIAN
METHOD:PUBLISH
X-WR-CALNAME:St Andrew&#039;s Church
X-ORIGINAL-URL:https://www.standrews.org.nz
X-WR-CALDESC:Events for St Andrew&#039;s Church
REFRESH-INTERVAL;VALUE=DURATION:PT1H
X-Robots-Tag:noindex
X-PUBLISHED-TTL:PT1H
BEGIN:VTIMEZONE
TZID:Pacific/Auckland
BEGIN:STANDARD
TZOFFSETFROM:+1300
TZOFFSETTO:+1200
TZNAME:NZST
DTSTART:20230401T140000
END:STANDARD
BEGIN:DAYLIGHT
TZOFFSETFROM:+1200
TZOFFSETTO:+1300
TZNAME:NZDT
DTSTART:20230923T140000
END:DAYLIGHT
BEGIN:STANDARD
TZOFFSETFROM:+1300
TZOFFSETTO:+1200
TZNAME:NZST
DTSTART:20240406T140000
END:STANDARD
BEGIN:DAYLIGHT
TZOFFSETFROM:+1200
TZOFFSETTO:+1300
TZNAME:NZDT
DTSTART:20240928T140000
END:DAYLIGHT
BEGIN:STANDARD
TZOFFSETFROM:+1300
TZOFFSETTO:+1200
TZNAME:NZST
DTSTART:20250405T140000
END:STANDARD
BEGIN:DAYLIGHT
TZOFFSETFROM:+1200
TZOFFSETTO:+1300
TZNAME:NZDT
DTSTART:20250927T140000
END:DAYLIGHT
END:VTIMEZONE
BEGIN:VEVENT
DTSTART;TZID=Pacific/Auckland:20241203T083000
DTEND;TZID=Pacific/Auckland:20241203T133000
DTSTAMP:20260426T132834
CREATED:20230810T230653Z
LAST-MODIFIED:20230810T230653Z
UID:40877-1733214600-1733232600@www.standrews.org.nz
SUMMARY:NZ Blood Donation
DESCRIPTION:
URL:https://www.standrews.org.nz/event/nz-blood-donation-7
LOCATION:St Andrew’s Centre\, 30 The Terrace\, Wellington\, 6011\, Wellington\, The Terrace\, 6011\, New Zealand
CATEGORIES:Events
ATTACH;FMTTYPE=image/jpeg:https://www.standrews.org.nz/wp-content/uploads/2023/08/NZ-Blood-Image-for-2024-bookings.jpg
END:VEVENT
BEGIN:VEVENT
DTSTART;TZID=Pacific/Auckland:20241208T100000
DTEND;TZID=Pacific/Auckland:20241208T120000
DTSTAMP:20260426T132834
CREATED:20241121T215026Z
LAST-MODIFIED:20241121T215026Z
UID:42733-1733652000-1733659200@www.standrews.org.nz
SUMMARY:Children's Christmas Service - St Andrews on The Terrace
DESCRIPTION:
URL:https://www.standrews.org.nz/event/childrens-christmas-service-st-andrews-on-the-terrace
LOCATION:St Andrews Church\, 30 The Terrace\, Wellington\, 6011\, Wellington\, The Terrace\, 6011\, New Zealand
CATEGORIES:Events
ATTACH;FMTTYPE=image/png:https://www.standrews.org.nz/wp-content/uploads/2024/11/Green-and-Red-Cute-Illustrative-Christmas-Fair-Poster-2.png
END:VEVENT
BEGIN:VEVENT
DTSTART;TZID=Pacific/Auckland:20241215T150000
DTEND;TZID=Pacific/Auckland:20241215T150000
DTSTAMP:20260426T132834
CREATED:20241211T011004Z
LAST-MODIFIED:20241211T011004Z
UID:42789-1734274800-1734274800@www.standrews.org.nz
SUMMARY:Concert: Saxcess and the Saxcess Octet
DESCRIPTION:
URL:https://www.standrews.org.nz/event/concert-saxcess-and-the-saxcess-octet
LOCATION:St Andrews Church\, 30 The Terrace\, Wellington\, 6011\, Wellington\, The Terrace\, 6011\, New Zealand
CATEGORIES:Events
ATTACH;FMTTYPE=image/jpeg:https://www.standrews.org.nz/wp-content/uploads/2024/12/Capture.jpg
END:VEVENT
BEGIN:VEVENT
DTSTART;TZID=Pacific/Auckland:20241224T200000
DTEND;TZID=Pacific/Auckland:20241224T210000
DTSTAMP:20260426T132834
CREATED:20241211T232824Z
LAST-MODIFIED:20241219T010603Z
UID:42794-1735070400-1735074000@www.standrews.org.nz
SUMMARY:Christmas Eve Carol Service at St Andrews on The Terrace
DESCRIPTION:Come and celebrate Christmas with us this year. We are a progressive and inclusive community. Everyone is welcome. \nCarol Service: 8pm \nJoin us for sherry and Christmas cake at 7.30pm. The service will be led by Rev. Dr Fei Taule’ale’ausumai and will feature duets by Pepe Becker and Kate Lineham\, accompanied by Dan Poynton.
URL:https://www.standrews.org.nz/event/christmas-eve-carol-service-at-st-andrews-on-the-terrace
LOCATION:St Andrews Church\, 30 The Terrace\, Wellington\, 6011\, Wellington\, The Terrace\, 6011\, New Zealand
CATEGORIES:Events
END:VEVENT
BEGIN:VEVENT
DTSTART;TZID=Pacific/Auckland:20241225T100000
DTEND;TZID=Pacific/Auckland:20241225T120000
DTSTAMP:20260426T132834
CREATED:20241211T233155Z
LAST-MODIFIED:20241219T010934Z
UID:42797-1735120800-1735128000@www.standrews.org.nz
SUMMARY:Christmas Day Service - St Andrews on The Terrace
DESCRIPTION:Join us for our Christmas Day Sunday Gathering at 10am at St Andrews on The Terrace with Rev. Dr Fei Taule’ale’ausumai
URL:https://www.standrews.org.nz/event/christmas-day-service-st-andrews-on-the-terrace
LOCATION:The Terrace
CATEGORIES:Events
ATTACH;FMTTYPE=image/jpeg:https://www.standrews.org.nz/wp-content/uploads/2024/12/Christmas.jpg
END:VEVENT
END:VCALENDAR