BEGIN:VCALENDAR
VERSION:2.0
PRODID:-//St Andrew&#039;s Church - ECPv6.15.19//NONSGML v1.0//EN
CALSCALE:GREGORIAN
METHOD:PUBLISH
X-ORIGINAL-URL:https://www.standrews.org.nz
X-WR-CALDESC:Events for St Andrew&#039;s Church
REFRESH-INTERVAL;VALUE=DURATION:PT1H
X-Robots-Tag:noindex
X-PUBLISHED-TTL:PT1H
BEGIN:VTIMEZONE
TZID:Australia/Sydney
BEGIN:STANDARD
TZOFFSETFROM:+1100
TZOFFSETTO:+1000
TZNAME:AEST
DTSTART:20170401T160000
END:STANDARD
BEGIN:DAYLIGHT
TZOFFSETFROM:+1000
TZOFFSETTO:+1100
TZNAME:AEDT
DTSTART:20170930T160000
END:DAYLIGHT
BEGIN:STANDARD
TZOFFSETFROM:+1100
TZOFFSETTO:+1000
TZNAME:AEST
DTSTART:20180331T160000
END:STANDARD
BEGIN:DAYLIGHT
TZOFFSETFROM:+1000
TZOFFSETTO:+1100
TZNAME:AEDT
DTSTART:20181006T160000
END:DAYLIGHT
BEGIN:STANDARD
TZOFFSETFROM:+1100
TZOFFSETTO:+1000
TZNAME:AEST
DTSTART:20190406T160000
END:STANDARD
BEGIN:DAYLIGHT
TZOFFSETFROM:+1000
TZOFFSETTO:+1100
TZNAME:AEDT
DTSTART:20191005T160000
END:DAYLIGHT
END:VTIMEZONE
BEGIN:VEVENT
DTSTART;TZID=Australia/Sydney:20181204T124500
DTEND;TZID=Australia/Sydney:20181204T131500
DTSTAMP:20260420T083655
CREATED:20180621T013644Z
LAST-MODIFIED:20180719T235532Z
UID:33649-1543927500-1543929300@www.standrews.org.nz
SUMMARY:Centering Prayer
DESCRIPTION:A half hour of group meditation/contemplative prayer.  Begins with a short reading then 30 minutes silence. All welcome.  This website will give you some idea of the approach many of us use.  https://www.contemplativeoutreach.org/category/category/centering-prayer
URL:https://www.standrews.org.nz/event/centering-prayer-76
LOCATION:St Andrew’s Centre\, 30 The Terrace\, Wellington\, 6011\, Wellington\, The Terrace\, 6011\, New Zealand
CATEGORIES:Events
ATTACH;FMTTYPE=image/jpeg:https://www.standrews.org.nz/wp-content/uploads/2017/04/be-still.jpg
ORGANIZER;CN="Minister":MAILTO:minister@standrews.org.nz
END:VEVENT
BEGIN:VEVENT
DTSTART;TZID=Australia/Sydney:20181211T004500
DTEND;TZID=Australia/Sydney:20181211T131500
DTSTAMP:20260420T083655
CREATED:20180621T014053Z
LAST-MODIFIED:20180719T235646Z
UID:33651-1544489100-1544534100@www.standrews.org.nz
SUMMARY:Centering Prayer
DESCRIPTION:A half hour of group meditation/contemplative prayer.  Begins with a short reading then 30 minutes silence. All welcome.  This website will give you some idea of the approach many of us use.  https://www.contemplativeoutreach.org/category/category/centering-prayer
URL:https://www.standrews.org.nz/event/centering-prayer-77
LOCATION:St Andrew’s Centre\, 30 The Terrace\, Wellington\, 6011\, Wellington\, The Terrace\, 6011\, New Zealand
CATEGORIES:Events
ATTACH;FMTTYPE=image/jpeg:https://www.standrews.org.nz/wp-content/uploads/2017/04/be-still.jpg
ORGANIZER;CN="Minister":MAILTO:minister@standrews.org.nz
END:VEVENT
BEGIN:VEVENT
DTSTART;TZID=Australia/Sydney:20181212T120000
DTEND;TZID=Australia/Sydney:20181212T170000
DTSTAMP:20260420T083655
CREATED:20180621T021714Z
LAST-MODIFIED:20180621T021714Z
UID:33666-1544616000-1544634000@www.standrews.org.nz
SUMMARY:Cuppa and Chat
DESCRIPTION:A weekly chance to meet people and talk about your life in a confidential space.  Informal chat over tea and coffee happens from 10.30am.  A talking circle begins at 11am and runs till 12 noon. All welcome.
URL:https://www.standrews.org.nz/event/cuppa-and-chat-43
LOCATION:St Andrew’s Centre\, 30 The Terrace\, Wellington\, 6011\, Wellington\, The Terrace\, 6011\, New Zealand
CATEGORIES:Events
ATTACH;FMTTYPE=image/jpeg:https://www.standrews.org.nz/wp-content/uploads/2016/12/rainbow-room-artwork-10.jpg
ORGANIZER;CN="Minister":MAILTO:minister@standrews.org.nz
END:VEVENT
BEGIN:VEVENT
DTSTART;TZID=Australia/Sydney:20181218T121500
DTEND;TZID=Australia/Sydney:20181218T130000
DTSTAMP:20260420T083655
CREATED:20181122T192513Z
LAST-MODIFIED:20181122T193515Z
UID:34251-1545135300-1545138000@www.standrews.org.nz
SUMMARY:Counsel in Concert: All I Want for Christmas
DESCRIPTION:https://www.eventfinda.co.nz/2018/counsel-in-concert-all-want-for-christmas/wellington#none \n 
URL:https://www.standrews.org.nz/event/counsel-in-concert-all-i-want-for-christmas
LOCATION:St Andrews Church\, 30 The Terrace\, Wellington\, 6011\, Wellington\, The Terrace\, 6011\, New Zealand
CATEGORIES:Events,Lunch time concerts
ATTACH;FMTTYPE=image/jpeg:https://www.standrews.org.nz/wp-content/uploads/2018/11/All-I-want-for-Christmas.jpg
END:VEVENT
BEGIN:VEVENT
DTSTART;TZID=Australia/Sydney:20181218T121500
DTEND;TZID=Australia/Sydney:20181218T131500
DTSTAMP:20260420T083655
CREATED:20180621T014210Z
LAST-MODIFIED:20180720T000202Z
UID:33653-1545135300-1545138900@www.standrews.org.nz
SUMMARY:Centering Prayer
DESCRIPTION:A half hour of group meditation/contemplative prayer.  Begins with a short reading then 30 minutes silence. All welcome.  This website will give you some idea of the approach many of us use.  https://www.contemplativeoutreach.org/category/category/centering-prayer
URL:https://www.standrews.org.nz/event/centering-prayer-78
LOCATION:St Andrew’s Centre\, 30 The Terrace\, Wellington\, 6011\, Wellington\, The Terrace\, 6011\, New Zealand
CATEGORIES:Events
ATTACH;FMTTYPE=image/jpeg:https://www.standrews.org.nz/wp-content/uploads/2017/04/be-still.jpg
ORGANIZER;CN="Minister":MAILTO:minister@standrews.org.nz
END:VEVENT
BEGIN:VEVENT
DTSTART;TZID=Australia/Sydney:20181218T173000
DTEND;TZID=Australia/Sydney:20181218T181500
DTSTAMP:20260420T083655
CREATED:20181122T192641Z
LAST-MODIFIED:20181122T193430Z
UID:34253-1545154200-1545156900@www.standrews.org.nz
SUMMARY:Counsel in Concert: All I Want for Christmas
DESCRIPTION:https://www.eventfinda.co.nz/2018/counsel-in-concert-all-want-for-christmas/wellington#none
URL:https://www.standrews.org.nz/event/counsel-in-concert-all-i-want-for-christmas-2
LOCATION:St Andrews Church\, 30 The Terrace\, Wellington\, 6011\, Wellington\, The Terrace\, 6011\, New Zealand
CATEGORIES:Events
ATTACH;FMTTYPE=image/jpeg:https://www.standrews.org.nz/wp-content/uploads/2018/11/All-I-want-for-Christmas.jpg
END:VEVENT
BEGIN:VEVENT
DTSTART;TZID=Australia/Sydney:20181219T103000
DTEND;TZID=Australia/Sydney:20181219T120000
DTSTAMP:20260420T083655
CREATED:20180621T021925Z
LAST-MODIFIED:20180621T021925Z
UID:33668-1545215400-1545220800@www.standrews.org.nz
SUMMARY:Cuppa and Chat
DESCRIPTION:A weekly chance to meet people and talk about your life in a confidential space.  Informal chat over tea and coffee happens from 10.30am.  A talking circle begins at 11am and runs till 12 noon. All welcome.
URL:https://www.standrews.org.nz/event/cuppa-and-chat-44
LOCATION:St Andrew’s Centre\, 30 The Terrace\, Wellington\, 6011\, Wellington\, The Terrace\, 6011\, New Zealand
CATEGORIES:Events
ATTACH;FMTTYPE=image/jpeg:https://www.standrews.org.nz/wp-content/uploads/2016/12/rainbow-room-artwork-10.jpg
ORGANIZER;CN="Minister":MAILTO:minister@standrews.org.nz
END:VEVENT
END:VCALENDAR