BEGIN:VCALENDAR
VERSION:2.0
PRODID:-//St Andrew&#039;s Church - ECPv6.15.19//NONSGML v1.0//EN
CALSCALE:GREGORIAN
METHOD:PUBLISH
X-WR-CALNAME:St Andrew&#039;s Church
X-ORIGINAL-URL:https://www.standrews.org.nz
X-WR-CALDESC:Events for St Andrew&#039;s Church
REFRESH-INTERVAL;VALUE=DURATION:PT1H
X-Robots-Tag:noindex
X-PUBLISHED-TTL:PT1H
BEGIN:VTIMEZONE
TZID:Australia/Sydney
BEGIN:STANDARD
TZOFFSETFROM:+1100
TZOFFSETTO:+1000
TZNAME:AEST
DTSTART:20170401T160000
END:STANDARD
BEGIN:DAYLIGHT
TZOFFSETFROM:+1000
TZOFFSETTO:+1100
TZNAME:AEDT
DTSTART:20170930T160000
END:DAYLIGHT
BEGIN:STANDARD
TZOFFSETFROM:+1100
TZOFFSETTO:+1000
TZNAME:AEST
DTSTART:20180331T160000
END:STANDARD
BEGIN:DAYLIGHT
TZOFFSETFROM:+1000
TZOFFSETTO:+1100
TZNAME:AEDT
DTSTART:20181006T160000
END:DAYLIGHT
BEGIN:STANDARD
TZOFFSETFROM:+1100
TZOFFSETTO:+1000
TZNAME:AEST
DTSTART:20190406T160000
END:STANDARD
BEGIN:DAYLIGHT
TZOFFSETFROM:+1000
TZOFFSETTO:+1100
TZNAME:AEDT
DTSTART:20191005T160000
END:DAYLIGHT
END:VTIMEZONE
BEGIN:VEVENT
DTSTART;TZID=Australia/Sydney:20180904T124500
DTEND;TZID=Australia/Sydney:20180904T131500
DTSTAMP:20260421T102122
CREATED:20180608T024416Z
LAST-MODIFIED:20180719T225722Z
UID:33569-1536065100-1536066900@www.standrews.org.nz
SUMMARY:Centering Prayer
DESCRIPTION:A half hour of group meditation/contemplative prayer.  Begins with a short reading then 30 minutes silence. All welcome.  This website will give you some idea of the approach many of us use.  https://www.contemplativeoutreach.org/category/category/centering-prayer
URL:https://www.standrews.org.nz/event/centering-prayer-63
LOCATION:St Andrew’s Centre\, 30 The Terrace\, Wellington\, 6011\, Wellington\, The Terrace\, 6011\, New Zealand
CATEGORIES:Events
ATTACH;FMTTYPE=image/jpeg:https://www.standrews.org.nz/wp-content/uploads/2017/04/be-still.jpg
ORGANIZER;CN="Minister":MAILTO:minister@standrews.org.nz
END:VEVENT
BEGIN:VEVENT
DTSTART;TZID=Australia/Sydney:20180905T103000
DTEND;TZID=Australia/Sydney:20180905T120000
DTSTAMP:20260421T102122
CREATED:20180608T015335Z
LAST-MODIFIED:20180608T020302Z
UID:33555-1536143400-1536148800@www.standrews.org.nz
SUMMARY:Cuppa and Chat
DESCRIPTION:A weekly chance to meet people and talk about your life in a confidential space.  Informal chat over tea and coffee happens from 10.30am.  A talking circle begins at 11am and runs till 12 noon. All welcome.
URL:https://www.standrews.org.nz/event/cuppa-and-chat-27
LOCATION:St Andrew’s Centre\, 30 The Terrace\, Wellington\, 6011\, Wellington\, The Terrace\, 6011\, New Zealand
CATEGORIES:Events
ATTACH;FMTTYPE=image/jpeg:https://www.standrews.org.nz/wp-content/uploads/2016/12/rainbow-room-artwork-10.jpg
END:VEVENT
BEGIN:VEVENT
DTSTART;TZID=Australia/Sydney:20180911T124500
DTEND;TZID=Australia/Sydney:20180911T131500
DTSTAMP:20260421T102122
CREATED:20180608T024612Z
LAST-MODIFIED:20180719T225819Z
UID:33571-1536669900-1536671700@www.standrews.org.nz
SUMMARY:Centering prayer
DESCRIPTION:A half hour of group meditation/contemplative prayer.  Begins with a short reading then 30 minutes silence. All welcome.  This website will give you some idea of the approach many of us use.  https://www.contemplativeoutreach.org/category/category/centering-prayer
URL:https://www.standrews.org.nz/event/centering-prayer-64
LOCATION:St Andrew’s Centre\, 30 The Terrace\, Wellington\, 6011\, Wellington\, The Terrace\, 6011\, New Zealand
CATEGORIES:Events
ATTACH;FMTTYPE=image/jpeg:https://www.standrews.org.nz/wp-content/uploads/2017/04/be-still.jpg
END:VEVENT
BEGIN:VEVENT
DTSTART;TZID=Australia/Sydney:20180912T103000
DTEND;TZID=Australia/Sydney:20180912T120000
DTSTAMP:20260421T102122
CREATED:20180608T022503Z
LAST-MODIFIED:20180608T022503Z
UID:33561-1536748200-1536753600@www.standrews.org.nz
SUMMARY:Cuppa and Chat
DESCRIPTION:A weekly chance to meet people and talk about your life in a confidential space.  Informal chat over tea and coffee happens from 10.30am.  A talking circle begins at 11am and runs till 12 noon. All welcome.
URL:https://www.standrews.org.nz/event/cuppa-and-chat-30
LOCATION:St Andrew’s Centre\, 30 The Terrace\, Wellington\, 6011\, Wellington\, The Terrace\, 6011\, New Zealand
CATEGORIES:Events
ATTACH;FMTTYPE=image/jpeg:https://www.standrews.org.nz/wp-content/uploads/2016/12/rainbow-room-artwork-10.jpg
ORGANIZER;CN="Minister":MAILTO:minister@standrews.org.nz
END:VEVENT
BEGIN:VEVENT
DTSTART;TZID=Australia/Sydney:20180918T121500
DTEND;TZID=Australia/Sydney:20180918T131500
DTSTAMP:20260421T102122
CREATED:20180618T022339Z
LAST-MODIFIED:20180719T225920Z
UID:33611-1537272900-1537276500@www.standrews.org.nz
SUMMARY:Centering Prayer
DESCRIPTION:A half hour of group meditation/contemplative prayer.  Begins with a short reading then 30 minutes silence. All welcome.  This website will give you some idea of the approach many of us use.  https://www.contemplativeoutreach.org/category/category/centering-prayer
URL:https://www.standrews.org.nz/event/centering-prayer-65
LOCATION:St Andrew’s Centre\, 30 The Terrace\, Wellington\, 6011\, Wellington\, The Terrace\, 6011\, New Zealand
CATEGORIES:Events
ATTACH;FMTTYPE=image/jpeg:https://www.standrews.org.nz/wp-content/uploads/2017/04/be-still.jpg
ORGANIZER;CN="Minister":MAILTO:minister@standrews.org.nz
END:VEVENT
BEGIN:VEVENT
DTSTART;TZID=Australia/Sydney:20180919T103000
DTEND;TZID=Australia/Sydney:20180919T120000
DTSTAMP:20260421T102122
CREATED:20180608T022634Z
LAST-MODIFIED:20180608T022634Z
UID:33563-1537353000-1537358400@www.standrews.org.nz
SUMMARY:Cuppa and Chat
DESCRIPTION:A weekly chance to meet people and talk about your life in a confidential space.  Informal chat over tea and coffee happens from 10.30am.  A talking circle begins at 11am and runs till 12 noon. All welcome.
URL:https://www.standrews.org.nz/event/cuppa-and-chat-31
LOCATION:St Andrew’s Centre\, 30 The Terrace\, Wellington\, 6011\, Wellington\, The Terrace\, 6011\, New Zealand
CATEGORIES:Events
ATTACH;FMTTYPE=image/jpeg:https://www.standrews.org.nz/wp-content/uploads/2016/12/rainbow-room-artwork-10.jpg
ORGANIZER;CN="Minister":MAILTO:minister@standrews.org.nz
END:VEVENT
BEGIN:VEVENT
DTSTART;TZID=Australia/Sydney:20180926T103000
DTEND;TZID=Australia/Sydney:20180926T120000
DTSTAMP:20260421T102122
CREATED:20180608T023600Z
LAST-MODIFIED:20180608T023600Z
UID:33567-1537957800-1537963200@www.standrews.org.nz
SUMMARY:Cuppa and Chat
DESCRIPTION:A weekly chance to meet people and talk about your life in a confidential space.  Informal chat over tea and coffee happens from 10.30am.  A talking circle begins at 11am and runs till 12 noon. All welcome.
URL:https://www.standrews.org.nz/event/cuppa-and-chat-33
LOCATION:St Andrew’s Centre\, 30 The Terrace\, Wellington\, 6011\, Wellington\, The Terrace\, 6011\, New Zealand
CATEGORIES:Events
ATTACH;FMTTYPE=image/jpeg:https://www.standrews.org.nz/wp-content/uploads/2016/12/rainbow-room-artwork-10.jpg
ORGANIZER;CN="Minister":MAILTO:minister@standrews.org.nz
END:VEVENT
BEGIN:VEVENT
DTSTART;TZID=Australia/Sydney:20180927T190000
DTEND;TZID=Australia/Sydney:20180927T213000
DTSTAMP:20260421T102122
CREATED:20180427T234309Z
LAST-MODIFIED:20180427T234910Z
UID:33276-1538074800-1538083800@www.standrews.org.nz
SUMMARY:Parish Council Meeting
DESCRIPTION:The St Andrew’s on the Terrace Parish Council meets in the St Andrew’s Centre for its monthly meeting from 7pm.  To get any information to the Council before its meeting contact the Centre Manager.
URL:https://www.standrews.org.nz/event/parish-council-meeting-5
LOCATION:St Andrew’s Centre\, 30 The Terrace\, Wellington\, 6011\, Wellington\, The Terrace\, 6011\, New Zealand
CATEGORIES:Events
ATTACH;FMTTYPE=image/png:https://www.standrews.org.nz/wp-content/uploads/2016/11/st-andrews-on-the-terrace-logo-250px.png
ORGANIZER;CN="Centre Manager":MAILTO:reservations@standrews.org.nz
END:VEVENT
END:VCALENDAR