BEGIN:VCALENDAR
VERSION:2.0
PRODID:-//St Andrew&#039;s Church - ECPv6.15.19//NONSGML v1.0//EN
CALSCALE:GREGORIAN
METHOD:PUBLISH
X-ORIGINAL-URL:https://www.standrews.org.nz
X-WR-CALDESC:Events for St Andrew&#039;s Church
REFRESH-INTERVAL;VALUE=DURATION:PT1H
X-Robots-Tag:noindex
X-PUBLISHED-TTL:PT1H
BEGIN:VTIMEZONE
TZID:Australia/Sydney
BEGIN:STANDARD
TZOFFSETFROM:+1100
TZOFFSETTO:+1000
TZNAME:AEST
DTSTART:20170401T160000
END:STANDARD
BEGIN:DAYLIGHT
TZOFFSETFROM:+1000
TZOFFSETTO:+1100
TZNAME:AEDT
DTSTART:20170930T160000
END:DAYLIGHT
BEGIN:STANDARD
TZOFFSETFROM:+1100
TZOFFSETTO:+1000
TZNAME:AEST
DTSTART:20180331T160000
END:STANDARD
BEGIN:DAYLIGHT
TZOFFSETFROM:+1000
TZOFFSETTO:+1100
TZNAME:AEDT
DTSTART:20181006T160000
END:DAYLIGHT
BEGIN:STANDARD
TZOFFSETFROM:+1100
TZOFFSETTO:+1000
TZNAME:AEST
DTSTART:20190406T160000
END:STANDARD
BEGIN:DAYLIGHT
TZOFFSETFROM:+1000
TZOFFSETTO:+1100
TZNAME:AEDT
DTSTART:20191005T160000
END:DAYLIGHT
END:VTIMEZONE
BEGIN:VEVENT
DTSTART;TZID=Australia/Sydney:20180701T100000
DTEND;TZID=Australia/Sydney:20180701T113000
DTSTAMP:20260422T231313
CREATED:20180630T050604Z
LAST-MODIFIED:20180630T050604Z
UID:33705-1530439200-1530444600@www.standrews.org.nz
SUMMARY:Sunday Gathering ' Mamas and Papas of ancient times'
DESCRIPTION:We begin a series of reflections based on the scriptures for the first four Sundays in July.  This week we consider the role of the ancient patriarchs and matriarchs at the beginning of the Judeo Christian traditions.  How are we playing our part now?
URL:https://www.standrews.org.nz/event/sunday-gathering-mamas-and-papas-of-ancient-times
LOCATION:St Andrews Church\, 30 The Terrace\, Wellington\, 6011\, Wellington\, The Terrace\, 6011\, New Zealand
CATEGORIES:Events,Sunday gatherings
ORGANIZER;CN="Minister":MAILTO:minister@standrews.org.nz
END:VEVENT
BEGIN:VEVENT
DTSTART;TZID=Australia/Sydney:20180703T124500
DTEND;TZID=Australia/Sydney:20180703T131500
DTSTAMP:20260422T231313
CREATED:20180530T025000Z
LAST-MODIFIED:20180627T014151Z
UID:33457-1530621900-1530623700@www.standrews.org.nz
SUMMARY:Centering Prayer
DESCRIPTION:A half hour of group meditation/contemplative prayer.  Begins with a short reading then 30 minutes silence. All welcome.  This website will give you some idea of the approach many of us use.  https://www.contemplativeoutreach.org/category/category/centering-prayer
URL:https://www.standrews.org.nz/event/centering-prayer-53
LOCATION:St Andrew’s Centre\, 30 The Terrace\, Wellington\, 6011\, Wellington\, The Terrace\, 6011\, New Zealand
CATEGORIES:Events
ATTACH;FMTTYPE=image/jpeg:https://www.standrews.org.nz/wp-content/uploads/2017/04/be-still.jpg
ORGANIZER;CN="Minister":MAILTO:minister@standrews.org.nz
END:VEVENT
BEGIN:VEVENT
DTSTART;TZID=Australia/Sydney:20180704T103000
DTEND;TZID=Australia/Sydney:20180704T120000
DTSTAMP:20260422T231313
CREATED:20180531T030427Z
LAST-MODIFIED:20180601T030101Z
UID:33473-1530700200-1530705600@www.standrews.org.nz
SUMMARY:Cuppa and Chat
DESCRIPTION:A weekly chance to meet people and talk about your life in a confidential space.  Informal chat over tea and coffee happens from 10.30am.  A talking circle begins at 11am and runs till 12 noon. All welcome.
URL:https://www.standrews.org.nz/event/cuppa-and-chat-20
LOCATION:St Andrew’s Centre\, 30 The Terrace\, Wellington\, 6011\, Wellington\, The Terrace\, 6011\, New Zealand
CATEGORIES:Events
ATTACH;FMTTYPE=image/jpeg:https://www.standrews.org.nz/wp-content/uploads/2016/12/rainbow-room-artwork-10.jpg
ORGANIZER;CN="Minister":MAILTO:minister@standrews.org.nz
END:VEVENT
BEGIN:VEVENT
DTSTART;TZID=Australia/Sydney:20180708T100000
DTEND;TZID=Australia/Sydney:20180708T113000
DTSTAMP:20260422T231313
CREATED:20180630T051121Z
LAST-MODIFIED:20180630T053322Z
UID:33708-1531044000-1531049400@www.standrews.org.nz
SUMMARY:Sunday Gathering "Wisdom Where Art Thou?"
DESCRIPTION:This is the second in a series of reflections on the scriptures.  This one looks particularly at the wisdom literature\, especially the Book of Job.
URL:https://www.standrews.org.nz/event/sunday-gathering-wisdom-where-art-thou
LOCATION:St Andrews Church\, 30 The Terrace\, Wellington\, 6011\, Wellington\, The Terrace\, 6011\, New Zealand
CATEGORIES:Events,Sunday gatherings
ORGANIZER;CN="Minister":MAILTO:minister@standrews.org.nz
END:VEVENT
BEGIN:VEVENT
DTSTART;TZID=Australia/Sydney:20180711T103000
DTEND;TZID=Australia/Sydney:20180711T120000
DTSTAMP:20260422T231313
CREATED:20180531T031607Z
LAST-MODIFIED:20180601T030202Z
UID:33489-1531305000-1531310400@www.standrews.org.nz
SUMMARY:Cuppa and Chat
DESCRIPTION:A weekly chance to meet people and talk about your life in a confidential space.  Informal chat over tea and coffee happens from 10.30am.  A talking circle begins at 11am and runs till 12 noon. All welcome.
URL:https://www.standrews.org.nz/event/cuppa-and-chat-23
LOCATION:St Andrew’s Centre\, 30 The Terrace\, Wellington\, 6011\, Wellington\, The Terrace\, 6011\, New Zealand
CATEGORIES:Events
ATTACH;FMTTYPE=image/jpeg:https://www.standrews.org.nz/wp-content/uploads/2016/12/rainbow-room-artwork-10.jpg
ORGANIZER;CN="Minister":MAILTO:minister@standrews.org.nz
END:VEVENT
BEGIN:VEVENT
DTSTART;TZID=Australia/Sydney:20180715T100000
DTEND;TZID=Australia/Sydney:20180715T113000
DTSTAMP:20260422T231313
CREATED:20180630T053723Z
LAST-MODIFIED:20180630T053723Z
UID:33711-1531648800-1531654200@www.standrews.org.nz
SUMMARY:Sunday Gathering "Prophecy\, Poetry and Imagination"
DESCRIPTION:This is the third in a series of four reflection on the scriptures.  This week we consider the role of the prophet.  The Gathering this week will be followed by a special general meeting of the congregation.
URL:https://www.standrews.org.nz/event/sunday-gathering-prophecy-poetry-and-imagination
LOCATION:St Andrews Church\, 30 The Terrace\, Wellington\, 6011\, Wellington\, The Terrace\, 6011\, New Zealand
CATEGORIES:Events,Sunday gatherings
ORGANIZER;CN="Minister":MAILTO:minister@standrews.org.nz
END:VEVENT
BEGIN:VEVENT
DTSTART;TZID=Australia/Sydney:20180717T124500
DTEND;TZID=Australia/Sydney:20180717T131500
DTSTAMP:20260422T231313
CREATED:20180531T030830Z
LAST-MODIFIED:20180627T014809Z
UID:33479-1531831500-1531833300@www.standrews.org.nz
SUMMARY:Centering Prayer
DESCRIPTION:A half hour of group meditation/contemplative prayer.  Begins with a short reading then 30 minutes silence. All welcome.  This website will give you some idea of the approach many of us use.  https://www.contemplativeoutreach.org/category/category/centering-prayer
URL:https://www.standrews.org.nz/event/centering-prayer-56
LOCATION:The Terrace
CATEGORIES:Events
ATTACH;FMTTYPE=image/jpeg:https://www.standrews.org.nz/wp-content/uploads/2017/04/be-still.jpg
END:VEVENT
BEGIN:VEVENT
DTSTART;TZID=Australia/Sydney:20180718T103000
DTEND;TZID=Australia/Sydney:20180718T120000
DTSTAMP:20260422T231313
CREATED:20180531T031212Z
LAST-MODIFIED:20180601T030252Z
UID:33484-1531909800-1531915200@www.standrews.org.nz
SUMMARY:Cuppa and Chat
DESCRIPTION:A weekly chance to meet people and talk about your life in a confidential space.  Informal chat over tea and coffee happens from 10.30am.  A talking circle begins at 11am and runs till 12 noon. All welcome.
URL:https://www.standrews.org.nz/event/cuppa-and-chat-21
LOCATION:St Andrew’s Centre\, 30 The Terrace\, Wellington\, 6011\, Wellington\, The Terrace\, 6011\, New Zealand
CATEGORIES:Events
ATTACH;FMTTYPE=image/jpeg:https://www.standrews.org.nz/wp-content/uploads/2016/12/rainbow-room-artwork-10.jpg
ORGANIZER;CN="Minister":MAILTO:minister@standrews.org.nz
END:VEVENT
BEGIN:VEVENT
DTSTART;TZID=Australia/Sydney:20180720T190000
DTEND;TZID=Australia/Sydney:20180720T210000
DTSTAMP:20260422T231313
CREATED:20180715T212258Z
LAST-MODIFIED:20180715T212258Z
UID:33766-1532113200-1532120400@www.standrews.org.nz
SUMMARY:NZYSW Winter Concert
DESCRIPTION:Featuring music from John Williams\, Stephen Reineke\, Michael Giacchino\, Edward Elgar and more! \n$10 General\n$5 unwaged\nChildren free
URL:https://www.standrews.org.nz/event/nzysw-winter-concert
LOCATION:St Andrews Church\, 30 The Terrace\, Wellington\, 6011\, Wellington\, The Terrace\, 6011\, New Zealand
CATEGORIES:Events
ATTACH;FMTTYPE=image/jpeg:https://www.standrews.org.nz/wp-content/uploads/2018/07/NZYSW-Winter-concert.jpg
ORGANIZER;CN="Centre Manager":MAILTO:reservations@standrews.org.nz
END:VEVENT
BEGIN:VEVENT
DTSTART;TZID=Australia/Sydney:20180722T100000
DTEND;TZID=Australia/Sydney:20180722T113000
DTSTAMP:20260422T231313
CREATED:20180630T053909Z
LAST-MODIFIED:20180630T053930Z
UID:33714-1532253600-1532259000@www.standrews.org.nz
SUMMARY:Sunday Gathering "First Century Social Media"
DESCRIPTION:The letters in the Second Testament written by Paul and others are the social media of their day.  This is the fourth in a series of four reflections around the scriptures
URL:https://www.standrews.org.nz/event/sunday-gathering-first-century-social-media
LOCATION:St Andrews Church\, 30 The Terrace\, Wellington\, 6011\, Wellington\, The Terrace\, 6011\, New Zealand
CATEGORIES:Events,Sunday gatherings
ORGANIZER;CN="Minister":MAILTO:minister@standrews.org.nz
END:VEVENT
BEGIN:VEVENT
DTSTART;TZID=Australia/Sydney:20180724T124500
DTEND;TZID=Australia/Sydney:20180724T131500
DTSTAMP:20260422T231313
CREATED:20180531T031007Z
LAST-MODIFIED:20180627T014918Z
UID:33482-1532436300-1532438100@www.standrews.org.nz
SUMMARY:Centering prayer
DESCRIPTION:A half hour of group meditation/contemplative prayer.  Begins with a short reading then 30 minutes silence. All welcome.  This website will give you some idea of the approach many of us use.  https://www.contemplativeoutreach.org/category/category/centering-prayer
URL:https://www.standrews.org.nz/event/centering-prayer-57
LOCATION:St Andrew’s Centre\, 30 The Terrace\, Wellington\, 6011\, Wellington\, The Terrace\, 6011\, New Zealand
CATEGORIES:Events
ATTACH;FMTTYPE=image/jpeg:https://www.standrews.org.nz/wp-content/uploads/2017/04/be-still.jpg
ORGANIZER;CN="Minister":MAILTO:minister@standrews.org.nz
END:VEVENT
BEGIN:VEVENT
DTSTART;TZID=Australia/Sydney:20180725T103000
DTEND;TZID=Australia/Sydney:20180725T120000
DTSTAMP:20260422T231313
CREATED:20180531T031341Z
LAST-MODIFIED:20180601T030340Z
UID:33486-1532514600-1532520000@www.standrews.org.nz
SUMMARY:Cuppa and Chat
DESCRIPTION:A weekly chance to meet people and talk about your life in a confidential space.  Informal chat over tea and coffee happens from 10.30am.  A talking circle begins at 11am and runs till 12 noon. All welcome.
URL:https://www.standrews.org.nz/event/cuppa-and-chat-22
LOCATION:St Andrew’s Centre\, 30 The Terrace\, Wellington\, 6011\, Wellington\, The Terrace\, 6011\, New Zealand
CATEGORIES:Events
ATTACH;FMTTYPE=image/jpeg:https://www.standrews.org.nz/wp-content/uploads/2016/12/rainbow-room-artwork-10.jpg
ORGANIZER;CN="Minister":MAILTO:minister@standrews.org.nz
END:VEVENT
BEGIN:VEVENT
DTSTART;TZID=Australia/Sydney:20180726T190000
DTEND;TZID=Australia/Sydney:20180726T213000
DTSTAMP:20260422T231313
CREATED:20180427T233853Z
LAST-MODIFIED:20180427T235046Z
UID:33271-1532631600-1532640600@www.standrews.org.nz
SUMMARY:Parish Council Meeting
DESCRIPTION:The St Andrew’s on the Terrace Parish Council meets in the St Andrew’s Centre for its monthly meeting from 7pm.  To get any information to the Council before its meeting contact the Centre Manager.
URL:https://www.standrews.org.nz/event/parish-council-meeting-3
LOCATION:St Andrew’s Centre\, 30 The Terrace\, Wellington\, 6011\, Wellington\, The Terrace\, 6011\, New Zealand
CATEGORIES:Events
ATTACH;FMTTYPE=image/png:https://www.standrews.org.nz/wp-content/uploads/2016/11/st-andrews-on-the-terrace-logo-250px.png
ORGANIZER;CN="Centre Manager":MAILTO:reservations@standrews.org.nz
END:VEVENT
BEGIN:VEVENT
DTSTART;TZID=Australia/Sydney:20180729T100000
DTEND;TZID=Australia/Sydney:20180729T113000
DTSTAMP:20260422T231313
CREATED:20180630T054040Z
LAST-MODIFIED:20180630T054040Z
UID:33717-1532858400-1532863800@www.standrews.org.nz
SUMMARY:Sunday Gathering
DESCRIPTION:Title and leader to be arranged.
URL:https://www.standrews.org.nz/event/sunday-gathering-7
LOCATION:St Andrews Church\, 30 The Terrace\, Wellington\, 6011\, Wellington\, The Terrace\, 6011\, New Zealand
CATEGORIES:Events,Sunday gatherings
ORGANIZER;CN="Minister":MAILTO:minister@standrews.org.nz
END:VEVENT
BEGIN:VEVENT
DTSTART;TZID=Australia/Sydney:20180729T150000
DTEND;TZID=Australia/Sydney:20180729T170000
DTSTAMP:20260422T231313
CREATED:20180717T024831Z
LAST-MODIFIED:20180717T235104Z
UID:33776-1532876400-1532883600@www.standrews.org.nz
SUMMARY:The Sound of Wellington Youth Music
DESCRIPTION:
URL:https://www.standrews.org.nz/event/the-sound-of-wellington-youth-music
LOCATION:St Andrews Church\, 30 The Terrace\, Wellington\, 6011\, Wellington\, The Terrace\, 6011\, New Zealand
CATEGORIES:Events
ATTACH;FMTTYPE=image/png:https://www.standrews.org.nz/wp-content/uploads/2018/07/MF-Poster-29-July.png
ORGANIZER;CN="Centre Manager":MAILTO:reservations@standrews.org.nz
END:VEVENT
BEGIN:VEVENT
DTSTART;TZID=Australia/Sydney:20180731T121200
DTEND;TZID=Australia/Sydney:20180731T131500
DTSTAMP:20260422T231313
CREATED:20180601T024816Z
LAST-MODIFIED:20180719T224550Z
UID:33499-1533039120-1533042900@www.standrews.org.nz
SUMMARY:Centering Prayer
DESCRIPTION:A half hour of group meditation/contemplative prayer.  Begins with a short reading then 30 minutes silence. All welcome.  This website will give you some idea of the approach many of us use.  https://www.contemplativeoutreach.org/category/category/centering-prayer
URL:https://www.standrews.org.nz/event/centering-prayer-58
LOCATION:St Andrew’s Centre\, 30 The Terrace\, Wellington\, 6011\, Wellington\, The Terrace\, 6011\, New Zealand
CATEGORIES:Events
ORGANIZER;CN="Minister":MAILTO:minister@standrews.org.nz
END:VEVENT
END:VCALENDAR