BEGIN:VCALENDAR
VERSION:2.0
PRODID:-//St Andrew&#039;s Church - ECPv6.15.19//NONSGML v1.0//EN
CALSCALE:GREGORIAN
METHOD:PUBLISH
X-WR-CALNAME:St Andrew&#039;s Church
X-ORIGINAL-URL:https://www.standrews.org.nz
X-WR-CALDESC:Events for St Andrew&#039;s Church
REFRESH-INTERVAL;VALUE=DURATION:PT1H
X-Robots-Tag:noindex
X-PUBLISHED-TTL:PT1H
BEGIN:VTIMEZONE
TZID:Pacific/Auckland
BEGIN:STANDARD
TZOFFSETFROM:+1300
TZOFFSETTO:+1200
TZNAME:NZST
DTSTART:20230401T140000
END:STANDARD
BEGIN:DAYLIGHT
TZOFFSETFROM:+1200
TZOFFSETTO:+1300
TZNAME:NZDT
DTSTART:20230923T140000
END:DAYLIGHT
BEGIN:STANDARD
TZOFFSETFROM:+1300
TZOFFSETTO:+1200
TZNAME:NZST
DTSTART:20240406T140000
END:STANDARD
BEGIN:DAYLIGHT
TZOFFSETFROM:+1200
TZOFFSETTO:+1300
TZNAME:NZDT
DTSTART:20240928T140000
END:DAYLIGHT
BEGIN:STANDARD
TZOFFSETFROM:+1300
TZOFFSETTO:+1200
TZNAME:NZST
DTSTART:20250405T140000
END:STANDARD
BEGIN:DAYLIGHT
TZOFFSETFROM:+1200
TZOFFSETTO:+1300
TZNAME:NZDT
DTSTART:20250927T140000
END:DAYLIGHT
END:VTIMEZONE
BEGIN:VEVENT
DTSTART;TZID=Pacific/Auckland:20240609T150000
DTEND;TZID=Pacific/Auckland:20240609T170000
DTSTAMP:20260424T040148
CREATED:20240724T224621Z
LAST-MODIFIED:20240724T224621Z
UID:41924-1717945200-1717952400@www.standrews.org.nz
SUMMARY:Andrew Joyce & Jian Liu (cello/piano)
DESCRIPTION:Renowned musicians Andrew Joyce and Jian Liu have crafted an ambitious programme that\ncelebrates their musical and cultural heritages. Showcasing music for cello and piano from the UK\, China\, and NZ\, the virtuosic duo bring a colourful assortment of melodies for the first half of the programme. This is followed by a larger romantic sonata by Brahms. \nBefore joining the NZSO as Principal Cellist in 2010\, UK‑born Andrew Joyce played regularly with the London Symphony and London Philharmonic Orchestras\, and toured the world’s great concert halls as Guest Principal. He joins forces with internationally acclaimed concert pianist Dr Jian Liu\, currently the Programme Director of Classical Performance and Head of Piano Studies at the New Zealand School of Music—Te Kōkī. Although the pair has played together in chamber ensembles\, this is their first collaboration as a duo. \nJohann Sebastian Bach\, Gamba Sonata No 3 in G minor\, BWV1029\nRalph Vaughan Williams\, Six Studies in English Folk Songs\nDorothy Buchanan\, Soliloquy for Two\n方岽清 (FANG Dongqing)\, 林冲 (Lin Chong)\nPaul Hindemith\, Phantasiestück in B major\, Op 8 No 2\nJohannes Brahms\, Sonata in F major\, Op 99 (1886) \nThis concert is presented in partnership with Chamber Music New Zealand.
URL:https://www.standrews.org.nz/event/andrew-joyce-jian-liu-cello-piano
LOCATION:St Andrews Church\, 30 The Terrace\, Wellington\, 6011\, Wellington\, The Terrace\, 6011\, New Zealand
CATEGORIES:Events
ATTACH;FMTTYPE=image/jpeg:https://www.standrews.org.nz/wp-content/uploads/2024/07/Andrew.jpg
ORGANIZER;CN="Chamber Music NZ":MAILTO:sundayconcertsnz@gmail.com
END:VEVENT
END:VCALENDAR