BEGIN:VCALENDAR
VERSION:2.0
PRODID:-//St Andrew&#039;s Church - ECPv6.15.19//NONSGML v1.0//EN
CALSCALE:GREGORIAN
METHOD:PUBLISH
X-WR-CALNAME:St Andrew&#039;s Church
X-ORIGINAL-URL:https://www.standrews.org.nz
X-WR-CALDESC:Events for St Andrew&#039;s Church
REFRESH-INTERVAL;VALUE=DURATION:PT1H
X-Robots-Tag:noindex
X-PUBLISHED-TTL:PT1H
BEGIN:VTIMEZONE
TZID:Pacific/Auckland
BEGIN:STANDARD
TZOFFSETFROM:+1300
TZOFFSETTO:+1200
TZNAME:NZST
DTSTART:20210403T140000
END:STANDARD
BEGIN:DAYLIGHT
TZOFFSETFROM:+1200
TZOFFSETTO:+1300
TZNAME:NZDT
DTSTART:20210925T140000
END:DAYLIGHT
BEGIN:STANDARD
TZOFFSETFROM:+1300
TZOFFSETTO:+1200
TZNAME:NZST
DTSTART:20220402T140000
END:STANDARD
BEGIN:DAYLIGHT
TZOFFSETFROM:+1200
TZOFFSETTO:+1300
TZNAME:NZDT
DTSTART:20220924T140000
END:DAYLIGHT
BEGIN:STANDARD
TZOFFSETFROM:+1300
TZOFFSETTO:+1200
TZNAME:NZST
DTSTART:20230401T140000
END:STANDARD
BEGIN:DAYLIGHT
TZOFFSETFROM:+1200
TZOFFSETTO:+1300
TZNAME:NZDT
DTSTART:20230923T140000
END:DAYLIGHT
END:VTIMEZONE
BEGIN:VEVENT
DTSTART;TZID=Pacific/Auckland:20220316T121500
DTEND;TZID=Pacific/Auckland:20220316T130000
DTSTAMP:20260424T222722
CREATED:20220201T024239Z
LAST-MODIFIED:20220315T012632Z
UID:38887-1647432900-1647435600@www.standrews.org.nz
SUMMARY:LUNCHTIME CONCERT - CANCELLED DUE TO THE SURGE IN COVID CASES
DESCRIPTION:Due to the surge in COVID-19\, the Wednesday lunchtime concerts have been cancelled this week 16th March\, through until at least 31st March. We will let you know when we can resume the concerts again. Please take care everybody. \n  \nDetails of postponed/cancelled concert: \nOliver Howes (guitar) and Ben Kennedy (piano) \nJoin us at St Andrew’s on The Terrace for an NZSM Student Showcase recital with Oliver Howes (guitar) and Ben Kennedy (piano). Masks and vaccine passes are required for this venue. \nProgramme: \nOliver – Guitar\nLute Sonata V in G-Dur – Silvius Leopold Weiss (1687-1750)\nI. Prelude\nII. Allemande\nIII. Courante\nIV. Bourree\nV. Sarabande\nVI. Minuet\nVII. Gigue \nBen Kennedy – Piano \nBallade No.1 – Frédéric Chopin (1810-1849))\nReflets dans l’eau – Claude Debussy (1862-1918) \nOliver – Guitar \nDue Canzoni Lidie – Nuccio D’Angelo (b.1955)\nI. Espressivo; Tranquillo\nII. Agitato
URL:https://www.standrews.org.nz/event/nzsm-student-showcase-oliver-howes-guitar
LOCATION:St Andrews Church\, 30 The Terrace\, Wellington\, 6011\, Wellington\, The Terrace\, 6011\, New Zealand
CATEGORIES:Lunch time concerts
ATTACH;FMTTYPE=image/jpeg:https://www.standrews.org.nz/wp-content/uploads/2022/02/St-Andrews-photo-Oliver-Howes.jpeg
ORGANIZER;CN="Kristina Zuelicke":MAILTO:wednesday@standrews.org.nz
END:VEVENT
END:VCALENDAR