BEGIN:VCALENDAR
VERSION:2.0
PRODID:-//St Andrew&#039;s Church - ECPv6.15.19//NONSGML v1.0//EN
CALSCALE:GREGORIAN
METHOD:PUBLISH
X-WR-CALNAME:St Andrew&#039;s Church
X-ORIGINAL-URL:https://www.standrews.org.nz
X-WR-CALDESC:Events for St Andrew&#039;s Church
REFRESH-INTERVAL;VALUE=DURATION:PT1H
X-Robots-Tag:noindex
X-PUBLISHED-TTL:PT1H
BEGIN:VTIMEZONE
TZID:Pacific/Auckland
BEGIN:STANDARD
TZOFFSETFROM:+1300
TZOFFSETTO:+1200
TZNAME:NZST
DTSTART:20210403T140000
END:STANDARD
BEGIN:DAYLIGHT
TZOFFSETFROM:+1200
TZOFFSETTO:+1300
TZNAME:NZDT
DTSTART:20210925T140000
END:DAYLIGHT
BEGIN:STANDARD
TZOFFSETFROM:+1300
TZOFFSETTO:+1200
TZNAME:NZST
DTSTART:20220402T140000
END:STANDARD
BEGIN:DAYLIGHT
TZOFFSETFROM:+1200
TZOFFSETTO:+1300
TZNAME:NZDT
DTSTART:20220924T140000
END:DAYLIGHT
BEGIN:STANDARD
TZOFFSETFROM:+1300
TZOFFSETTO:+1200
TZNAME:NZST
DTSTART:20230401T140000
END:STANDARD
BEGIN:DAYLIGHT
TZOFFSETFROM:+1200
TZOFFSETTO:+1300
TZNAME:NZDT
DTSTART:20230923T140000
END:DAYLIGHT
END:VTIMEZONE
BEGIN:VEVENT
DTSTART;TZID=Pacific/Auckland:20220302T121500
DTEND;TZID=Pacific/Auckland:20220302T130000
DTSTAMP:20260425T015528
CREATED:20220201T022654Z
LAST-MODIFIED:20220222T012620Z
UID:38882-1646223300-1646226000@www.standrews.org.nz
SUMMARY:Otis Prescott-Mason\, solo piano
DESCRIPTION:Beethoven – Sonata No.28\, in A major\, Op.101 \nChopin – Polonaise in F# minor\, Op.44 \nRavel – Ondine\, from Gaspard de la Nuit \nScriabin – Sonata No.4\, in F# major\, Op.30 \nBio: \nOtis is a Wellington-born pianist and is currently a second-year classical performance student at Victoria University of Wellington’s New Zealand School of Music\, though he has been studying there part-time since 2019.  He began his piano studies with Erin Taylor at the age of five and he studied with Emma Sayers from 2018-2020.  Otis is currently studying under Dr. Jian Liu\, and has been since 2018. \nOtis has been successful in local competitions\, winning 1st prize in the IRMTNZ Tertiary Sonata Competition in 2019\, 2020\, and 2021\, as well as placing first at the IRMTNZ Recital Contest in 2019 and 2020.  Otis has also been successful at national competitions.  In 2020 he was awarded 1st prize at the New Zealand Junior Piano Competition\, and recently he was awarded 1st prize at the Lewis Eady National Piano Competition\, New Zealand’s national piano competition. \nOtis enjoys chamber music and has played in many ensembles. One of these groups won a silver award at the 2020 NZCT Chamber Contest; another won a bronze award at the 2019 NZCT Chamber Contest.  Otis was selected to attend the 2021 and 2022 Adam Summer School for Chamber Music in Nelson.  He has also dedicated his time to teaching piano since 2017.
URL:https://www.standrews.org.nz/event/louis-lucas-perry-solo-piano
LOCATION:St Andrews Church\, 30 The Terrace\, Wellington\, 6011\, Wellington\, The Terrace\, 6011\, New Zealand
CATEGORIES:Lunch time concerts
ATTACH;FMTTYPE=image/png:https://www.standrews.org.nz/wp-content/uploads/2022/02/Screenshot-2022-02-22-1.35.10-PM.png
ORGANIZER;CN="Kristina Zuelicke":MAILTO:wednesday@standrews.org.nz
END:VEVENT
END:VCALENDAR