BEGIN:VCALENDAR
VERSION:2.0
PRODID:-//St Andrew&#039;s Church - ECPv6.15.19//NONSGML v1.0//EN
CALSCALE:GREGORIAN
METHOD:PUBLISH
X-WR-CALNAME:St Andrew&#039;s Church
X-ORIGINAL-URL:https://www.standrews.org.nz
X-WR-CALDESC:Events for St Andrew&#039;s Church
REFRESH-INTERVAL;VALUE=DURATION:PT1H
X-Robots-Tag:noindex
X-PUBLISHED-TTL:PT1H
BEGIN:VTIMEZONE
TZID:Pacific/Auckland
BEGIN:STANDARD
TZOFFSETFROM:+1300
TZOFFSETTO:+1200
TZNAME:NZST
DTSTART:20200404T140000
END:STANDARD
BEGIN:DAYLIGHT
TZOFFSETFROM:+1200
TZOFFSETTO:+1300
TZNAME:NZDT
DTSTART:20200926T140000
END:DAYLIGHT
BEGIN:STANDARD
TZOFFSETFROM:+1300
TZOFFSETTO:+1200
TZNAME:NZST
DTSTART:20210403T140000
END:STANDARD
BEGIN:DAYLIGHT
TZOFFSETFROM:+1200
TZOFFSETTO:+1300
TZNAME:NZDT
DTSTART:20210925T140000
END:DAYLIGHT
BEGIN:STANDARD
TZOFFSETFROM:+1300
TZOFFSETTO:+1200
TZNAME:NZST
DTSTART:20220402T140000
END:STANDARD
BEGIN:DAYLIGHT
TZOFFSETFROM:+1200
TZOFFSETTO:+1300
TZNAME:NZDT
DTSTART:20220924T140000
END:DAYLIGHT
END:VTIMEZONE
BEGIN:VEVENT
DTSTART;TZID=Pacific/Auckland:20211117T121500
DTEND;TZID=Pacific/Auckland:20211117T130000
DTSTAMP:20260424T053937
CREATED:20210716T042446Z
LAST-MODIFIED:20211117T222103Z
UID:38184-1637151300-1637154000@www.standrews.org.nz
SUMMARY:Sunny Cheng and Otis Prescott-Mason\, piano four hands
DESCRIPTION:Schubert – Grand Rondo in A Major\, D 951 \nMendelssohn – Andante and Allegro brilliant\, Op. 92 \nSaint-Saëns – The Carnival of the Animals\nI. Introduction et marche royale du lion (Introduction and Royal March of the Lion)\nII. Poules et coqs (Hens and Roosters)\nIII. Hémiones (animaux véloces) (Wild Donkeys Swift Animals)\nIV. Tortues (Tortoises)\nV. L’Éléphant (The Elephant)\nVI. Kangourous (Kangaroos)\nVII. Aquarium\nVIII. Personnages à longues oreilles (Characters with Long Ears)\nIX. Le Coucou au fond des bois (The Cuckoo in the Depths of the Woods)\nX. Volière (Aviary)\nXI. Pianistes (Pianists)\nXII. Fossiles (Fossils)\nXIII. Le cygne (The Swan)\nXIV. Final (Finale) \nProgramme17 November ‘Sunny Cheng and Otis Prescott-Mason\, Piano Four Hands’
URL:https://www.standrews.org.nz/event/piano-trio-sunny-cheng-piano-emily-paterson-violin-and-hayden-nickel-cello-2
LOCATION:St Andrews Church\, 30 The Terrace\, Wellington\, 6011\, Wellington\, The Terrace\, 6011\, New Zealand
CATEGORIES:Lunch time concerts
END:VEVENT
END:VCALENDAR