BEGIN:VCALENDAR
VERSION:2.0
PRODID:-//St Andrew&#039;s Church - ECPv6.15.19//NONSGML v1.0//EN
CALSCALE:GREGORIAN
METHOD:PUBLISH
X-WR-CALNAME:St Andrew&#039;s Church
X-ORIGINAL-URL:https://www.standrews.org.nz
X-WR-CALDESC:Events for St Andrew&#039;s Church
REFRESH-INTERVAL;VALUE=DURATION:PT1H
X-Robots-Tag:noindex
X-PUBLISHED-TTL:PT1H
BEGIN:VTIMEZONE
TZID:Pacific/Auckland
BEGIN:STANDARD
TZOFFSETFROM:+1300
TZOFFSETTO:+1200
TZNAME:NZST
DTSTART:20200404T140000
END:STANDARD
BEGIN:DAYLIGHT
TZOFFSETFROM:+1200
TZOFFSETTO:+1300
TZNAME:NZDT
DTSTART:20200926T140000
END:DAYLIGHT
BEGIN:STANDARD
TZOFFSETFROM:+1300
TZOFFSETTO:+1200
TZNAME:NZST
DTSTART:20210403T140000
END:STANDARD
BEGIN:DAYLIGHT
TZOFFSETFROM:+1200
TZOFFSETTO:+1300
TZNAME:NZDT
DTSTART:20210925T140000
END:DAYLIGHT
BEGIN:STANDARD
TZOFFSETFROM:+1300
TZOFFSETTO:+1200
TZNAME:NZST
DTSTART:20220402T140000
END:STANDARD
BEGIN:DAYLIGHT
TZOFFSETFROM:+1200
TZOFFSETTO:+1300
TZNAME:NZDT
DTSTART:20220924T140000
END:DAYLIGHT
END:VTIMEZONE
BEGIN:VEVENT
DTSTART;TZID=Pacific/Auckland:20211110T121500
DTEND;TZID=Pacific/Auckland:20211110T130000
DTSTAMP:20260425T040155
CREATED:20210311T232027Z
LAST-MODIFIED:20211109T010430Z
UID:37765-1636546500-1636549200@www.standrews.org.nz
SUMMARY:Uriele - original compositions for solo piano
DESCRIPTION:Uriele is a classical pianist\, a composer and a clown. She is also a fully trained psychologist holding a Masters Degree from a German University. Born in Munich and brought up in beautiful Bavaria\, she fell in love with New Zealand and since 1996 made it her home. \nThe music Uriele writes is deeply emotive\, sometimes sad and melancholic\, sometimes quirky and joyful\, sometimes playful like a clown. Through mindfulness and presence which she has been practising for many years of Sacred Clowning she found a way to process her feelings intuitively. She has recorded three albums with her own piano music: Soul Moons (2012)\, Inner Orbit (2014) and In Between (2017) \nThe music falls into the genre of minimalism\, driven by simple chords and repetitive patterns\, and at the same time offering great variety of style. Having been trained as a classical pianist for 12 years\, the influence of classicism can be noticed in the structure and the rich melodic content of some pieces that seem to tell stories. There are jaunty dance pieces bringing waltz\, ragtime\, shades of folk music and Jewish syncopated dance rhythms into play. Rhythm has become a strong aspect in her most recent compositions through her connection to traditional marimba music. Audience limited by alert level. \n  \nProgramme detail: 10 November Duets and Trios for Voice and Piano
URL:https://www.standrews.org.nz/event/uriele-original-compositions-for-solo-piano
LOCATION:St Andrews Church\, 30 The Terrace\, Wellington\, 6011\, Wellington\, The Terrace\, 6011\, New Zealand
CATEGORIES:Lunch time concerts
ATTACH;FMTTYPE=image/jpeg:https://www.standrews.org.nz/wp-content/uploads/2021/03/St-Andrews-photo-Uriele.jpg
ORGANIZER;CN="Kristina Zuelicke":MAILTO:wednesday@standrews.org.nz
END:VEVENT
END:VCALENDAR