BEGIN:VCALENDAR
VERSION:2.0
PRODID:-//St Andrew&#039;s Church - ECPv6.15.19//NONSGML v1.0//EN
CALSCALE:GREGORIAN
METHOD:PUBLISH
X-WR-CALNAME:St Andrew&#039;s Church
X-ORIGINAL-URL:https://www.standrews.org.nz
X-WR-CALDESC:Events for St Andrew&#039;s Church
REFRESH-INTERVAL;VALUE=DURATION:PT1H
X-Robots-Tag:noindex
X-PUBLISHED-TTL:PT1H
BEGIN:VTIMEZONE
TZID:Pacific/Auckland
BEGIN:STANDARD
TZOFFSETFROM:+1300
TZOFFSETTO:+1200
TZNAME:NZST
DTSTART:20200404T140000
END:STANDARD
BEGIN:DAYLIGHT
TZOFFSETFROM:+1200
TZOFFSETTO:+1300
TZNAME:NZDT
DTSTART:20200926T140000
END:DAYLIGHT
BEGIN:STANDARD
TZOFFSETFROM:+1300
TZOFFSETTO:+1200
TZNAME:NZST
DTSTART:20210403T140000
END:STANDARD
BEGIN:DAYLIGHT
TZOFFSETFROM:+1200
TZOFFSETTO:+1300
TZNAME:NZDT
DTSTART:20210925T140000
END:DAYLIGHT
BEGIN:STANDARD
TZOFFSETFROM:+1300
TZOFFSETTO:+1200
TZNAME:NZST
DTSTART:20220402T140000
END:STANDARD
BEGIN:DAYLIGHT
TZOFFSETFROM:+1200
TZOFFSETTO:+1300
TZNAME:NZDT
DTSTART:20220924T140000
END:DAYLIGHT
END:VTIMEZONE
BEGIN:VEVENT
DTSTART;TZID=Pacific/Auckland:20211027T121500
DTEND;TZID=Pacific/Auckland:20211027T130000
DTSTAMP:20260425T061116
CREATED:20210311T231604Z
LAST-MODIFIED:20211014T011542Z
UID:37759-1635336900-1635339600@www.standrews.org.nz
SUMMARY:Douglas Mews plays Frescobaldi Toccatas and Partitas on an Italian Virginal.
DESCRIPTION:Douglas Mews plays Frescobaldi Toccatas and Partitas on an Italian Virginal. J. S. Bach owned copies of Frescobaldi’s keyboard works\, written a century earlier\, and admired them greatly. Frescobaldi was the hot-blooded organist of St Peter’s in Rome\, whose keyboard style ranged from quixotic to hypnotic. An Italian virginal is the ideal instrument to display his wonderfully inventive music. Audience is limited according to alert levels.
URL:https://www.standrews.org.nz/event/saxcess-saxophone-quartet
LOCATION:St Andrews Church\, 30 The Terrace\, Wellington\, 6011\, Wellington\, The Terrace\, 6011\, New Zealand
CATEGORIES:Lunch time concerts
ATTACH;FMTTYPE=image/jpeg:https://www.standrews.org.nz/wp-content/uploads/2021/03/St-Andrews-photo-Douglas-Mews.jpg
ORGANIZER;CN="Kristina Zuelicke":MAILTO:wednesday@standrews.org.nz
END:VEVENT
END:VCALENDAR