BEGIN:VCALENDAR
VERSION:2.0
PRODID:-//St Andrew&#039;s Church - ECPv6.15.19//NONSGML v1.0//EN
CALSCALE:GREGORIAN
METHOD:PUBLISH
X-WR-CALNAME:St Andrew&#039;s Church
X-ORIGINAL-URL:https://www.standrews.org.nz
X-WR-CALDESC:Events for St Andrew&#039;s Church
REFRESH-INTERVAL;VALUE=DURATION:PT1H
X-Robots-Tag:noindex
X-PUBLISHED-TTL:PT1H
BEGIN:VTIMEZONE
TZID:Australia/Sydney
BEGIN:STANDARD
TZOFFSETFROM:+1100
TZOFFSETTO:+1000
TZNAME:AEST
DTSTART:20200404T160000
END:STANDARD
BEGIN:DAYLIGHT
TZOFFSETFROM:+1000
TZOFFSETTO:+1100
TZNAME:AEDT
DTSTART:20201003T160000
END:DAYLIGHT
BEGIN:STANDARD
TZOFFSETFROM:+1100
TZOFFSETTO:+1000
TZNAME:AEST
DTSTART:20210403T160000
END:STANDARD
BEGIN:DAYLIGHT
TZOFFSETFROM:+1000
TZOFFSETTO:+1100
TZNAME:AEDT
DTSTART:20211002T160000
END:DAYLIGHT
BEGIN:STANDARD
TZOFFSETFROM:+1100
TZOFFSETTO:+1000
TZNAME:AEST
DTSTART:20220402T160000
END:STANDARD
BEGIN:DAYLIGHT
TZOFFSETFROM:+1000
TZOFFSETTO:+1100
TZNAME:AEDT
DTSTART:20221001T160000
END:DAYLIGHT
END:VTIMEZONE
BEGIN:VTIMEZONE
TZID:Pacific/Auckland
BEGIN:STANDARD
TZOFFSETFROM:+1300
TZOFFSETTO:+1200
TZNAME:NZST
DTSTART:20200404T140000
END:STANDARD
BEGIN:DAYLIGHT
TZOFFSETFROM:+1200
TZOFFSETTO:+1300
TZNAME:NZDT
DTSTART:20200926T140000
END:DAYLIGHT
BEGIN:STANDARD
TZOFFSETFROM:+1300
TZOFFSETTO:+1200
TZNAME:NZST
DTSTART:20210403T140000
END:STANDARD
BEGIN:DAYLIGHT
TZOFFSETFROM:+1200
TZOFFSETTO:+1300
TZNAME:NZDT
DTSTART:20210925T140000
END:DAYLIGHT
BEGIN:STANDARD
TZOFFSETFROM:+1300
TZOFFSETTO:+1200
TZNAME:NZST
DTSTART:20220402T140000
END:STANDARD
BEGIN:DAYLIGHT
TZOFFSETFROM:+1200
TZOFFSETTO:+1300
TZNAME:NZDT
DTSTART:20220924T140000
END:DAYLIGHT
END:VTIMEZONE
BEGIN:VEVENT
DTSTART;TZID=Australia/Sydney:20210623T103000
DTEND;TZID=Australia/Sydney:20210623T120000
DTSTAMP:20260425T040227
CREATED:20210409T023023Z
LAST-MODIFIED:20210409T023330Z
UID:37886-1624444200-1624449600@www.standrews.org.nz
SUMMARY:Cuppa and Chat
DESCRIPTION:A weekly chance to meet people and talk about your life in a confidential space.  Informal chat over tea and coffee happens from 10.30am.  A talking circle begins at 11am and runs till 12 noon. All welcome.
URL:https://www.standrews.org.nz/event/cuppa-and-chat-124
LOCATION:St Andrew’s Centre\, 30 The Terrace\, Wellington\, 6011\, Wellington\, The Terrace\, 6011\, New Zealand
CATEGORIES:Community gatherings
ATTACH;FMTTYPE=image/jpeg:https://www.standrews.org.nz/wp-content/uploads/2016/12/rainbow-room-artwork-10.jpg
END:VEVENT
BEGIN:VEVENT
DTSTART;TZID=Pacific/Auckland:20210623T121500
DTEND;TZID=Pacific/Auckland:20210623T130000
DTSTAMP:20260425T040227
CREATED:20210303T000732Z
LAST-MODIFIED:20210622T000222Z
UID:37669-1624450500-1624453200@www.standrews.org.nz
SUMMARY:Duo Enharmonics - Beth Chen and Nicole Chao\, piano duo
DESCRIPTION:Sonata in C\, K.521 by Mozart \nFantasy in F Minor\, D.940 by Schubert \nSinfonia 40 by Mozart\, arranged by Igor Roma \n  \nProgramme details: 2021-06-23 Duo Harmonics
URL:https://www.standrews.org.nz/event/duo-enharmonics-beth-chen-and-nicole-chao-piano-duo
LOCATION:St Andrews Church\, 30 The Terrace\, Wellington\, 6011\, Wellington\, The Terrace\, 6011\, New Zealand
CATEGORIES:Lunch time concerts
ATTACH;FMTTYPE=image/jpeg:https://www.standrews.org.nz/wp-content/uploads/2021/03/St-Andrews-Duo-Enharmonics-publicity-photo-scaled.jpg
ORGANIZER;CN="Kristina Zuelicke":MAILTO:wednesday@standrews.org.nz
END:VEVENT
END:VCALENDAR