BEGIN:VCALENDAR
VERSION:2.0
PRODID:-//St Andrew&#039;s Church - ECPv6.15.19//NONSGML v1.0//EN
CALSCALE:GREGORIAN
METHOD:PUBLISH
X-WR-CALNAME:St Andrew&#039;s Church
X-ORIGINAL-URL:https://www.standrews.org.nz
X-WR-CALDESC:Events for St Andrew&#039;s Church
REFRESH-INTERVAL;VALUE=DURATION:PT1H
X-Robots-Tag:noindex
X-PUBLISHED-TTL:PT1H
BEGIN:VTIMEZONE
TZID:Pacific/Auckland
BEGIN:STANDARD
TZOFFSETFROM:+1300
TZOFFSETTO:+1200
TZNAME:NZST
DTSTART:20200404T140000
END:STANDARD
BEGIN:DAYLIGHT
TZOFFSETFROM:+1200
TZOFFSETTO:+1300
TZNAME:NZDT
DTSTART:20200926T140000
END:DAYLIGHT
BEGIN:STANDARD
TZOFFSETFROM:+1300
TZOFFSETTO:+1200
TZNAME:NZST
DTSTART:20210403T140000
END:STANDARD
BEGIN:DAYLIGHT
TZOFFSETFROM:+1200
TZOFFSETTO:+1300
TZNAME:NZDT
DTSTART:20210925T140000
END:DAYLIGHT
BEGIN:STANDARD
TZOFFSETFROM:+1300
TZOFFSETTO:+1200
TZNAME:NZST
DTSTART:20220402T140000
END:STANDARD
BEGIN:DAYLIGHT
TZOFFSETFROM:+1200
TZOFFSETTO:+1300
TZNAME:NZDT
DTSTART:20220924T140000
END:DAYLIGHT
END:VTIMEZONE
BEGIN:VEVENT
DTSTART;TZID=Pacific/Auckland:20210610T121500
DTEND;TZID=Pacific/Auckland:20210610T130000
DTSTAMP:20260425T101653
CREATED:20210311T234910Z
LAST-MODIFIED:20210608T222507Z
UID:37777-1623327300-1623330000@www.standrews.org.nz
SUMMARY:Gillian Ansell’s Viola Students from the NZSM
DESCRIPTION:Programme details: 2021-06-10 NZSM Viola
URL:https://www.standrews.org.nz/event/pohl-gjelsten-and-friends
LOCATION:St Andrews Church\, 30 The Terrace\, Wellington\, 6011\, Wellington\, The Terrace\, 6011\, New Zealand
CATEGORIES:Lunch time concerts
ORGANIZER;CN="Kristina Zuelicke":MAILTO:wednesday@standrews.org.nz
END:VEVENT
END:VCALENDAR