BEGIN:VCALENDAR
VERSION:2.0
PRODID:-//St Andrew&#039;s Church - ECPv6.15.19//NONSGML v1.0//EN
CALSCALE:GREGORIAN
METHOD:PUBLISH
X-WR-CALNAME:St Andrew&#039;s Church
X-ORIGINAL-URL:https://www.standrews.org.nz
X-WR-CALDESC:Events for St Andrew&#039;s Church
REFRESH-INTERVAL;VALUE=DURATION:PT1H
X-Robots-Tag:noindex
X-PUBLISHED-TTL:PT1H
BEGIN:VTIMEZONE
TZID:Australia/Sydney
BEGIN:STANDARD
TZOFFSETFROM:+1100
TZOFFSETTO:+1000
TZNAME:AEST
DTSTART:20200404T160000
END:STANDARD
BEGIN:DAYLIGHT
TZOFFSETFROM:+1000
TZOFFSETTO:+1100
TZNAME:AEDT
DTSTART:20201003T160000
END:DAYLIGHT
BEGIN:STANDARD
TZOFFSETFROM:+1100
TZOFFSETTO:+1000
TZNAME:AEST
DTSTART:20210403T160000
END:STANDARD
BEGIN:DAYLIGHT
TZOFFSETFROM:+1000
TZOFFSETTO:+1100
TZNAME:AEDT
DTSTART:20211002T160000
END:DAYLIGHT
BEGIN:STANDARD
TZOFFSETFROM:+1100
TZOFFSETTO:+1000
TZNAME:AEST
DTSTART:20220402T160000
END:STANDARD
BEGIN:DAYLIGHT
TZOFFSETFROM:+1000
TZOFFSETTO:+1100
TZNAME:AEDT
DTSTART:20221001T160000
END:DAYLIGHT
END:VTIMEZONE
BEGIN:VEVENT
DTSTART;TZID=Australia/Sydney:20210512T103000
DTEND;TZID=Australia/Sydney:20210512T120000
DTSTAMP:20260425T092609
CREATED:20210409T021519Z
LAST-MODIFIED:20210409T021519Z
UID:37873-1620815400-1620820800@www.standrews.org.nz
SUMMARY:Cuppa and Chat
DESCRIPTION:A weekly chance to meet people and talk about your life in a confidential space.  Informal chat over tea and coffee happens from 10.30am.  A talking circle begins at 11am and runs till 12 noon. All welcome.
URL:https://www.standrews.org.nz/event/cuppa-and-chat-118
LOCATION:St Andrew’s Centre\, 30 The Terrace\, Wellington\, 6011\, Wellington\, The Terrace\, 6011\, New Zealand
CATEGORIES:Community gatherings
END:VEVENT
BEGIN:VEVENT
DTSTART;TZID=Australia/Sydney:20210512T121500
DTEND;TZID=Australia/Sydney:20210512T130000
DTSTAMP:20260425T092609
CREATED:20210216T014338Z
LAST-MODIFIED:20210511T014918Z
UID:37622-1620821700-1620824400@www.standrews.org.nz
SUMMARY:Rebecca Steel and Kristina Zuelicke – 20th-century British and American music for flute and piano
DESCRIPTION:Programme: \nHypnosis and Spiral Lament by Ian Clarke \nPoem by Charles T. Griffes \nFlute and Piano Sonata by Robert Muczynski \n  \nProgramme : 2021-05-12 Rebecca and Kris
URL:https://www.standrews.org.nz/event/rebecca-steel-and-kristina-zuelicke-20th-century-british-and-american-music-for-flute-and-piano
LOCATION:St Andrews Church\, 30 The Terrace\, Wellington\, 6011\, Wellington\, The Terrace\, 6011\, New Zealand
CATEGORIES:Lunch time concerts
ATTACH;FMTTYPE=image/jpeg:https://www.standrews.org.nz/wp-content/uploads/2021/02/Rebecca-and-Kris-2020-scaled.jpg
ORGANIZER;CN="Kristina Zuelicke":MAILTO:wednesday@standrews.org.nz
END:VEVENT
END:VCALENDAR