BEGIN:VCALENDAR
VERSION:2.0
PRODID:-//St Andrew&#039;s Church - ECPv6.15.19//NONSGML v1.0//EN
CALSCALE:GREGORIAN
METHOD:PUBLISH
X-WR-CALNAME:St Andrew&#039;s Church
X-ORIGINAL-URL:https://www.standrews.org.nz
X-WR-CALDESC:Events for St Andrew&#039;s Church
REFRESH-INTERVAL;VALUE=DURATION:PT1H
X-Robots-Tag:noindex
X-PUBLISHED-TTL:PT1H
BEGIN:VTIMEZONE
TZID:Australia/Sydney
BEGIN:STANDARD
TZOFFSETFROM:+1100
TZOFFSETTO:+1000
TZNAME:AEST
DTSTART:20200404T160000
END:STANDARD
BEGIN:DAYLIGHT
TZOFFSETFROM:+1000
TZOFFSETTO:+1100
TZNAME:AEDT
DTSTART:20201003T160000
END:DAYLIGHT
BEGIN:STANDARD
TZOFFSETFROM:+1100
TZOFFSETTO:+1000
TZNAME:AEST
DTSTART:20210403T160000
END:STANDARD
BEGIN:DAYLIGHT
TZOFFSETFROM:+1000
TZOFFSETTO:+1100
TZNAME:AEDT
DTSTART:20211002T160000
END:DAYLIGHT
BEGIN:STANDARD
TZOFFSETFROM:+1100
TZOFFSETTO:+1000
TZNAME:AEST
DTSTART:20220402T160000
END:STANDARD
BEGIN:DAYLIGHT
TZOFFSETFROM:+1000
TZOFFSETTO:+1100
TZNAME:AEDT
DTSTART:20221001T160000
END:DAYLIGHT
END:VTIMEZONE
BEGIN:VEVENT
DTSTART;TZID=Australia/Sydney:20210410T190000
DTEND;TZID=Australia/Sydney:20210410T220000
DTSTAMP:20260424T095024
CREATED:20210210T200441Z
LAST-MODIFIED:20210308T211533Z
UID:37578-1618081200-1618092000@www.standrews.org.nz
SUMMARY:Ristov-Villani Duo
DESCRIPTION:Following their 2020 concert series celebrating Beethoven’s anniversary\, violinist Marko Pop Ristov and pianist Flavio Villani plan to take New Zealand audiences on an exciting ‘Music Tour through Europe’ in 2021. \n“The travel limitations caused by the Covid-19 pandemic have made it more difficult to experience cultural events abroad\, so we have decided to bring Europe to NZ halls: we have created this concert series so we can all travel through music. We will treat our audiences to a variety of masterpieces from different European countries.” \nGrieg – Violin Sonata n.3 in C minor\nDvorak – 4 Romantic Pieces Op.75\nBartok – 6 Romanian Dances\nProkofiev – Violin Sonata n.2 \nThis programme will be touring in Whangarei\, Waipu\, Wellington\, Greytown and Auckland. Check the poster attached for all the dates.\nThe duo started playing together in 2016 as members of the Villani Piano Quartet. In 2019 they founded the European-based chamber group Orion Piano Trio\, touring to several countries in Europe before the pandemic. The strength of this extensive journey of music making together ensures the duo can bring excellent and memorable experiences to local music halls across New Zealand.” \nFacebook event: https://www.facebook.com/events/789508141946555 \nEventfinder: https://www.eventfinda.co.nz/2021/music-through-europe-ristov-villani-duo/wellington
URL:https://www.standrews.org.nz/event/ristov-villani-duo
LOCATION:St Andrews Church\, 30 The Terrace\, Wellington\, 6011\, Wellington\, The Terrace\, 6011\, New Zealand
CATEGORIES:Lunch time concerts
ATTACH;FMTTYPE=application/pdf:https://www.standrews.org.nz/wp-content/uploads/2021/02/DEF-POSTER-P_V.pdf
END:VEVENT
END:VCALENDAR