BEGIN:VCALENDAR
VERSION:2.0
PRODID:-//St Andrew&#039;s Church - ECPv6.15.19//NONSGML v1.0//EN
CALSCALE:GREGORIAN
METHOD:PUBLISH
X-WR-CALNAME:St Andrew&#039;s Church
X-ORIGINAL-URL:https://www.standrews.org.nz
X-WR-CALDESC:Events for St Andrew&#039;s Church
REFRESH-INTERVAL;VALUE=DURATION:PT1H
X-Robots-Tag:noindex
X-PUBLISHED-TTL:PT1H
BEGIN:VTIMEZONE
TZID:Australia/Sydney
BEGIN:STANDARD
TZOFFSETFROM:+1100
TZOFFSETTO:+1000
TZNAME:AEST
DTSTART:20200404T160000
END:STANDARD
BEGIN:DAYLIGHT
TZOFFSETFROM:+1000
TZOFFSETTO:+1100
TZNAME:AEDT
DTSTART:20201003T160000
END:DAYLIGHT
BEGIN:STANDARD
TZOFFSETFROM:+1100
TZOFFSETTO:+1000
TZNAME:AEST
DTSTART:20210403T160000
END:STANDARD
BEGIN:DAYLIGHT
TZOFFSETFROM:+1000
TZOFFSETTO:+1100
TZNAME:AEDT
DTSTART:20211002T160000
END:DAYLIGHT
BEGIN:STANDARD
TZOFFSETFROM:+1100
TZOFFSETTO:+1000
TZNAME:AEST
DTSTART:20220402T160000
END:STANDARD
BEGIN:DAYLIGHT
TZOFFSETFROM:+1000
TZOFFSETTO:+1100
TZNAME:AEDT
DTSTART:20221001T160000
END:DAYLIGHT
END:VTIMEZONE
BEGIN:VEVENT
DTSTART;TZID=Australia/Sydney:20210331T103000
DTEND;TZID=Australia/Sydney:20210331T120000
DTSTAMP:20260424T053856
CREATED:20190705T010447Z
LAST-MODIFIED:20210312T002836Z
UID:35562-1617186600-1617192000@www.standrews.org.nz
SUMMARY:Cuppa and Chat
DESCRIPTION:A weekly chance to meet people and talk about your life in a confidential space.  Informal chat over tea and coffee happens from 10.30am.  A talking circle begins at 11am and runs till 12 noon. All welcome.
URL:https://www.standrews.org.nz/event/cuppa-and-chat-78
LOCATION:St Andrew’s Centre\, 30 The Terrace\, Wellington\, 6011\, Wellington\, The Terrace\, 6011\, New Zealand
CATEGORIES:Community gatherings
ORGANIZER;CN="Minister":MAILTO:minister@standrews.org.nz
END:VEVENT
BEGIN:VEVENT
DTSTART;TZID=Australia/Sydney:20210331T121500
DTEND;TZID=Australia/Sydney:20210331T130000
DTSTAMP:20260424T053856
CREATED:20210216T000018Z
LAST-MODIFIED:20210311T235706Z
UID:37604-1617192900-1617195600@www.standrews.org.nz
SUMMARY:NZSM Brass Ensemble
DESCRIPTION:Works performed: \nTielman Susato – A Suite of Dances \nBenjamin Britten – Russian funeral for Brass \nWilliam Walton – Crown Imperial: A Coronation March \nSamuel Barber – Mutations from Bach \nClaude Debussy – Girl with the Flaxen Hair \nChris Hazell – Three Brass Cats
URL:https://www.standrews.org.nz/event/wind-and-brass-students-of-the-nzsm
LOCATION:St Andrews Church\, 30 The Terrace\, Wellington\, 6011\, Wellington\, The Terrace\, 6011\, New Zealand
CATEGORIES:Lunch time concerts
ATTACH;FMTTYPE=image/jpeg:https://www.standrews.org.nz/wp-content/uploads/2021/02/St-Andrews-Shannon-photo-2.jpeg
ORGANIZER;CN="Kristina Zuelicke":MAILTO:wednesday@standrews.org.nz
END:VEVENT
END:VCALENDAR