BEGIN:VCALENDAR
VERSION:2.0
PRODID:-//St Andrew&#039;s Church - ECPv6.15.19//NONSGML v1.0//EN
CALSCALE:GREGORIAN
METHOD:PUBLISH
X-WR-CALNAME:St Andrew&#039;s Church
X-ORIGINAL-URL:https://www.standrews.org.nz
X-WR-CALDESC:Events for St Andrew&#039;s Church
REFRESH-INTERVAL;VALUE=DURATION:PT1H
X-Robots-Tag:noindex
X-PUBLISHED-TTL:PT1H
BEGIN:VTIMEZONE
TZID:Australia/Sydney
BEGIN:STANDARD
TZOFFSETFROM:+1100
TZOFFSETTO:+1000
TZNAME:AEST
DTSTART:20200404T160000
END:STANDARD
BEGIN:DAYLIGHT
TZOFFSETFROM:+1000
TZOFFSETTO:+1100
TZNAME:AEDT
DTSTART:20201003T160000
END:DAYLIGHT
BEGIN:STANDARD
TZOFFSETFROM:+1100
TZOFFSETTO:+1000
TZNAME:AEST
DTSTART:20210403T160000
END:STANDARD
BEGIN:DAYLIGHT
TZOFFSETFROM:+1000
TZOFFSETTO:+1100
TZNAME:AEDT
DTSTART:20211002T160000
END:DAYLIGHT
BEGIN:STANDARD
TZOFFSETFROM:+1100
TZOFFSETTO:+1000
TZNAME:AEST
DTSTART:20220402T160000
END:STANDARD
BEGIN:DAYLIGHT
TZOFFSETFROM:+1000
TZOFFSETTO:+1100
TZNAME:AEDT
DTSTART:20221001T160000
END:DAYLIGHT
END:VTIMEZONE
BEGIN:VEVENT
DTSTART;TZID=Australia/Sydney:20210310T100000
DTEND;TZID=Australia/Sydney:20210310T123000
DTSTAMP:20260425T015557
CREATED:20210308T200330Z
LAST-MODIFIED:20210308T200330Z
UID:37691-1615370400-1615379400@www.standrews.org.nz
SUMMARY:ORGAN OPEN DAY - Wednesday 10th March - 10am – 12.30pm
DESCRIPTION:ORGAN OPEN DAY – Wednesday 10th March – 10am – 12.30pm\nCOME AND SEE THE ORGAN BEING REINSTALLED\nMoritz Fassbender\, in charge of the reinstallation has kindly agreed that the Organ committee can hold an Open Morning so that members of our community who are interested can drop in to watch the team at work. The South Island Organ Company team members will be available to explain what they are doing.\nMorning tea will be served from 10am until 12:30pm for a gold coin donation.\nPlease note that no parking is available at St Andrew’s.
URL:https://www.standrews.org.nz/event/organ-open-day-wednesday-10th-march-10am-12-30pm
LOCATION:St Andrews Church\, 30 The Terrace\, Wellington\, 6011\, Wellington\, The Terrace\, 6011\, New Zealand
CATEGORIES:Community gatherings
END:VEVENT
END:VCALENDAR