BEGIN:VCALENDAR
VERSION:2.0
PRODID:-//St Andrew&#039;s Church - ECPv6.15.19//NONSGML v1.0//EN
CALSCALE:GREGORIAN
METHOD:PUBLISH
X-WR-CALNAME:St Andrew&#039;s Church
X-ORIGINAL-URL:https://www.standrews.org.nz
X-WR-CALDESC:Events for St Andrew&#039;s Church
REFRESH-INTERVAL;VALUE=DURATION:PT1H
X-Robots-Tag:noindex
X-PUBLISHED-TTL:PT1H
BEGIN:VTIMEZONE
TZID:Australia/Sydney
BEGIN:STANDARD
TZOFFSETFROM:+1100
TZOFFSETTO:+1000
TZNAME:AEST
DTSTART:20190406T160000
END:STANDARD
BEGIN:DAYLIGHT
TZOFFSETFROM:+1000
TZOFFSETTO:+1100
TZNAME:AEDT
DTSTART:20191005T160000
END:DAYLIGHT
BEGIN:STANDARD
TZOFFSETFROM:+1100
TZOFFSETTO:+1000
TZNAME:AEST
DTSTART:20200404T160000
END:STANDARD
BEGIN:DAYLIGHT
TZOFFSETFROM:+1000
TZOFFSETTO:+1100
TZNAME:AEDT
DTSTART:20201003T160000
END:DAYLIGHT
BEGIN:STANDARD
TZOFFSETFROM:+1100
TZOFFSETTO:+1000
TZNAME:AEST
DTSTART:20210403T160000
END:STANDARD
BEGIN:DAYLIGHT
TZOFFSETFROM:+1000
TZOFFSETTO:+1100
TZNAME:AEDT
DTSTART:20211002T160000
END:DAYLIGHT
END:VTIMEZONE
BEGIN:VEVENT
DTSTART;TZID=Australia/Sydney:20201215T121500
DTEND;TZID=Australia/Sydney:20201215T130000
DTSTAMP:20260424T121409
CREATED:20201209T220703Z
LAST-MODIFIED:20201209T220703Z
UID:37407-1608034500-1608037200@www.standrews.org.nz
SUMMARY:Crown Law presents Favourites
DESCRIPTION:
URL:https://www.standrews.org.nz/event/crown-law-presents-favourites
LOCATION:St Andrews Church\, 30 The Terrace\, Wellington\, 6011\, Wellington\, The Terrace\, 6011\, New Zealand
CATEGORIES:Lunch time concerts
ATTACH;FMTTYPE=image/jpeg:https://www.standrews.org.nz/wp-content/uploads/2020/12/Councsel-in-Concert-2020.jpg
END:VEVENT
BEGIN:VEVENT
DTSTART;TZID=Australia/Sydney:20201215T173000
DTEND;TZID=Australia/Sydney:20201215T183000
DTSTAMP:20260424T121409
CREATED:20201209T220813Z
LAST-MODIFIED:20201209T220813Z
UID:37410-1608053400-1608057000@www.standrews.org.nz
SUMMARY:Crown Law presents favourites
DESCRIPTION:
URL:https://www.standrews.org.nz/event/crown-law-presents-favourites-2
LOCATION:St Andrews Church\, 30 The Terrace\, Wellington\, 6011\, Wellington\, The Terrace\, 6011\, New Zealand
CATEGORIES:Lunch time concerts
ATTACH;FMTTYPE=image/jpeg:https://www.standrews.org.nz/wp-content/uploads/2020/12/Councsel-in-Concert-2020.jpg
END:VEVENT
END:VCALENDAR