BEGIN:VCALENDAR
VERSION:2.0
PRODID:-//St Andrew&#039;s Church - ECPv6.15.19//NONSGML v1.0//EN
CALSCALE:GREGORIAN
METHOD:PUBLISH
X-WR-CALNAME:St Andrew&#039;s Church
X-ORIGINAL-URL:https://www.standrews.org.nz
X-WR-CALDESC:Events for St Andrew&#039;s Church
REFRESH-INTERVAL;VALUE=DURATION:PT1H
X-Robots-Tag:noindex
X-PUBLISHED-TTL:PT1H
BEGIN:VTIMEZONE
TZID:Australia/Sydney
BEGIN:STANDARD
TZOFFSETFROM:+1100
TZOFFSETTO:+1000
TZNAME:AEST
DTSTART:20170401T160000
END:STANDARD
BEGIN:DAYLIGHT
TZOFFSETFROM:+1000
TZOFFSETTO:+1100
TZNAME:AEDT
DTSTART:20170930T160000
END:DAYLIGHT
BEGIN:STANDARD
TZOFFSETFROM:+1100
TZOFFSETTO:+1000
TZNAME:AEST
DTSTART:20180331T160000
END:STANDARD
BEGIN:DAYLIGHT
TZOFFSETFROM:+1000
TZOFFSETTO:+1100
TZNAME:AEDT
DTSTART:20181006T160000
END:DAYLIGHT
BEGIN:STANDARD
TZOFFSETFROM:+1100
TZOFFSETTO:+1000
TZNAME:AEST
DTSTART:20190406T160000
END:STANDARD
BEGIN:DAYLIGHT
TZOFFSETFROM:+1000
TZOFFSETTO:+1100
TZNAME:AEDT
DTSTART:20191005T160000
END:DAYLIGHT
END:VTIMEZONE
BEGIN:VEVENT
DTSTART;TZID=Australia/Sydney:20181005T180000
DTEND;TZID=Australia/Sydney:20181005T193000
DTSTAMP:20260424T111626
CREATED:20180925T195645Z
LAST-MODIFIED:20180926T021206Z
UID:34045-1538762400-1538767800@www.standrews.org.nz
SUMMARY:Marcela Fiorillo – Argentina Māgica : Ginastera & Pizzarolla
DESCRIPTION:There are limited seats – Please confirm assistance by sending an email to pa_enzel@mrecic.gov.ar  \nAstor Piazzolla\nArgentina Mágica\nAlberto Ginastera\nArgentina’s Most International Composers \nPROGRAM\nPart I\nASTOR PIAZZOLLA\nOblivion\nParáfrasis sobre Adios Nonino (*)\nTangata (**)\nINTERVAL\nPart II\nALBERTO GINASTERA\nCuyana\nNorteña\nCriolla\nSonata para piano No1 op. 22\n* Arrangements by Marcela Fiorillo\n** Transcriptions by Marcela Fiorillo \nAbout the Concert\nThis special Recital\, tries to enlighten for foreign audiences part of the history and content of\nArgentine Music\, through the two main aesthetic trends with particular languages and\ncompositional techniques involved in the production of this two great musicians.\nThey reflected the musical landscape of Argentina as a whole\, from folk elements coming from the\nimmensity of Las Pampas and upholding the gaucho figure\, to the Music of Buenos Aires and its\nsound landscape. \nAstor Piazzolla ( 1921 – 1992 )\nComposer\, arranger\, and bandoneón virtuoso Astor Piazzolla (1921–1992) was inspired by\nAmerican jazz and concert music to revolutionise the Argentine tango. His “nuevo tango\,” with its\nintense melancholy and harmonic and rhythmic innovations\, enraged traditionalistsbut became\nhighly influential among musicians and music lovers around the globe.\nOne of the world’s leading violinists and conductors\, Gidon Kremer\, says of Astor\nPiazzolla’smusic “ You can sense through his music an experience that makes you at the same\ntime joyful and sad. And saying these two words\, ‘joyful’ and ‘sad\,’ I could say as well that the\nstriking combination of two extreme emotions go together in Astor’s music as they do in Franz\nSchubert’s music. I know very few composers where you can feel it in such a passionate way.” \nAlberto Ginastera\n(1916 – 1983 )\nIn much of his music\, Ginastera shows the influence of the Argentinean folk music and\ndances which derive naturally from the Spanish\, the native Indian and the African cultures\njust like in the rest of Latin America. He seems to enjoy the obsessional character of the\nmalambo dance and seems to be inspired by the gaucho traditions.\nIn fact what is great about Ginastera is that he transcends the nationalistic notion even\nwhen his music is telluric and a good amount of his works are close to the Argentinean\nPampas and South American music such as the genres from the Andean plateau.\nAbout the Concert\nThis special Recital\, tries to enlighten for foreign audiences part of the history and content of\nArgentine Music\, through the two main aesthetic trends with particular languages and\ncompositional techniques involved in the production of this two great musicians.\nThey reflected the musical landscape of Argentina as a whole\, from folk elements coming from the\nimmensity of Las Pampas and upholding the gaucho figure\, to the Music of Buenos Aires and its\nsound landscape. \n 
URL:https://www.standrews.org.nz/event/marcela-fiorillo-argentina-magica-ginastera-pizzarolla
LOCATION:St Andrews Church\, 30 The Terrace\, Wellington\, 6011\, Wellington\, The Terrace\, 6011\, New Zealand
ATTACH;FMTTYPE=image/png:https://www.standrews.org.nz/wp-content/uploads/2018/09/Embassy-of-Argentina-5-Oct-1.png
END:VEVENT
END:VCALENDAR