BEGIN:VCALENDAR
VERSION:2.0
PRODID:-//St Andrew&#039;s Church - ECPv6.15.19//NONSGML v1.0//EN
CALSCALE:GREGORIAN
METHOD:PUBLISH
X-ORIGINAL-URL:https://www.standrews.org.nz
X-WR-CALDESC:Events for St Andrew&#039;s Church
REFRESH-INTERVAL;VALUE=DURATION:PT1H
X-Robots-Tag:noindex
X-PUBLISHED-TTL:PT1H
BEGIN:VTIMEZONE
TZID:Australia/Sydney
BEGIN:STANDARD
TZOFFSETFROM:+1100
TZOFFSETTO:+1000
TZNAME:AEST
DTSTART:20170401T160000
END:STANDARD
BEGIN:DAYLIGHT
TZOFFSETFROM:+1000
TZOFFSETTO:+1100
TZNAME:AEDT
DTSTART:20170930T160000
END:DAYLIGHT
BEGIN:STANDARD
TZOFFSETFROM:+1100
TZOFFSETTO:+1000
TZNAME:AEST
DTSTART:20180331T160000
END:STANDARD
BEGIN:DAYLIGHT
TZOFFSETFROM:+1000
TZOFFSETTO:+1100
TZNAME:AEDT
DTSTART:20181006T160000
END:DAYLIGHT
BEGIN:STANDARD
TZOFFSETFROM:+1100
TZOFFSETTO:+1000
TZNAME:AEST
DTSTART:20190406T160000
END:STANDARD
BEGIN:DAYLIGHT
TZOFFSETFROM:+1000
TZOFFSETTO:+1100
TZNAME:AEDT
DTSTART:20191005T160000
END:DAYLIGHT
END:VTIMEZONE
BEGIN:VEVENT
DTSTART;TZID=Australia/Sydney:20180718T103000
DTEND;TZID=Australia/Sydney:20180718T120000
DTSTAMP:20260421T213018
CREATED:20180531T031212Z
LAST-MODIFIED:20180601T030252Z
UID:33484-1531909800-1531915200@www.standrews.org.nz
SUMMARY:Cuppa and Chat
DESCRIPTION:A weekly chance to meet people and talk about your life in a confidential space.  Informal chat over tea and coffee happens from 10.30am.  A talking circle begins at 11am and runs till 12 noon. All welcome.
URL:https://www.standrews.org.nz/event/cuppa-and-chat-21
LOCATION:St Andrew’s Centre\, 30 The Terrace\, Wellington\, 6011\, Wellington\, The Terrace\, 6011\, New Zealand
CATEGORIES:Events
ATTACH;FMTTYPE=image/jpeg:https://www.standrews.org.nz/wp-content/uploads/2016/12/rainbow-room-artwork-10.jpg
ORGANIZER;CN="Minister":MAILTO:minister@standrews.org.nz
END:VEVENT
BEGIN:VEVENT
DTSTART;TZID=Australia/Sydney:20180718T121500
DTEND;TZID=Australia/Sydney:20180718T130000
DTSTAMP:20260421T213019
CREATED:20180306T020051Z
LAST-MODIFIED:20180717T003204Z
UID:32892-1531916100-1531918800@www.standrews.org.nz
SUMMARY:Jonathan Berkahn and friends
DESCRIPTION:Programme details : https://www.standrews.org.nz/wp-content/uploads/2018/07/2018-07-18-Jonathan-Berkahn.pdf
URL:https://www.standrews.org.nz/event/jonathan-and-samuel-berkahn-music-for-cello-and-piano
LOCATION:St Andrews Church\, 30 The Terrace\, Wellington\, 6011\, Wellington\, The Terrace\, 6011\, New Zealand
CATEGORIES:Lunch time concerts
ORGANIZER;CN="Marjan Van Waardenberg":MAILTO:marjan@marjan.co.nz
END:VEVENT
END:VCALENDAR